BEGIN:VCALENDAR
VERSION:2.0
PRODID:-//Christ Covenant Church - ECPv6.15.20//NONSGML v1.0//EN
CALSCALE:GREGORIAN
METHOD:PUBLISH
X-WR-CALNAME:Christ Covenant Church
X-ORIGINAL-URL:https://christcovcincy.org
X-WR-CALDESC:Events for Christ Covenant Church
REFRESH-INTERVAL;VALUE=DURATION:PT1H
X-Robots-Tag:noindex
X-PUBLISHED-TTL:PT1H
BEGIN:VTIMEZONE
TZID:America/Halifax
BEGIN:DAYLIGHT
TZOFFSETFROM:-0400
TZOFFSETTO:-0300
TZNAME:ADT
DTSTART:20230312T060000
END:DAYLIGHT
BEGIN:STANDARD
TZOFFSETFROM:-0300
TZOFFSETTO:-0400
TZNAME:AST
DTSTART:20231105T050000
END:STANDARD
BEGIN:DAYLIGHT
TZOFFSETFROM:-0400
TZOFFSETTO:-0300
TZNAME:ADT
DTSTART:20240310T060000
END:DAYLIGHT
BEGIN:STANDARD
TZOFFSETFROM:-0300
TZOFFSETTO:-0400
TZNAME:AST
DTSTART:20241103T050000
END:STANDARD
BEGIN:DAYLIGHT
TZOFFSETFROM:-0400
TZOFFSETTO:-0300
TZNAME:ADT
DTSTART:20250309T060000
END:DAYLIGHT
BEGIN:STANDARD
TZOFFSETFROM:-0300
TZOFFSETTO:-0400
TZNAME:AST
DTSTART:20251102T050000
END:STANDARD
END:VTIMEZONE
BEGIN:VTIMEZONE
TZID:UTC
BEGIN:STANDARD
TZOFFSETFROM:+0000
TZOFFSETTO:+0000
TZNAME:UTC
DTSTART:20230101T000000
END:STANDARD
END:VTIMEZONE
BEGIN:VTIMEZONE
TZID:America/New_York
BEGIN:DAYLIGHT
TZOFFSETFROM:-0500
TZOFFSETTO:-0400
TZNAME:EDT
DTSTART:20230312T070000
END:DAYLIGHT
BEGIN:STANDARD
TZOFFSETFROM:-0400
TZOFFSETTO:-0500
TZNAME:EST
DTSTART:20231105T060000
END:STANDARD
BEGIN:DAYLIGHT
TZOFFSETFROM:-0500
TZOFFSETTO:-0400
TZNAME:EDT
DTSTART:20240310T070000
END:DAYLIGHT
BEGIN:STANDARD
TZOFFSETFROM:-0400
TZOFFSETTO:-0500
TZNAME:EST
DTSTART:20241103T060000
END:STANDARD
BEGIN:DAYLIGHT
TZOFFSETFROM:-0500
TZOFFSETTO:-0400
TZNAME:EDT
DTSTART:20250309T070000
END:DAYLIGHT
BEGIN:STANDARD
TZOFFSETFROM:-0400
TZOFFSETTO:-0500
TZNAME:EST
DTSTART:20251102T060000
END:STANDARD
END:VTIMEZONE
BEGIN:VEVENT
DTSTART;TZID=America/Halifax:20240516T093000
DTEND;TZID=America/Halifax:20240516T233000
DTSTAMP:20260424T161449
CREATED:20240221T203528Z
LAST-MODIFIED:20240221T215544Z
UID:10005220-1715851800-1715902200@christcovcincy.org
SUMMARY:Women's Bible Study
DESCRIPTION:We will be studying the book of Daniel\, chapters 7-12\, using the study guide by Beth Moore. This is a 6-session study that meets every other Thursday in the church office at 2192 Springdale Road from 9:30 am – 11:30 am. To sign up and order a workbook\, contact Wendy at wdetroy@fuse.net.  You do not need to have participated our previous study over Daniel 1-6 to join us for this study.
URL:https://christcovcincy.org/event/womens-bible-study-9/2024-05-16/
LOCATION:Chapel @ Christ Covenant Church Office\, 2192 Springdale Rd\, Cincinnati\, OH\, 45231
CATEGORIES:Women's Discipleship
ATTACH;FMTTYPE=image/jpeg:https://christcovcincy.org/wp-content/uploads/2023/03/WomensBibleStudy.jpg
END:VEVENT
BEGIN:VEVENT
DTSTART;TZID=America/Halifax:20240515T100000
DTEND;TZID=America/Halifax:20240515T110000
DTSTAMP:20260424T161449
CREATED:20240515T133513Z
LAST-MODIFIED:20240515T133513Z
UID:10005406-1715767200-1715770800@christcovcincy.org
SUMMARY:Private Event
DESCRIPTION:Steve Aldredge working in office/online for meetings & advising
URL:https://christcovcincy.org/event/private-event-64/
LOCATION:Chapel @ Christ Covenant Church Office\, 2192 Springdale Rd\, Cincinnati\, OH\, 45231
CATEGORIES:private event
ATTACH;FMTTYPE=image/jpeg:https://christcovcincy.org/wp-content/uploads/2023/06/privateeventcalendar.jpg
END:VEVENT
BEGIN:VEVENT
DTSTART;TZID=America/Halifax:20240514T100000
DTEND;TZID=America/Halifax:20240514T110000
DTSTAMP:20260424T161449
CREATED:20240221T202352Z
LAST-MODIFIED:20240221T202352Z
UID:10005210-1715680800-1715684400@christcovcincy.org
SUMMARY:Women's Bible Study
DESCRIPTION:Behold & Believe\, a 7-week study of Jesus’ I AM statements from the gospel of John
URL:https://christcovcincy.org/event/womens-bible-study-8/2024-05-14/
LOCATION:Chapel @ Christ Covenant Church Office\, 2192 Springdale Rd\, Cincinnati\, OH\, 45231
CATEGORIES:Women's Discipleship
ATTACH;FMTTYPE=image/jpeg:https://christcovcincy.org/wp-content/uploads/2023/10/WomensBibleStudy2.jpg
END:VEVENT
BEGIN:VEVENT
DTSTART;TZID=UTC:20240513T190000
DTEND;TZID=UTC:20240513T210000
DTSTAMP:20260424T161449
CREATED:20221122T221642Z
LAST-MODIFIED:20250521T182505Z
UID:10004612-1715626800-1715634000@christcovcincy.org
SUMMARY:Session Meeting
DESCRIPTION:
URL:https://christcovcincy.org/event/session-meeting-2/2024-05-13/
LOCATION:Chapel @ Christ Covenant Church Office\, 2192 Springdale Rd\, Cincinnati\, OH\, 45231
ATTACH;FMTTYPE=image/png:https://christcovcincy.org/wp-content/uploads/2022/07/Board-Meeting.png
END:VEVENT
BEGIN:VEVENT
DTSTART;TZID=America/Halifax:20240507T100000
DTEND;TZID=America/Halifax:20240507T110000
DTSTAMP:20260424T161449
CREATED:20240221T202352Z
LAST-MODIFIED:20240221T202352Z
UID:10005209-1715076000-1715079600@christcovcincy.org
SUMMARY:Women's Bible Study
DESCRIPTION:Behold & Believe\, a 7-week study of Jesus’ I AM statements from the gospel of John
URL:https://christcovcincy.org/event/womens-bible-study-8/2024-05-07/
LOCATION:Chapel @ Christ Covenant Church Office\, 2192 Springdale Rd\, Cincinnati\, OH\, 45231
CATEGORIES:Women's Discipleship
ATTACH;FMTTYPE=image/jpeg:https://christcovcincy.org/wp-content/uploads/2023/10/WomensBibleStudy2.jpg
END:VEVENT
BEGIN:VEVENT
DTSTART;TZID=America/Halifax:20240502T093000
DTEND;TZID=America/Halifax:20240502T233000
DTSTAMP:20260424T161449
CREATED:20240221T203528Z
LAST-MODIFIED:20240221T215544Z
UID:10005219-1714642200-1714692600@christcovcincy.org
SUMMARY:Women's Bible Study
DESCRIPTION:We will be studying the book of Daniel\, chapters 7-12\, using the study guide by Beth Moore. This is a 6-session study that meets every other Thursday in the church office at 2192 Springdale Road from 9:30 am – 11:30 am. To sign up and order a workbook\, contact Wendy at wdetroy@fuse.net.  You do not need to have participated our previous study over Daniel 1-6 to join us for this study.
URL:https://christcovcincy.org/event/womens-bible-study-9/2024-05-02/
LOCATION:Chapel @ Christ Covenant Church Office\, 2192 Springdale Rd\, Cincinnati\, OH\, 45231
CATEGORIES:Women's Discipleship
ATTACH;FMTTYPE=image/jpeg:https://christcovcincy.org/wp-content/uploads/2023/03/WomensBibleStudy.jpg
END:VEVENT
BEGIN:VEVENT
DTSTART;TZID=America/Halifax:20240423T100000
DTEND;TZID=America/Halifax:20240423T110000
DTSTAMP:20260424T161449
CREATED:20240221T202352Z
LAST-MODIFIED:20240419T155949Z
UID:10005215-1713866400-1713870000@christcovcincy.org
SUMMARY:Women's Bible Study
DESCRIPTION:Behold & Believe\, a 7-week study of Jesus’ I AM statements from the gospel of John
URL:https://christcovcincy.org/event/womens-bible-study-8-2024-04-23/
LOCATION:Chapel @ Christ Covenant Church Office\, 2192 Springdale Rd\, Cincinnati\, OH\, 45231
CATEGORIES:Women's Discipleship
ATTACH;FMTTYPE=image/jpeg:https://christcovcincy.org/wp-content/uploads/2023/10/WomensBibleStudy2.jpg
END:VEVENT
BEGIN:VEVENT
DTSTART;TZID=America/Halifax:20240418T093000
DTEND;TZID=America/Halifax:20240418T233000
DTSTAMP:20260424T161449
CREATED:20240221T203528Z
LAST-MODIFIED:20240419T135058Z
UID:10005227-1713432600-1713483000@christcovcincy.org
SUMMARY:Women's Bible Study
DESCRIPTION:We will be studying the book of Daniel\, chapters 7-12\, using the study guide by Beth Moore. This is a 6-session study that meets every other Thursday in the church office at 2192 Springdale Road from 9:30 am – 11:30 am. To sign up and order a workbook\, contact Wendy at wdetroy@fuse.net.  You do not need to have participated our previous study over Daniel 1-6 to join us for this study.
URL:https://christcovcincy.org/event/womens-bible-study-9-2024-04-18/
LOCATION:Chapel @ Christ Covenant Church Office\, 2192 Springdale Rd\, Cincinnati\, OH\, 45231
CATEGORIES:Women's Discipleship
ATTACH;FMTTYPE=image/jpeg:https://christcovcincy.org/wp-content/uploads/2023/03/WomensBibleStudy.jpg
END:VEVENT
BEGIN:VEVENT
DTSTART;TZID=UTC:20240415T190000
DTEND;TZID=UTC:20240415T210000
DTSTAMP:20260424T161449
CREATED:20221122T221840Z
LAST-MODIFIED:20251001T185731Z
UID:10004649-1713207600-1713214800@christcovcincy.org
SUMMARY:Trustee Meeting
DESCRIPTION:
URL:https://christcovcincy.org/event/trustees-meeting/2024-04-15/
LOCATION:Chapel @ Christ Covenant Church Office\, 2192 Springdale Rd\, Cincinnati\, OH\, 45231
ATTACH;FMTTYPE=image/png:https://christcovcincy.org/wp-content/uploads/2022/07/Board-Meeting.png
END:VEVENT
BEGIN:VEVENT
DTSTART;TZID=America/Halifax:20240414T180000
DTEND;TZID=America/Halifax:20240414T200000
DTSTAMP:20260424T161449
CREATED:20240321T211840Z
LAST-MODIFIED:20240321T211840Z
UID:10005286-1713117600-1713124800@christcovcincy.org
SUMMARY:Mom's Night
DESCRIPTION:
URL:https://christcovcincy.org/event/moms-night-4/
LOCATION:Chapel @ Christ Covenant Church Office\, 2192 Springdale Rd\, Cincinnati\, OH\, 45231
END:VEVENT
BEGIN:VEVENT
DTSTART;TZID=UTC:20240408T190000
DTEND;TZID=UTC:20240408T210000
DTSTAMP:20260424T161449
CREATED:20221122T221642Z
LAST-MODIFIED:20250521T182505Z
UID:10004611-1712602800-1712610000@christcovcincy.org
SUMMARY:Session Meeting
DESCRIPTION:
URL:https://christcovcincy.org/event/session-meeting-2/2024-04-08/
LOCATION:Chapel @ Christ Covenant Church Office\, 2192 Springdale Rd\, Cincinnati\, OH\, 45231
ATTACH;FMTTYPE=image/png:https://christcovcincy.org/wp-content/uploads/2022/07/Board-Meeting.png
END:VEVENT
BEGIN:VEVENT
DTSTART;TZID=America/Halifax:20240404T093000
DTEND;TZID=America/Halifax:20240404T233000
DTSTAMP:20260424T161449
CREATED:20240221T203528Z
LAST-MODIFIED:20240221T215544Z
UID:10005218-1712223000-1712273400@christcovcincy.org
SUMMARY:Women's Bible Study
DESCRIPTION:We will be studying the book of Daniel\, chapters 7-12\, using the study guide by Beth Moore. This is a 6-session study that meets every other Thursday in the church office at 2192 Springdale Road from 9:30 am – 11:30 am. To sign up and order a workbook\, contact Wendy at wdetroy@fuse.net.  You do not need to have participated our previous study over Daniel 1-6 to join us for this study.
URL:https://christcovcincy.org/event/womens-bible-study-9/2024-04-04/
LOCATION:Chapel @ Christ Covenant Church Office\, 2192 Springdale Rd\, Cincinnati\, OH\, 45231
CATEGORIES:Women's Discipleship
ATTACH;FMTTYPE=image/jpeg:https://christcovcincy.org/wp-content/uploads/2023/03/WomensBibleStudy.jpg
END:VEVENT
BEGIN:VEVENT
DTSTART;TZID=America/Halifax:20240402T100000
DTEND;TZID=America/Halifax:20240402T110000
DTSTAMP:20260424T161449
CREATED:20240221T202352Z
LAST-MODIFIED:20240221T202352Z
UID:10005208-1712052000-1712055600@christcovcincy.org
SUMMARY:Women's Bible Study
DESCRIPTION:Behold & Believe\, a 7-week study of Jesus’ I AM statements from the gospel of John
URL:https://christcovcincy.org/event/womens-bible-study-8/2024-04-02/
LOCATION:Chapel @ Christ Covenant Church Office\, 2192 Springdale Rd\, Cincinnati\, OH\, 45231
CATEGORIES:Women's Discipleship
ATTACH;FMTTYPE=image/jpeg:https://christcovcincy.org/wp-content/uploads/2023/10/WomensBibleStudy2.jpg
END:VEVENT
BEGIN:VEVENT
DTSTART;TZID=America/Halifax:20240401T190000
DTEND;TZID=America/Halifax:20240401T220000
DTSTAMP:20260424T161449
CREATED:20240321T132646Z
LAST-MODIFIED:20240321T132646Z
UID:10005266-1711998000-1712008800@christcovcincy.org
SUMMARY:Elder-Trustee Joint Meeting
DESCRIPTION:
URL:https://christcovcincy.org/event/elder-trustee-joint-meeting/
LOCATION:Chapel @ Christ Covenant Church Office\, 2192 Springdale Rd\, Cincinnati\, OH\, 45231
ATTACH;FMTTYPE=image/png:https://christcovcincy.org/wp-content/uploads/2022/07/Board-Meeting.png
END:VEVENT
BEGIN:VEVENT
DTSTART;TZID=America/Halifax:20240326T100000
DTEND;TZID=America/Halifax:20240326T110000
DTSTAMP:20260424T161449
CREATED:20240221T202352Z
LAST-MODIFIED:20240221T202352Z
UID:10005207-1711447200-1711450800@christcovcincy.org
SUMMARY:Women's Bible Study
DESCRIPTION:Behold & Believe\, a 7-week study of Jesus’ I AM statements from the gospel of John
URL:https://christcovcincy.org/event/womens-bible-study-8/2024-03-26/
LOCATION:Chapel @ Christ Covenant Church Office\, 2192 Springdale Rd\, Cincinnati\, OH\, 45231
CATEGORIES:Women's Discipleship
ATTACH;FMTTYPE=image/jpeg:https://christcovcincy.org/wp-content/uploads/2023/10/WomensBibleStudy2.jpg
END:VEVENT
BEGIN:VEVENT
DTSTART;TZID=America/Halifax:20240321T093000
DTEND;TZID=America/Halifax:20240321T233000
DTSTAMP:20260424T161449
CREATED:20240221T203528Z
LAST-MODIFIED:20240221T215544Z
UID:10005217-1711013400-1711063800@christcovcincy.org
SUMMARY:Women's Bible Study
DESCRIPTION:We will be studying the book of Daniel\, chapters 7-12\, using the study guide by Beth Moore. This is a 6-session study that meets every other Thursday in the church office at 2192 Springdale Road from 9:30 am – 11:30 am. To sign up and order a workbook\, contact Wendy at wdetroy@fuse.net.  You do not need to have participated our previous study over Daniel 1-6 to join us for this study.
URL:https://christcovcincy.org/event/womens-bible-study-9/2024-03-21/
LOCATION:Chapel @ Christ Covenant Church Office\, 2192 Springdale Rd\, Cincinnati\, OH\, 45231
CATEGORIES:Women's Discipleship
ATTACH;FMTTYPE=image/jpeg:https://christcovcincy.org/wp-content/uploads/2023/03/WomensBibleStudy.jpg
END:VEVENT
BEGIN:VEVENT
DTSTART;TZID=UTC:20240318T190000
DTEND;TZID=UTC:20240318T210000
DTSTAMP:20260424T161449
CREATED:20221122T221840Z
LAST-MODIFIED:20251001T185731Z
UID:10004648-1710788400-1710795600@christcovcincy.org
SUMMARY:Trustee Meeting
DESCRIPTION:
URL:https://christcovcincy.org/event/trustees-meeting/2024-03-18/
LOCATION:Chapel @ Christ Covenant Church Office\, 2192 Springdale Rd\, Cincinnati\, OH\, 45231
ATTACH;FMTTYPE=image/png:https://christcovcincy.org/wp-content/uploads/2022/07/Board-Meeting.png
END:VEVENT
BEGIN:VEVENT
DTSTART;TZID=America/Halifax:20240312T091500
DTEND;TZID=America/Halifax:20240312T110000
DTSTAMP:20260424T161449
CREATED:20230823T131356Z
LAST-MODIFIED:20231122T155648Z
UID:10005070-1710234900-1710241200@christcovcincy.org
SUMMARY:Women's Bible Study
DESCRIPTION:In the Tuesday bible studies\, we will be studying the book of Hebrews this year. We meet Tuesday mornings from 9:15-11:00am or 7:00 -8:45 pm at the church office (2192 Springdale Road). We will use the study guide Better by Jen Wilkin. You can attend either morning or evening\, since the study will be the same at each time.
URL:https://christcovcincy.org/event/womens-bible-study-6/2024-03-12/
LOCATION:Chapel @ Christ Covenant Church Office\, 2192 Springdale Rd\, Cincinnati\, OH\, 45231
CATEGORIES:Women's Discipleship
ATTACH;FMTTYPE=image/jpeg:https://christcovcincy.org/wp-content/uploads/2023/03/WomensBibleStudy.jpg
ORGANIZER;CN="Colleen Grogan":MAILTO:colleeng@christcovcincy.org
END:VEVENT
BEGIN:VEVENT
DTSTART;TZID=UTC:20240311T190000
DTEND;TZID=UTC:20240311T210000
DTSTAMP:20260424T161449
CREATED:20221122T221642Z
LAST-MODIFIED:20250521T182505Z
UID:10004610-1710183600-1710190800@christcovcincy.org
SUMMARY:Session Meeting
DESCRIPTION:
URL:https://christcovcincy.org/event/session-meeting-2/2024-03-11/
LOCATION:Chapel @ Christ Covenant Church Office\, 2192 Springdale Rd\, Cincinnati\, OH\, 45231
ATTACH;FMTTYPE=image/png:https://christcovcincy.org/wp-content/uploads/2022/07/Board-Meeting.png
END:VEVENT
BEGIN:VEVENT
DTSTART;TZID=America/Halifax:20240310T181500
DTEND;TZID=America/Halifax:20240310T194500
DTSTAMP:20260424T161449
CREATED:20240306T204142Z
LAST-MODIFIED:20240306T204142Z
UID:10004963-1710094500-1710099900@christcovcincy.org
SUMMARY:Mom's Nite
DESCRIPTION:Join other moms of kids from birth through high school for a time of fellowship as we enjoy some snacks\, talk about change in ourselves and our children\, and pray together for our families.
URL:https://christcovcincy.org/event/moms-nite/
LOCATION:Chapel @ Christ Covenant Church Office\, 2192 Springdale Rd\, Cincinnati\, OH\, 45231
CATEGORIES:Children's Ministry,fellowships,Women's Discipleship
ATTACH;FMTTYPE=image/jpeg:https://christcovcincy.org/wp-content/uploads/2023/11/priscilla-du-preez-1u-rkWzmRew-unsplash-1-scaled.jpg
END:VEVENT
BEGIN:VEVENT
DTSTART;TZID=America/Halifax:20240308T100000
DTEND;TZID=America/Halifax:20240308T130000
DTSTAMP:20260424T161449
CREATED:20231229T202053Z
LAST-MODIFIED:20240228T172541Z
UID:10005183-1709892000-1709902800@christcovcincy.org
SUMMARY:Silver Heirs
DESCRIPTION:Join the Senior Saints of the church for a time of fun and fellowship as we enjoy an interesting program and boxed lunch.  Bring your friends!  For specific monthly program details\, see the weekly Church Life.
URL:https://christcovcincy.org/event/silver-heirs-3-2024-03-08/
LOCATION:Chapel @ Christ Covenant Church Office\, 2192 Springdale Rd\, Cincinnati\, OH\, 45231
ATTACH;FMTTYPE=image/jpeg:https://christcovcincy.org/wp-content/uploads/2023/01/SilverHeirs-1.jpg
END:VEVENT
BEGIN:VEVENT
DTSTART;TZID=America/Halifax:20240307T093000
DTEND;TZID=America/Halifax:20240307T233000
DTSTAMP:20260424T161449
CREATED:20240221T203528Z
LAST-MODIFIED:20240221T215544Z
UID:10005216-1709803800-1709854200@christcovcincy.org
SUMMARY:Women's Bible Study
DESCRIPTION:We will be studying the book of Daniel\, chapters 7-12\, using the study guide by Beth Moore. This is a 6-session study that meets every other Thursday in the church office at 2192 Springdale Road from 9:30 am – 11:30 am. To sign up and order a workbook\, contact Wendy at wdetroy@fuse.net.  You do not need to have participated our previous study over Daniel 1-6 to join us for this study.
URL:https://christcovcincy.org/event/womens-bible-study-9/2024-03-07/
LOCATION:Chapel @ Christ Covenant Church Office\, 2192 Springdale Rd\, Cincinnati\, OH\, 45231
CATEGORIES:Women's Discipleship
ATTACH;FMTTYPE=image/jpeg:https://christcovcincy.org/wp-content/uploads/2023/03/WomensBibleStudy.jpg
END:VEVENT
BEGIN:VEVENT
DTSTART;TZID=America/Halifax:20240227T091500
DTEND;TZID=America/Halifax:20240227T110000
DTSTAMP:20260424T161449
CREATED:20250407T170324Z
LAST-MODIFIED:20250407T170324Z
UID:10005074-1709025300-1709031600@christcovcincy.org
SUMMARY:Women's Bible Study
DESCRIPTION:In the Tuesday bible studies\, we will be studying the book of Hebrews this year. We meet Tuesday mornings from 9:15-11:00am or 7:00 -8:45 pm at the church office (2192 Springdale Road). We will use the study guide Better by Jen Wilkin. You can attend either morning or evening\, since the study will be the same at each time.
URL:https://christcovcincy.org/event/womens-bible-study-6/2024-02-27/
LOCATION:Chapel @ Christ Covenant Church Office\, 2192 Springdale Rd\, Cincinnati\, OH\, 45231
CATEGORIES:Women's Discipleship
ATTACH;FMTTYPE=image/jpeg:https://christcovcincy.org/wp-content/uploads/2023/03/WomensBibleStudy.jpg
ORGANIZER;CN="Colleen Grogan":MAILTO:colleeng@christcovcincy.org
END:VEVENT
BEGIN:VEVENT
DTSTART;TZID=America/New_York:20240222T093000
DTEND;TZID=America/New_York:20240222T113000
DTSTAMP:20260424T161449
CREATED:20230510T144158Z
LAST-MODIFIED:20240221T202909Z
UID:10004911-1708594200-1708601400@christcovcincy.org
SUMMARY:Women's Bible Study
DESCRIPTION:We will be studying the book of Exodus\, chapters 19-40 using the study guide God of Freedom\, by Jen Wilkin. This is a 10 session study that meets every other Thursday in the Church office at 2192 Springdale Road from 9:30 am – 11:30 am. To sign up and order a workbook\, contact Wendy at wdetroy@fuse.net no later than September 2\, 2023.
URL:https://christcovcincy.org/event/7900/2024-02-22/
LOCATION:Chapel @ Christ Covenant Church Office\, 2192 Springdale Rd\, Cincinnati\, OH\, 45231
ATTACH;FMTTYPE=image/jpeg:https://christcovcincy.org/wp-content/uploads/2023/02/WomensBibleStudy.jpg
END:VEVENT
BEGIN:VEVENT
DTSTART;TZID=UTC:20240219T190000
DTEND;TZID=UTC:20240219T210000
DTSTAMP:20260424T161449
CREATED:20221122T221840Z
LAST-MODIFIED:20251001T185731Z
UID:10004647-1708369200-1708376400@christcovcincy.org
SUMMARY:Trustee Meeting
DESCRIPTION:
URL:https://christcovcincy.org/event/trustees-meeting/2024-02-19/
LOCATION:Chapel @ Christ Covenant Church Office\, 2192 Springdale Rd\, Cincinnati\, OH\, 45231
ATTACH;FMTTYPE=image/png:https://christcovcincy.org/wp-content/uploads/2022/07/Board-Meeting.png
END:VEVENT
BEGIN:VEVENT
DTSTART;TZID=America/Halifax:20240213T091500
DTEND;TZID=America/Halifax:20240213T110000
DTSTAMP:20260424T161449
CREATED:20230823T131356Z
LAST-MODIFIED:20231122T155648Z
UID:10005069-1707815700-1707822000@christcovcincy.org
SUMMARY:Women's Bible Study
DESCRIPTION:In the Tuesday bible studies\, we will be studying the book of Hebrews this year. We meet Tuesday mornings from 9:15-11:00am or 7:00 -8:45 pm at the church office (2192 Springdale Road). We will use the study guide Better by Jen Wilkin. You can attend either morning or evening\, since the study will be the same at each time.
URL:https://christcovcincy.org/event/womens-bible-study-6/2024-02-13/
LOCATION:Chapel @ Christ Covenant Church Office\, 2192 Springdale Rd\, Cincinnati\, OH\, 45231
CATEGORIES:Women's Discipleship
ATTACH;FMTTYPE=image/jpeg:https://christcovcincy.org/wp-content/uploads/2023/03/WomensBibleStudy.jpg
ORGANIZER;CN="Colleen Grogan":MAILTO:colleeng@christcovcincy.org
END:VEVENT
BEGIN:VEVENT
DTSTART;TZID=UTC:20240212T190000
DTEND;TZID=UTC:20240212T210000
DTSTAMP:20260424T161449
CREATED:20221122T221642Z
LAST-MODIFIED:20250521T182505Z
UID:10004609-1707764400-1707771600@christcovcincy.org
SUMMARY:Session Meeting
DESCRIPTION:
URL:https://christcovcincy.org/event/session-meeting-2/2024-02-12/
LOCATION:Chapel @ Christ Covenant Church Office\, 2192 Springdale Rd\, Cincinnati\, OH\, 45231
ATTACH;FMTTYPE=image/png:https://christcovcincy.org/wp-content/uploads/2022/07/Board-Meeting.png
END:VEVENT
BEGIN:VEVENT
DTSTART;TZID=America/New_York:20240208T093000
DTEND;TZID=America/New_York:20240208T113000
DTSTAMP:20260424T161449
CREATED:20230510T144158Z
LAST-MODIFIED:20240221T202909Z
UID:10004910-1707384600-1707391800@christcovcincy.org
SUMMARY:Women's Bible Study
DESCRIPTION:We will be studying the book of Exodus\, chapters 19-40 using the study guide God of Freedom\, by Jen Wilkin. This is a 10 session study that meets every other Thursday in the Church office at 2192 Springdale Road from 9:30 am – 11:30 am. To sign up and order a workbook\, contact Wendy at wdetroy@fuse.net no later than September 2\, 2023.
URL:https://christcovcincy.org/event/7900/2024-02-08/
LOCATION:Chapel @ Christ Covenant Church Office\, 2192 Springdale Rd\, Cincinnati\, OH\, 45231
ATTACH;FMTTYPE=image/jpeg:https://christcovcincy.org/wp-content/uploads/2023/02/WomensBibleStudy.jpg
END:VEVENT
BEGIN:VEVENT
DTSTART;TZID=America/New_York:20240125T093000
DTEND;TZID=America/New_York:20240125T113000
DTSTAMP:20260424T161449
CREATED:20230510T144158Z
LAST-MODIFIED:20240221T202909Z
UID:10004909-1706175000-1706182200@christcovcincy.org
SUMMARY:Women's Bible Study
DESCRIPTION:We will be studying the book of Exodus\, chapters 19-40 using the study guide God of Freedom\, by Jen Wilkin. This is a 10 session study that meets every other Thursday in the Church office at 2192 Springdale Road from 9:30 am – 11:30 am. To sign up and order a workbook\, contact Wendy at wdetroy@fuse.net no later than September 2\, 2023.
URL:https://christcovcincy.org/event/7900/2024-01-25/
LOCATION:Chapel @ Christ Covenant Church Office\, 2192 Springdale Rd\, Cincinnati\, OH\, 45231
ATTACH;FMTTYPE=image/jpeg:https://christcovcincy.org/wp-content/uploads/2023/02/WomensBibleStudy.jpg
END:VEVENT
BEGIN:VEVENT
DTSTART;TZID=America/Halifax:20240123T091500
DTEND;TZID=America/Halifax:20240123T110000
DTSTAMP:20260424T161449
CREATED:20250407T170324Z
LAST-MODIFIED:20250407T170324Z
UID:10005073-1706001300-1706007600@christcovcincy.org
SUMMARY:Women's Bible Study
DESCRIPTION:In the Tuesday bible studies\, we will be studying the book of Hebrews this year. We meet Tuesday mornings from 9:15-11:00am or 7:00 -8:45 pm at the church office (2192 Springdale Road). We will use the study guide Better by Jen Wilkin. You can attend either morning or evening\, since the study will be the same at each time.
URL:https://christcovcincy.org/event/womens-bible-study-6/2024-01-23/
LOCATION:Chapel @ Christ Covenant Church Office\, 2192 Springdale Rd\, Cincinnati\, OH\, 45231
CATEGORIES:Women's Discipleship
ATTACH;FMTTYPE=image/jpeg:https://christcovcincy.org/wp-content/uploads/2023/03/WomensBibleStudy.jpg
ORGANIZER;CN="Colleen Grogan":MAILTO:colleeng@christcovcincy.org
END:VEVENT
END:VCALENDAR