BEGIN:VCALENDAR
VERSION:2.0
PRODID:-//Christ Covenant Church - ECPv6.15.20//NONSGML v1.0//EN
CALSCALE:GREGORIAN
METHOD:PUBLISH
X-WR-CALNAME:Christ Covenant Church
X-ORIGINAL-URL:https://christcovcincy.org
X-WR-CALDESC:Events for Christ Covenant Church
REFRESH-INTERVAL;VALUE=DURATION:PT1H
X-Robots-Tag:noindex
X-PUBLISHED-TTL:PT1H
BEGIN:VTIMEZONE
TZID:UTC
BEGIN:STANDARD
TZOFFSETFROM:+0000
TZOFFSETTO:+0000
TZNAME:UTC
DTSTART:20210101T000000
END:STANDARD
END:VTIMEZONE
BEGIN:VEVENT
DTSTART;TZID=UTC:20230221T091500
DTEND;TZID=UTC:20230221T110000
DTSTAMP:20260425T091556
CREATED:20220808T213348Z
LAST-MODIFIED:20230217T234639Z
UID:10004307-1676970900-1676977200@christcovcincy.org
SUMMARY:Women's Bible Study
DESCRIPTION:Women‘s Bible studies will be starting in September. Here’s what’s happening: On Tuesdays\, beginning September 6\, we will be studying “God of Freedom\,” a study of Exodus 19-40. This study meets on the 1st and 3rd Tuesdays of the month\, at either 9:15-11:00 a.m. or 7:00-8:45 p.m. You can come at either time depending on your schedule. We do the same study at both times. Books are available now from Colleen Grogan. This study is open to women from their teens and up! Questions? Email Colleen at colleeng@christcovcincy.org.
URL:https://christcovcincy.org/event/womens-bible-study-3/2023-02-21/
LOCATION:Chapel @ Christ Covenant Church Office\, 2192 Springdale Rd\, Cincinnati\, OH\, 45231
CATEGORIES:Women's Discipleship
ATTACH;FMTTYPE=image/jpeg:https://christcovcincy.org/wp-content/uploads/2023/02/WomensBibleStudy.jpg
ORGANIZER;CN="Colleen Grogan":MAILTO:colleeng@christcovcincy.org
END:VEVENT
BEGIN:VEVENT
DTSTART;TZID=UTC:20230220T190000
DTEND;TZID=UTC:20230220T210000
DTSTAMP:20260425T091556
CREATED:20221122T221840Z
LAST-MODIFIED:20251001T185731Z
UID:10004636-1676919600-1676926800@christcovcincy.org
SUMMARY:Trustee Meeting
DESCRIPTION:
URL:https://christcovcincy.org/event/trustees-meeting/2023-02-20/
LOCATION:Chapel @ Christ Covenant Church Office\, 2192 Springdale Rd\, Cincinnati\, OH\, 45231
ATTACH;FMTTYPE=image/png:https://christcovcincy.org/wp-content/uploads/2022/07/Board-Meeting.png
END:VEVENT
BEGIN:VEVENT
DTSTART;TZID=UTC:20230213T190000
DTEND;TZID=UTC:20230213T210000
DTSTAMP:20260425T091556
CREATED:20221122T221642Z
LAST-MODIFIED:20250521T182505Z
UID:10004597-1676314800-1676322000@christcovcincy.org
SUMMARY:Session Meeting
DESCRIPTION:
URL:https://christcovcincy.org/event/session-meeting-2/2023-02-13/
LOCATION:Chapel @ Christ Covenant Church Office\, 2192 Springdale Rd\, Cincinnati\, OH\, 45231
ATTACH;FMTTYPE=image/png:https://christcovcincy.org/wp-content/uploads/2022/07/Board-Meeting.png
END:VEVENT
BEGIN:VEVENT
DTSTART;TZID=UTC:20230209T093000
DTEND;TZID=UTC:20230209T113000
DTSTAMP:20260425T091556
CREATED:20221209T180701Z
LAST-MODIFIED:20230217T234524Z
UID:10004321-1675935000-1675942200@christcovcincy.org
SUMMARY:Women's Bible study
DESCRIPTION:We will be studying the book of Exodus\, chapters 1-18 using the study guide God of Deliverance\, by Jen Wilkin. This is a 10 session study that meets every other Thursday in the Church office at 2192 Springdale Road from 9:30 am – 11:30 am. To sign up and order a workbook\, contact Wendy at wdetroy@fuse.net no later than December 31\, 2022.
URL:https://christcovcincy.org/event/womens-bible-study-4/2023-02-09/
LOCATION:Chapel @ Christ Covenant Church Office\, 2192 Springdale Rd\, Cincinnati\, OH\, 45231
CATEGORIES:Women's Discipleship
ATTACH;FMTTYPE=image/jpeg:https://christcovcincy.org/wp-content/uploads/2023/02/WomensBibleStudy.jpg
END:VEVENT
BEGIN:VEVENT
DTSTART;TZID=UTC:20230207T091500
DTEND;TZID=UTC:20230207T110000
DTSTAMP:20260425T091556
CREATED:20250407T170236Z
LAST-MODIFIED:20250407T170236Z
UID:10004308-1675761300-1675767600@christcovcincy.org
SUMMARY:Women's Bible Study
DESCRIPTION:Women‘s Bible studies will be starting in September. Here’s what’s happening: On Tuesdays\, beginning September 6\, we will be studying “God of Freedom\,” a study of Exodus 19-40. This study meets on the 1st and 3rd Tuesdays of the month\, at either 9:15-11:00 a.m. or 7:00-8:45 p.m. You can come at either time depending on your schedule. We do the same study at both times. Books are available now from Colleen Grogan. This study is open to women from their teens and up! Questions? Email Colleen at colleeng@christcovcincy.org.
URL:https://christcovcincy.org/event/womens-bible-study-3/2023-02-07/
LOCATION:Chapel @ Christ Covenant Church Office\, 2192 Springdale Rd\, Cincinnati\, OH\, 45231
CATEGORIES:Women's Discipleship
ATTACH;FMTTYPE=image/jpeg:https://christcovcincy.org/wp-content/uploads/2023/02/WomensBibleStudy.jpg
ORGANIZER;CN="Colleen Grogan":MAILTO:colleeng@christcovcincy.org
END:VEVENT
BEGIN:VEVENT
DTSTART;TZID=UTC:20230131T091500
DTEND;TZID=UTC:20230131T110000
DTSTAMP:20260425T091556
CREATED:20220808T213348Z
LAST-MODIFIED:20230217T234639Z
UID:10004306-1675156500-1675162800@christcovcincy.org
SUMMARY:Women's Bible Study
DESCRIPTION:Women‘s Bible studies will be starting in September. Here’s what’s happening: On Tuesdays\, beginning September 6\, we will be studying “God of Freedom\,” a study of Exodus 19-40. This study meets on the 1st and 3rd Tuesdays of the month\, at either 9:15-11:00 a.m. or 7:00-8:45 p.m. You can come at either time depending on your schedule. We do the same study at both times. Books are available now from Colleen Grogan. This study is open to women from their teens and up! Questions? Email Colleen at colleeng@christcovcincy.org.
URL:https://christcovcincy.org/event/womens-bible-study-3/2023-01-31/
LOCATION:Chapel @ Christ Covenant Church Office\, 2192 Springdale Rd\, Cincinnati\, OH\, 45231
CATEGORIES:Women's Discipleship
ATTACH;FMTTYPE=image/jpeg:https://christcovcincy.org/wp-content/uploads/2023/02/WomensBibleStudy.jpg
ORGANIZER;CN="Colleen Grogan":MAILTO:colleeng@christcovcincy.org
END:VEVENT
BEGIN:VEVENT
DTSTART;TZID=UTC:20230126T093000
DTEND;TZID=UTC:20230126T113000
DTSTAMP:20260425T091556
CREATED:20221209T180701Z
LAST-MODIFIED:20230217T234524Z
UID:10004320-1674725400-1674732600@christcovcincy.org
SUMMARY:Women's Bible study
DESCRIPTION:We will be studying the book of Exodus\, chapters 1-18 using the study guide God of Deliverance\, by Jen Wilkin. This is a 10 session study that meets every other Thursday in the Church office at 2192 Springdale Road from 9:30 am – 11:30 am. To sign up and order a workbook\, contact Wendy at wdetroy@fuse.net no later than December 31\, 2022.
URL:https://christcovcincy.org/event/womens-bible-study-4/2023-01-26/
LOCATION:Chapel @ Christ Covenant Church Office\, 2192 Springdale Rd\, Cincinnati\, OH\, 45231
CATEGORIES:Women's Discipleship
ATTACH;FMTTYPE=image/jpeg:https://christcovcincy.org/wp-content/uploads/2023/02/WomensBibleStudy.jpg
END:VEVENT
BEGIN:VEVENT
DTSTART;TZID=UTC:20230118T111500
DTEND;TZID=UTC:20230118T130000
DTSTAMP:20260425T091556
CREATED:20230119T012336Z
LAST-MODIFIED:20231220T171412Z
UID:10004742-1674040500-1674046800@christcovcincy.org
SUMMARY:Staff Meeting
DESCRIPTION:Staff typically meets on the 1st and 3rd Wednesday between 11:15am and 1:00pm in the chapel. \nDevotional Assignments: \nRich — January 18\, April 5\, June 7\, October 4\, November 29 \nTina — February 15\, April 19\, July 19 \nDavid — March 1\, May 17\, September 20 \nColleen — February 1\, May 3\, August 16\, November 8 \nSteve — March 15 \nJoyce — October 18
URL:https://christcovcincy.org/event/staff-meeting/
LOCATION:Chapel @ Christ Covenant Church Office\, 2192 Springdale Rd\, Cincinnati\, OH\, 45231
ATTACH;FMTTYPE=image/jpeg:https://christcovcincy.org/wp-content/uploads/2023/01/staffmeeting.jpg
END:VEVENT
BEGIN:VEVENT
DTSTART;TZID=UTC:20230117T091500
DTEND;TZID=UTC:20230117T110000
DTSTAMP:20260425T091556
CREATED:20220808T213348Z
LAST-MODIFIED:20230217T234639Z
UID:10004305-1673946900-1673953200@christcovcincy.org
SUMMARY:Women's Bible Study
DESCRIPTION:Women‘s Bible studies will be starting in September. Here’s what’s happening: On Tuesdays\, beginning September 6\, we will be studying “God of Freedom\,” a study of Exodus 19-40. This study meets on the 1st and 3rd Tuesdays of the month\, at either 9:15-11:00 a.m. or 7:00-8:45 p.m. You can come at either time depending on your schedule. We do the same study at both times. Books are available now from Colleen Grogan. This study is open to women from their teens and up! Questions? Email Colleen at colleeng@christcovcincy.org.
URL:https://christcovcincy.org/event/womens-bible-study-3/2023-01-17/
LOCATION:Chapel @ Christ Covenant Church Office\, 2192 Springdale Rd\, Cincinnati\, OH\, 45231
CATEGORIES:Women's Discipleship
ATTACH;FMTTYPE=image/jpeg:https://christcovcincy.org/wp-content/uploads/2023/02/WomensBibleStudy.jpg
ORGANIZER;CN="Colleen Grogan":MAILTO:colleeng@christcovcincy.org
END:VEVENT
BEGIN:VEVENT
DTSTART;TZID=UTC:20230116T190000
DTEND;TZID=UTC:20230116T210000
DTSTAMP:20260425T091556
CREATED:20221122T221840Z
LAST-MODIFIED:20251001T185731Z
UID:10004635-1673895600-1673902800@christcovcincy.org
SUMMARY:Trustee Meeting
DESCRIPTION:
URL:https://christcovcincy.org/event/trustees-meeting/2023-01-16/
LOCATION:Chapel @ Christ Covenant Church Office\, 2192 Springdale Rd\, Cincinnati\, OH\, 45231
ATTACH;FMTTYPE=image/png:https://christcovcincy.org/wp-content/uploads/2022/07/Board-Meeting.png
END:VEVENT
BEGIN:VEVENT
DTSTART;TZID=UTC:20230112T093000
DTEND;TZID=UTC:20230112T113000
DTSTAMP:20260425T091556
CREATED:20221209T180701Z
LAST-MODIFIED:20230217T234524Z
UID:10004319-1673515800-1673523000@christcovcincy.org
SUMMARY:Women's Bible study
DESCRIPTION:We will be studying the book of Exodus\, chapters 1-18 using the study guide God of Deliverance\, by Jen Wilkin. This is a 10 session study that meets every other Thursday in the Church office at 2192 Springdale Road from 9:30 am – 11:30 am. To sign up and order a workbook\, contact Wendy at wdetroy@fuse.net no later than December 31\, 2022.
URL:https://christcovcincy.org/event/womens-bible-study-4/2023-01-12/
LOCATION:Chapel @ Christ Covenant Church Office\, 2192 Springdale Rd\, Cincinnati\, OH\, 45231
CATEGORIES:Women's Discipleship
ATTACH;FMTTYPE=image/jpeg:https://christcovcincy.org/wp-content/uploads/2023/02/WomensBibleStudy.jpg
END:VEVENT
BEGIN:VEVENT
DTSTART;TZID=UTC:20230109T190000
DTEND;TZID=UTC:20230109T210000
DTSTAMP:20260425T091556
CREATED:20221122T221642Z
LAST-MODIFIED:20250521T182505Z
UID:10004596-1673290800-1673298000@christcovcincy.org
SUMMARY:Session Meeting
DESCRIPTION:
URL:https://christcovcincy.org/event/session-meeting-2/2023-01-09/
LOCATION:Chapel @ Christ Covenant Church Office\, 2192 Springdale Rd\, Cincinnati\, OH\, 45231
ATTACH;FMTTYPE=image/png:https://christcovcincy.org/wp-content/uploads/2022/07/Board-Meeting.png
END:VEVENT
BEGIN:VEVENT
DTSTART;TZID=UTC:20221219T190000
DTEND;TZID=UTC:20221219T210000
DTSTAMP:20260425T091556
CREATED:20221117T202658Z
LAST-MODIFIED:20221208T230349Z
UID:10004562-1671476400-1671483600@christcovcincy.org
SUMMARY:Trustee Christmas Party
DESCRIPTION:Trustees Christmas Party
URL:https://christcovcincy.org/event/private-event-20/
LOCATION:Chapel @ Christ Covenant Church Office\, 2192 Springdale Rd\, Cincinnati\, OH\, 45231
ATTACH;FMTTYPE=image/png:https://christcovcincy.org/wp-content/uploads/2022/07/Board-Meeting.png
END:VEVENT
END:VCALENDAR