BEGIN:VCALENDAR
VERSION:2.0
PRODID:-//Christ Covenant Church - ECPv6.15.20//NONSGML v1.0//EN
CALSCALE:GREGORIAN
METHOD:PUBLISH
X-WR-CALNAME:Christ Covenant Church
X-ORIGINAL-URL:https://christcovcincy.org
X-WR-CALDESC:Events for Christ Covenant Church
REFRESH-INTERVAL;VALUE=DURATION:PT1H
X-Robots-Tag:noindex
X-PUBLISHED-TTL:PT1H
BEGIN:VTIMEZONE
TZID:UTC
BEGIN:STANDARD
TZOFFSETFROM:+0000
TZOFFSETTO:+0000
TZNAME:UTC
DTSTART:20210101T000000
END:STANDARD
END:VTIMEZONE
BEGIN:VEVENT
DTSTART;TZID=UTC:20221219T190000
DTEND;TZID=UTC:20221219T210000
DTSTAMP:20260425T105237
CREATED:20221117T202658Z
LAST-MODIFIED:20221208T230349Z
UID:10004562-1671476400-1671483600@christcovcincy.org
SUMMARY:Trustee Christmas Party
DESCRIPTION:Trustees Christmas Party
URL:https://christcovcincy.org/event/private-event-20/
LOCATION:Chapel @ Christ Covenant Church Office\, 2192 Springdale Rd\, Cincinnati\, OH\, 45231
ATTACH;FMTTYPE=image/png:https://christcovcincy.org/wp-content/uploads/2022/07/Board-Meeting.png
END:VEVENT
END:VCALENDAR