BEGIN:VCALENDAR
VERSION:2.0
PRODID:-//Christ Covenant Church - ECPv6.15.20//NONSGML v1.0//EN
CALSCALE:GREGORIAN
METHOD:PUBLISH
X-WR-CALNAME:Christ Covenant Church
X-ORIGINAL-URL:https://christcovcincy.org
X-WR-CALDESC:Events for Christ Covenant Church
REFRESH-INTERVAL;VALUE=DURATION:PT1H
X-Robots-Tag:noindex
X-PUBLISHED-TTL:PT1H
BEGIN:VTIMEZONE
TZID:America/New_York
BEGIN:DAYLIGHT
TZOFFSETFROM:-0500
TZOFFSETTO:-0400
TZNAME:EDT
DTSTART:20250309T070000
END:DAYLIGHT
BEGIN:STANDARD
TZOFFSETFROM:-0400
TZOFFSETTO:-0500
TZNAME:EST
DTSTART:20251102T060000
END:STANDARD
BEGIN:DAYLIGHT
TZOFFSETFROM:-0500
TZOFFSETTO:-0400
TZNAME:EDT
DTSTART:20260308T070000
END:DAYLIGHT
BEGIN:STANDARD
TZOFFSETFROM:-0400
TZOFFSETTO:-0500
TZNAME:EST
DTSTART:20261101T060000
END:STANDARD
BEGIN:DAYLIGHT
TZOFFSETFROM:-0500
TZOFFSETTO:-0400
TZNAME:EDT
DTSTART:20270314T070000
END:DAYLIGHT
BEGIN:STANDARD
TZOFFSETFROM:-0400
TZOFFSETTO:-0500
TZNAME:EST
DTSTART:20271107T060000
END:STANDARD
END:VTIMEZONE
BEGIN:VTIMEZONE
TZID:UTC
BEGIN:STANDARD
TZOFFSETFROM:+0000
TZOFFSETTO:+0000
TZNAME:UTC
DTSTART:20250101T000000
END:STANDARD
END:VTIMEZONE
BEGIN:VTIMEZONE
TZID:America/Halifax
BEGIN:DAYLIGHT
TZOFFSETFROM:-0400
TZOFFSETTO:-0300
TZNAME:ADT
DTSTART:20250309T060000
END:DAYLIGHT
BEGIN:STANDARD
TZOFFSETFROM:-0300
TZOFFSETTO:-0400
TZNAME:AST
DTSTART:20251102T050000
END:STANDARD
BEGIN:DAYLIGHT
TZOFFSETFROM:-0400
TZOFFSETTO:-0300
TZNAME:ADT
DTSTART:20260308T060000
END:DAYLIGHT
BEGIN:STANDARD
TZOFFSETFROM:-0300
TZOFFSETTO:-0400
TZNAME:AST
DTSTART:20261101T050000
END:STANDARD
BEGIN:DAYLIGHT
TZOFFSETFROM:-0400
TZOFFSETTO:-0300
TZNAME:ADT
DTSTART:20270314T060000
END:DAYLIGHT
BEGIN:STANDARD
TZOFFSETFROM:-0300
TZOFFSETTO:-0400
TZNAME:AST
DTSTART:20271107T050000
END:STANDARD
END:VTIMEZONE
BEGIN:VEVENT
DTSTART;TZID=America/New_York:20260422T083000
DTEND;TZID=America/New_York:20260422T170000
DTSTAMP:20260423T140521
CREATED:20250723T174657Z
LAST-MODIFIED:20250723T174657Z
UID:10006902-1776846600-1776877200@christcovcincy.org
SUMMARY:CAFE Coop
DESCRIPTION:
URL:https://christcovcincy.org/event/cafe-coop-4/2026-04-22/
LOCATION:Christ Covenant Church\, 2191 Struble Rd\, Cincinnati\, 45231\, United States
ATTACH;FMTTYPE=image/jpeg:https://christcovcincy.org/wp-content/uploads/2024/09/CafeCoop.jpg
END:VEVENT
BEGIN:VEVENT
DTSTART;TZID=America/New_York:20260421T114500
DTEND;TZID=America/New_York:20260421T170000
DTSTAMP:20260423T140521
CREATED:20250416T153209Z
LAST-MODIFIED:20250723T132052Z
UID:10006868-1776771900-1776790800@christcovcincy.org
SUMMARY:Private Event
DESCRIPTION:Speech and Debate Club
URL:https://christcovcincy.org/event/private-event-96/2026-04-21/
LOCATION:Christ Covenant Church\, 2191 Struble Rd\, Cincinnati\, 45231\, United States
CATEGORIES:private event
ATTACH;FMTTYPE=image/jpeg:https://christcovcincy.org/wp-content/uploads/2023/06/privateeventcalendar.jpg
END:VEVENT
BEGIN:VEVENT
DTSTART;TZID=UTC:20260419T103000
DTEND;TZID=UTC:20260419T233000
DTSTAMP:20260423T140521
CREATED:20220714T235224Z
LAST-MODIFIED:20260327T170225Z
UID:10006478-1776594600-1776641400@christcovcincy.org
SUMMARY:Sunday Service @ 10:30am
DESCRIPTION:Join us for Worship! 10:30 am
URL:https://christcovcincy.org/event/sunday-service-1030am/2026-04-19/
LOCATION:Christ Covenant Church\, 2191 Struble Rd\, Cincinnati\, 45231\, United States
ATTACH;FMTTYPE=image/jpeg:https://christcovcincy.org/wp-content/uploads/2023/02/SundayService.jpg
END:VEVENT
BEGIN:VEVENT
DTSTART;TZID=America/New_York:20260419T091500
DTEND;TZID=America/New_York:20260419T101500
DTSTAMP:20260423T140521
CREATED:20250724T173447Z
LAST-MODIFIED:20260128T190345Z
UID:10006956-1776590100-1776593700@christcovcincy.org
SUMMARY:Sunday School Classes
DESCRIPTION:Nursery Care is available for ages 3 and under. \nChildren’s classes for Preschool (ages 4-5) in Room 105\, for grades 1 & 2 in Room 102\, for grades 3 & 4 in Room 104\, for grades 5 & 6 in Room 108. \nJunior High class for grades 7 & 8 in Room 106. \nHigh School class for grades 9 & 10 in the modular building. \nAdult Sunday School for HS grades 11 & 12 and adults in Fellowship Hall.
URL:https://christcovcincy.org/event/sunday-school-classes-7/2026-04-19/
LOCATION:Christ Covenant Church\, 2191 Struble Rd\, Cincinnati\, 45231\, United States
CATEGORIES:Children's Ministry,Sunday School,Youth Ministry
ATTACH;FMTTYPE=image/jpeg:https://christcovcincy.org/wp-content/uploads/2023/01/SundaySchoolGeneral.jpg
END:VEVENT
BEGIN:VEVENT
DTSTART;TZID=America/New_York:20260416T183000
DTEND;TZID=America/New_York:20260416T200000
DTSTAMP:20260423T140521
CREATED:20250821T193342Z
LAST-MODIFIED:20260417T161411Z
UID:10007014-1776364200-1776369600@christcovcincy.org
SUMMARY:Choir Rehearsal
DESCRIPTION:
URL:https://christcovcincy.org/event/choir-rehearsal-21/2026-04-16/
LOCATION:Christ Covenant Church\, 2191 Struble Rd\, Cincinnati\, 45231\, United States
ATTACH;FMTTYPE=image/jpeg:https://christcovcincy.org/wp-content/uploads/2023/03/ChancelChoirforWeb.jpg
END:VEVENT
BEGIN:VEVENT
DTSTART;TZID=America/New_York:20260415T083000
DTEND;TZID=America/New_York:20260415T170000
DTSTAMP:20260423T140521
CREATED:20250723T174657Z
LAST-MODIFIED:20250723T174657Z
UID:10006901-1776241800-1776272400@christcovcincy.org
SUMMARY:CAFE Coop
DESCRIPTION:
URL:https://christcovcincy.org/event/cafe-coop-4/2026-04-15/
LOCATION:Christ Covenant Church\, 2191 Struble Rd\, Cincinnati\, 45231\, United States
ATTACH;FMTTYPE=image/jpeg:https://christcovcincy.org/wp-content/uploads/2024/09/CafeCoop.jpg
END:VEVENT
BEGIN:VEVENT
DTSTART;TZID=America/New_York:20260414T114500
DTEND;TZID=America/New_York:20260414T170000
DTSTAMP:20260423T140521
CREATED:20250416T153209Z
LAST-MODIFIED:20250723T132052Z
UID:10006867-1776167100-1776186000@christcovcincy.org
SUMMARY:Private Event
DESCRIPTION:Speech and Debate Club
URL:https://christcovcincy.org/event/private-event-96/2026-04-14/
LOCATION:Christ Covenant Church\, 2191 Struble Rd\, Cincinnati\, 45231\, United States
CATEGORIES:private event
ATTACH;FMTTYPE=image/jpeg:https://christcovcincy.org/wp-content/uploads/2023/06/privateeventcalendar.jpg
END:VEVENT
BEGIN:VEVENT
DTSTART;TZID=UTC:20260412T103000
DTEND;TZID=UTC:20260412T233000
DTSTAMP:20260423T140521
CREATED:20220714T235224Z
LAST-MODIFIED:20260327T170225Z
UID:10006477-1775989800-1776036600@christcovcincy.org
SUMMARY:Sunday Service @ 10:30am
DESCRIPTION:Join us for Worship! 10:30 am
URL:https://christcovcincy.org/event/sunday-service-1030am/2026-04-12/
LOCATION:Christ Covenant Church\, 2191 Struble Rd\, Cincinnati\, 45231\, United States
ATTACH;FMTTYPE=image/jpeg:https://christcovcincy.org/wp-content/uploads/2023/02/SundayService.jpg
END:VEVENT
BEGIN:VEVENT
DTSTART;TZID=America/New_York:20260412T091500
DTEND;TZID=America/New_York:20260412T101500
DTSTAMP:20260423T140521
CREATED:20250724T173447Z
LAST-MODIFIED:20260128T190345Z
UID:10006955-1775985300-1775988900@christcovcincy.org
SUMMARY:Sunday School Classes
DESCRIPTION:Nursery Care is available for ages 3 and under. \nChildren’s classes for Preschool (ages 4-5) in Room 105\, for grades 1 & 2 in Room 102\, for grades 3 & 4 in Room 104\, for grades 5 & 6 in Room 108. \nJunior High class for grades 7 & 8 in Room 106. \nHigh School class for grades 9 & 10 in the modular building. \nAdult Sunday School for HS grades 11 & 12 and adults in Fellowship Hall.
URL:https://christcovcincy.org/event/sunday-school-classes-7/2026-04-12/
LOCATION:Christ Covenant Church\, 2191 Struble Rd\, Cincinnati\, 45231\, United States
CATEGORIES:Children's Ministry,Sunday School,Youth Ministry
ATTACH;FMTTYPE=image/jpeg:https://christcovcincy.org/wp-content/uploads/2023/01/SundaySchoolGeneral.jpg
END:VEVENT
BEGIN:VEVENT
DTSTART;TZID=America/New_York:20260408T083000
DTEND;TZID=America/New_York:20260408T170000
DTSTAMP:20260423T140521
CREATED:20250723T174657Z
LAST-MODIFIED:20250723T174657Z
UID:10006900-1775637000-1775667600@christcovcincy.org
SUMMARY:CAFE Coop
DESCRIPTION:
URL:https://christcovcincy.org/event/cafe-coop-4/2026-04-08/
LOCATION:Christ Covenant Church\, 2191 Struble Rd\, Cincinnati\, 45231\, United States
ATTACH;FMTTYPE=image/jpeg:https://christcovcincy.org/wp-content/uploads/2024/09/CafeCoop.jpg
END:VEVENT
BEGIN:VEVENT
DTSTART;TZID=America/New_York:20260407T114500
DTEND;TZID=America/New_York:20260407T170000
DTSTAMP:20260423T140521
CREATED:20250416T153209Z
LAST-MODIFIED:20250723T132052Z
UID:10006866-1775562300-1775581200@christcovcincy.org
SUMMARY:Private Event
DESCRIPTION:Speech and Debate Club
URL:https://christcovcincy.org/event/private-event-96/2026-04-07/
LOCATION:Christ Covenant Church\, 2191 Struble Rd\, Cincinnati\, 45231\, United States
CATEGORIES:private event
ATTACH;FMTTYPE=image/jpeg:https://christcovcincy.org/wp-content/uploads/2023/06/privateeventcalendar.jpg
END:VEVENT
BEGIN:VEVENT
DTSTART;TZID=America/Halifax:20260405T091500
DTEND;TZID=America/Halifax:20260405T101500
DTSTAMP:20260423T140521
CREATED:20240822T210038Z
LAST-MODIFIED:20251211T174233Z
UID:10007364-1775380500-1775384100@christcovcincy.org
SUMMARY:NO SUNDAY SCHOOL CLASSES!
DESCRIPTION:Nursery Care is available for ages 3 and under. \nChildren’s classes for Preschool (ages 4-5) in Room 105\, for grades 1 & 2 in Room 102\, for grades 3 & 4 in Room 104\, for grades 5 & 6 in Room 108. \nJunior High class for grades 7 & 8 in Room 106. \nHigh School class for grades 9 & 10 in the modular building. \nAdult Sunday School for HS grades 11 & 12 and adults in Fellowship Hall.
URL:https://christcovcincy.org/event/sunday-school-classes-6-2025-04-20/2026-04-05/
LOCATION:Christ Covenant Church\, 2191 Struble Rd\, Cincinnati\, 45231\, United States
CATEGORIES:Children's Ministry,Sunday School,Youth Ministry
ATTACH;FMTTYPE=image/jpeg:https://christcovcincy.org/wp-content/uploads/2023/01/SundaySchoolGeneral.jpg
END:VEVENT
BEGIN:VEVENT
DTSTART;TZID=America/New_York:20260404T090000
DTEND;TZID=America/New_York:20260404T120000
DTSTAMP:20260423T140521
CREATED:20260225T182202Z
LAST-MODIFIED:20260225T182202Z
UID:10007502-1775293200-1775304000@christcovcincy.org
SUMMARY:Choir Rehearsal
DESCRIPTION:An extra rehearsal opportunity to prepare music for Holy Week services
URL:https://christcovcincy.org/event/choir-rehearsal-25/2026-04-04/
LOCATION:Christ Covenant Church\, 2191 Struble Rd\, Cincinnati\, 45231\, United States
ATTACH;FMTTYPE=image/jpeg:https://christcovcincy.org/wp-content/uploads/2023/03/ChancelChoirforWeb.jpg
END:VEVENT
BEGIN:VEVENT
DTSTART;TZID=America/New_York:20260401T083000
DTEND;TZID=America/New_York:20260401T170000
DTSTAMP:20260423T140521
CREATED:20250723T174657Z
LAST-MODIFIED:20250723T174657Z
UID:10006899-1775032200-1775062800@christcovcincy.org
SUMMARY:CAFE Coop
DESCRIPTION:
URL:https://christcovcincy.org/event/cafe-coop-4/2026-04-01/
LOCATION:Christ Covenant Church\, 2191 Struble Rd\, Cincinnati\, 45231\, United States
ATTACH;FMTTYPE=image/jpeg:https://christcovcincy.org/wp-content/uploads/2024/09/CafeCoop.jpg
END:VEVENT
BEGIN:VEVENT
DTSTART;TZID=America/New_York:20260331T114500
DTEND;TZID=America/New_York:20260331T170000
DTSTAMP:20260423T140521
CREATED:20250416T153209Z
LAST-MODIFIED:20250723T132052Z
UID:10006865-1774957500-1774976400@christcovcincy.org
SUMMARY:Private Event
DESCRIPTION:Speech and Debate Club
URL:https://christcovcincy.org/event/private-event-96/2026-03-31/
LOCATION:Christ Covenant Church\, 2191 Struble Rd\, Cincinnati\, 45231\, United States
CATEGORIES:private event
ATTACH;FMTTYPE=image/jpeg:https://christcovcincy.org/wp-content/uploads/2023/06/privateeventcalendar.jpg
END:VEVENT
BEGIN:VEVENT
DTSTART;TZID=America/New_York:20260329T114500
DTEND;TZID=America/New_York:20260329T131500
DTSTAMP:20260423T140521
CREATED:20260211T171810Z
LAST-MODIFIED:20260211T171810Z
UID:10007486-1774784700-1774790100@christcovcincy.org
SUMMARY:Covenant Ringers
DESCRIPTION:Covenant Ringers will rehearse in Room 106 immediately following the worship service
URL:https://christcovcincy.org/event/covenant-ringers/2026-03-29/
LOCATION:Christ Covenant Church\, 2191 Struble Rd\, Cincinnati\, 45231\, United States
ATTACH;FMTTYPE=image/png:https://christcovcincy.org/wp-content/uploads/2026/02/handbells2.png
END:VEVENT
BEGIN:VEVENT
DTSTART;TZID=America/New_York:20260329T114500
DTEND;TZID=America/New_York:20260329T123000
DTSTAMP:20260423T140521
CREATED:20260219T155049Z
LAST-MODIFIED:20260219T155049Z
UID:10007494-1774784700-1774787400@christcovcincy.org
SUMMARY:Joyful Noise Rehearsal
DESCRIPTION:All children ages 6-12 are invited to sing in our Children’s Choir on Palm Sunday & Easter.  Meet in room 102 immediately following the worship service.
URL:https://christcovcincy.org/event/joyful-noise-rehearsal/2026-03-29/
LOCATION:Christ Covenant Church\, 2191 Struble Rd\, Cincinnati\, 45231\, United States
CATEGORIES:Children's Ministry
ATTACH;FMTTYPE=image/jpeg:https://christcovcincy.org/wp-content/uploads/2026/02/childrenschoirsquare-e1771516205271.jpg
END:VEVENT
BEGIN:VEVENT
DTSTART;TZID=America/New_York:20260329T091500
DTEND;TZID=America/New_York:20260329T101500
DTSTAMP:20260423T140521
CREATED:20250724T173447Z
LAST-MODIFIED:20260128T190345Z
UID:10006953-1774775700-1774779300@christcovcincy.org
SUMMARY:Sunday School Classes
DESCRIPTION:Nursery Care is available for ages 3 and under. \nChildren’s classes for Preschool (ages 4-5) in Room 105\, for grades 1 & 2 in Room 102\, for grades 3 & 4 in Room 104\, for grades 5 & 6 in Room 108. \nJunior High class for grades 7 & 8 in Room 106. \nHigh School class for grades 9 & 10 in the modular building. \nAdult Sunday School for HS grades 11 & 12 and adults in Fellowship Hall.
URL:https://christcovcincy.org/event/sunday-school-classes-7/2026-03-29/
LOCATION:Christ Covenant Church\, 2191 Struble Rd\, Cincinnati\, 45231\, United States
CATEGORIES:Children's Ministry,Sunday School,Youth Ministry
ATTACH;FMTTYPE=image/jpeg:https://christcovcincy.org/wp-content/uploads/2023/01/SundaySchoolGeneral.jpg
END:VEVENT
BEGIN:VEVENT
DTSTART;TZID=America/New_York:20260328T090000
DTEND;TZID=America/New_York:20260328T120000
DTSTAMP:20260423T140521
CREATED:20260225T182202Z
LAST-MODIFIED:20260225T182202Z
UID:10007501-1774688400-1774699200@christcovcincy.org
SUMMARY:Choir Rehearsal
DESCRIPTION:An extra rehearsal opportunity to prepare music for Holy Week services
URL:https://christcovcincy.org/event/choir-rehearsal-25/2026-03-28/
LOCATION:Christ Covenant Church\, 2191 Struble Rd\, Cincinnati\, 45231\, United States
ATTACH;FMTTYPE=image/jpeg:https://christcovcincy.org/wp-content/uploads/2023/03/ChancelChoirforWeb.jpg
END:VEVENT
BEGIN:VEVENT
DTSTART;TZID=America/New_York:20260326T183000
DTEND;TZID=America/New_York:20260326T200000
DTSTAMP:20260423T140521
CREATED:20250821T193342Z
LAST-MODIFIED:20260417T161411Z
UID:10007011-1774549800-1774555200@christcovcincy.org
SUMMARY:Choir Rehearsal
DESCRIPTION:
URL:https://christcovcincy.org/event/choir-rehearsal-21/2026-03-26/
LOCATION:Christ Covenant Church\, 2191 Struble Rd\, Cincinnati\, 45231\, United States
ATTACH;FMTTYPE=image/jpeg:https://christcovcincy.org/wp-content/uploads/2023/03/ChancelChoirforWeb.jpg
END:VEVENT
BEGIN:VEVENT
DTSTART;TZID=America/New_York:20260324T114500
DTEND;TZID=America/New_York:20260324T170000
DTSTAMP:20260423T140521
CREATED:20250416T153209Z
LAST-MODIFIED:20250723T132052Z
UID:10006864-1774352700-1774371600@christcovcincy.org
SUMMARY:Private Event
DESCRIPTION:Speech and Debate Club
URL:https://christcovcincy.org/event/private-event-96/2026-03-24/
LOCATION:Christ Covenant Church\, 2191 Struble Rd\, Cincinnati\, 45231\, United States
CATEGORIES:private event
ATTACH;FMTTYPE=image/jpeg:https://christcovcincy.org/wp-content/uploads/2023/06/privateeventcalendar.jpg
END:VEVENT
BEGIN:VEVENT
DTSTART;TZID=America/New_York:20260322T114500
DTEND;TZID=America/New_York:20260322T131500
DTSTAMP:20260423T140521
CREATED:20260211T171810Z
LAST-MODIFIED:20260211T171810Z
UID:10007485-1774179900-1774185300@christcovcincy.org
SUMMARY:Covenant Ringers
DESCRIPTION:Covenant Ringers will rehearse in Room 106 immediately following the worship service
URL:https://christcovcincy.org/event/covenant-ringers/2026-03-22/
LOCATION:Christ Covenant Church\, 2191 Struble Rd\, Cincinnati\, 45231\, United States
ATTACH;FMTTYPE=image/png:https://christcovcincy.org/wp-content/uploads/2026/02/handbells2.png
END:VEVENT
BEGIN:VEVENT
DTSTART;TZID=America/New_York:20260322T114500
DTEND;TZID=America/New_York:20260322T123000
DTSTAMP:20260423T140521
CREATED:20260219T155049Z
LAST-MODIFIED:20260219T155049Z
UID:10007493-1774179900-1774182600@christcovcincy.org
SUMMARY:Joyful Noise Rehearsal
DESCRIPTION:All children ages 6-12 are invited to sing in our Children’s Choir on Palm Sunday & Easter.  Meet in room 102 immediately following the worship service.
URL:https://christcovcincy.org/event/joyful-noise-rehearsal/2026-03-22/
LOCATION:Christ Covenant Church\, 2191 Struble Rd\, Cincinnati\, 45231\, United States
CATEGORIES:Children's Ministry
ATTACH;FMTTYPE=image/jpeg:https://christcovcincy.org/wp-content/uploads/2026/02/childrenschoirsquare-e1771516205271.jpg
END:VEVENT
BEGIN:VEVENT
DTSTART;TZID=UTC:20260322T103000
DTEND;TZID=UTC:20260322T233000
DTSTAMP:20260423T140521
CREATED:20220714T235224Z
LAST-MODIFIED:20260327T170225Z
UID:10004282-1774175400-1774222200@christcovcincy.org
SUMMARY:Sunday Service @ 10:30am
DESCRIPTION:Join us for Worship! 10:30 am
URL:https://christcovcincy.org/event/sunday-service-1030am/2026-03-22/
LOCATION:Christ Covenant Church\, 2191 Struble Rd\, Cincinnati\, 45231\, United States
ATTACH;FMTTYPE=image/jpeg:https://christcovcincy.org/wp-content/uploads/2023/02/SundayService.jpg
END:VEVENT
BEGIN:VEVENT
DTSTART;TZID=America/New_York:20260322T091500
DTEND;TZID=America/New_York:20260322T101500
DTSTAMP:20260423T140521
CREATED:20250724T173447Z
LAST-MODIFIED:20260128T190345Z
UID:10006952-1774170900-1774174500@christcovcincy.org
SUMMARY:Sunday School Classes
DESCRIPTION:Nursery Care is available for ages 3 and under. \nChildren’s classes for Preschool (ages 4-5) in Room 105\, for grades 1 & 2 in Room 102\, for grades 3 & 4 in Room 104\, for grades 5 & 6 in Room 108. \nJunior High class for grades 7 & 8 in Room 106. \nHigh School class for grades 9 & 10 in the modular building. \nAdult Sunday School for HS grades 11 & 12 and adults in Fellowship Hall.
URL:https://christcovcincy.org/event/sunday-school-classes-7/2026-03-22/
LOCATION:Christ Covenant Church\, 2191 Struble Rd\, Cincinnati\, 45231\, United States
CATEGORIES:Children's Ministry,Sunday School,Youth Ministry
ATTACH;FMTTYPE=image/jpeg:https://christcovcincy.org/wp-content/uploads/2023/01/SundaySchoolGeneral.jpg
END:VEVENT
BEGIN:VEVENT
DTSTART;TZID=America/New_York:20260321T090000
DTEND;TZID=America/New_York:20260321T120000
DTSTAMP:20260423T140521
CREATED:20260225T182202Z
LAST-MODIFIED:20260225T182202Z
UID:10007500-1774083600-1774094400@christcovcincy.org
SUMMARY:Choir Rehearsal
DESCRIPTION:An extra rehearsal opportunity to prepare music for Holy Week services
URL:https://christcovcincy.org/event/choir-rehearsal-25/2026-03-21/
LOCATION:Christ Covenant Church\, 2191 Struble Rd\, Cincinnati\, 45231\, United States
ATTACH;FMTTYPE=image/jpeg:https://christcovcincy.org/wp-content/uploads/2023/03/ChancelChoirforWeb.jpg
END:VEVENT
BEGIN:VEVENT
DTSTART;TZID=America/New_York:20260319T183000
DTEND;TZID=America/New_York:20260319T200000
DTSTAMP:20260423T140521
CREATED:20250821T193342Z
LAST-MODIFIED:20260417T161411Z
UID:10007010-1773945000-1773950400@christcovcincy.org
SUMMARY:Choir Rehearsal
DESCRIPTION:
URL:https://christcovcincy.org/event/choir-rehearsal-21/2026-03-19/
LOCATION:Christ Covenant Church\, 2191 Struble Rd\, Cincinnati\, 45231\, United States
ATTACH;FMTTYPE=image/jpeg:https://christcovcincy.org/wp-content/uploads/2023/03/ChancelChoirforWeb.jpg
END:VEVENT
BEGIN:VEVENT
DTSTART;TZID=America/New_York:20260318T083000
DTEND;TZID=America/New_York:20260318T170000
DTSTAMP:20260423T140521
CREATED:20250723T174657Z
LAST-MODIFIED:20250723T174657Z
UID:10006897-1773822600-1773853200@christcovcincy.org
SUMMARY:CAFE Coop
DESCRIPTION:
URL:https://christcovcincy.org/event/cafe-coop-4/2026-03-18/
LOCATION:Christ Covenant Church\, 2191 Struble Rd\, Cincinnati\, 45231\, United States
ATTACH;FMTTYPE=image/jpeg:https://christcovcincy.org/wp-content/uploads/2024/09/CafeCoop.jpg
END:VEVENT
BEGIN:VEVENT
DTSTART;TZID=America/New_York:20260317T114500
DTEND;TZID=America/New_York:20260317T170000
DTSTAMP:20260423T140521
CREATED:20250416T153209Z
LAST-MODIFIED:20250723T132052Z
UID:10006863-1773747900-1773766800@christcovcincy.org
SUMMARY:Private Event
DESCRIPTION:Speech and Debate Club
URL:https://christcovcincy.org/event/private-event-96/2026-03-17/
LOCATION:Christ Covenant Church\, 2191 Struble Rd\, Cincinnati\, 45231\, United States
CATEGORIES:private event
ATTACH;FMTTYPE=image/jpeg:https://christcovcincy.org/wp-content/uploads/2023/06/privateeventcalendar.jpg
END:VEVENT
BEGIN:VEVENT
DTSTART;TZID=America/New_York:20260315T114500
DTEND;TZID=America/New_York:20260315T131500
DTSTAMP:20260423T140521
CREATED:20260211T171810Z
LAST-MODIFIED:20260211T171810Z
UID:10007484-1773575100-1773580500@christcovcincy.org
SUMMARY:Covenant Ringers
DESCRIPTION:Covenant Ringers will rehearse in Room 106 immediately following the worship service
URL:https://christcovcincy.org/event/covenant-ringers/2026-03-15/
LOCATION:Christ Covenant Church\, 2191 Struble Rd\, Cincinnati\, 45231\, United States
ATTACH;FMTTYPE=image/png:https://christcovcincy.org/wp-content/uploads/2026/02/handbells2.png
END:VEVENT
END:VCALENDAR