BEGIN:VCALENDAR
VERSION:2.0
PRODID:-//Christ Covenant Church - ECPv6.15.20//NONSGML v1.0//EN
CALSCALE:GREGORIAN
METHOD:PUBLISH
X-ORIGINAL-URL:https://christcovcincy.org
X-WR-CALDESC:Events for Christ Covenant Church
REFRESH-INTERVAL;VALUE=DURATION:PT1H
X-Robots-Tag:noindex
X-PUBLISHED-TTL:PT1H
BEGIN:VTIMEZONE
TZID:America/New_York
BEGIN:DAYLIGHT
TZOFFSETFROM:-0500
TZOFFSETTO:-0400
TZNAME:EDT
DTSTART:20250309T070000
END:DAYLIGHT
BEGIN:STANDARD
TZOFFSETFROM:-0400
TZOFFSETTO:-0500
TZNAME:EST
DTSTART:20251102T060000
END:STANDARD
BEGIN:DAYLIGHT
TZOFFSETFROM:-0500
TZOFFSETTO:-0400
TZNAME:EDT
DTSTART:20260308T070000
END:DAYLIGHT
BEGIN:STANDARD
TZOFFSETFROM:-0400
TZOFFSETTO:-0500
TZNAME:EST
DTSTART:20261101T060000
END:STANDARD
BEGIN:DAYLIGHT
TZOFFSETFROM:-0500
TZOFFSETTO:-0400
TZNAME:EDT
DTSTART:20270314T070000
END:DAYLIGHT
BEGIN:STANDARD
TZOFFSETFROM:-0400
TZOFFSETTO:-0500
TZNAME:EST
DTSTART:20271107T060000
END:STANDARD
END:VTIMEZONE
BEGIN:VTIMEZONE
TZID:UTC
BEGIN:STANDARD
TZOFFSETFROM:+0000
TZOFFSETTO:+0000
TZNAME:UTC
DTSTART:20250101T000000
END:STANDARD
END:VTIMEZONE
BEGIN:VTIMEZONE
TZID:America/Halifax
BEGIN:DAYLIGHT
TZOFFSETFROM:-0400
TZOFFSETTO:-0300
TZNAME:ADT
DTSTART:20250309T060000
END:DAYLIGHT
BEGIN:STANDARD
TZOFFSETFROM:-0300
TZOFFSETTO:-0400
TZNAME:AST
DTSTART:20251102T050000
END:STANDARD
BEGIN:DAYLIGHT
TZOFFSETFROM:-0400
TZOFFSETTO:-0300
TZNAME:ADT
DTSTART:20260308T060000
END:DAYLIGHT
BEGIN:STANDARD
TZOFFSETFROM:-0300
TZOFFSETTO:-0400
TZNAME:AST
DTSTART:20261101T050000
END:STANDARD
BEGIN:DAYLIGHT
TZOFFSETFROM:-0400
TZOFFSETTO:-0300
TZNAME:ADT
DTSTART:20270314T060000
END:DAYLIGHT
BEGIN:STANDARD
TZOFFSETFROM:-0300
TZOFFSETTO:-0400
TZNAME:AST
DTSTART:20271107T050000
END:STANDARD
END:VTIMEZONE
BEGIN:VEVENT
DTSTART;TZID=America/New_York:20260301T091500
DTEND;TZID=America/New_York:20260301T101500
DTSTAMP:20260424T124015
CREATED:20250724T173447Z
LAST-MODIFIED:20260128T190345Z
UID:10006949-1772356500-1772360100@christcovcincy.org
SUMMARY:Sunday School Classes
DESCRIPTION:Nursery Care is available for ages 3 and under. \nChildren’s classes for Preschool (ages 4-5) in Room 105\, for grades 1 & 2 in Room 102\, for grades 3 & 4 in Room 104\, for grades 5 & 6 in Room 108. \nJunior High class for grades 7 & 8 in Room 106. \nHigh School class for grades 9 & 10 in the modular building. \nAdult Sunday School for HS grades 11 & 12 and adults in Fellowship Hall.
URL:https://christcovcincy.org/event/sunday-school-classes-7/2026-03-01/
LOCATION:Christ Covenant Church\, 2191 Struble Rd\, Cincinnati\, 45231\, United States
CATEGORIES:Children's Ministry,Sunday School,Youth Ministry
ATTACH;FMTTYPE=image/jpeg:https://christcovcincy.org/wp-content/uploads/2023/01/SundaySchoolGeneral.jpg
END:VEVENT
BEGIN:VEVENT
DTSTART;TZID=America/New_York:20260228T090000
DTEND;TZID=America/New_York:20260228T120000
DTSTAMP:20260424T124015
CREATED:20260225T182202Z
LAST-MODIFIED:20260225T182202Z
UID:10007497-1772269200-1772280000@christcovcincy.org
SUMMARY:Choir Rehearsal
DESCRIPTION:An extra rehearsal opportunity to prepare music for Holy Week services
URL:https://christcovcincy.org/event/choir-rehearsal-25/2026-02-28/
LOCATION:Christ Covenant Church\, 2191 Struble Rd\, Cincinnati\, 45231\, United States
ATTACH;FMTTYPE=image/jpeg:https://christcovcincy.org/wp-content/uploads/2023/03/ChancelChoirforWeb.jpg
END:VEVENT
BEGIN:VEVENT
DTSTART;TZID=America/New_York:20260226T183000
DTEND;TZID=America/New_York:20260226T200000
DTSTAMP:20260424T124015
CREATED:20250821T193342Z
LAST-MODIFIED:20260417T161411Z
UID:10007007-1772130600-1772136000@christcovcincy.org
SUMMARY:Choir Rehearsal
DESCRIPTION:
URL:https://christcovcincy.org/event/choir-rehearsal-21/2026-02-26/
LOCATION:Christ Covenant Church\, 2191 Struble Rd\, Cincinnati\, 45231\, United States
ATTACH;FMTTYPE=image/jpeg:https://christcovcincy.org/wp-content/uploads/2023/03/ChancelChoirforWeb.jpg
END:VEVENT
BEGIN:VEVENT
DTSTART;TZID=America/New_York:20260225T083000
DTEND;TZID=America/New_York:20260225T170000
DTSTAMP:20260424T124015
CREATED:20250723T174657Z
LAST-MODIFIED:20250723T174657Z
UID:10006894-1772008200-1772038800@christcovcincy.org
SUMMARY:CAFE Coop
DESCRIPTION:
URL:https://christcovcincy.org/event/cafe-coop-4/2026-02-25/
LOCATION:Christ Covenant Church\, 2191 Struble Rd\, Cincinnati\, 45231\, United States
ATTACH;FMTTYPE=image/jpeg:https://christcovcincy.org/wp-content/uploads/2024/09/CafeCoop.jpg
END:VEVENT
BEGIN:VEVENT
DTSTART;TZID=America/New_York:20260224T114500
DTEND;TZID=America/New_York:20260224T170000
DTSTAMP:20260424T124015
CREATED:20250416T153209Z
LAST-MODIFIED:20250723T132052Z
UID:10006860-1771933500-1771952400@christcovcincy.org
SUMMARY:Private Event
DESCRIPTION:Speech and Debate Club
URL:https://christcovcincy.org/event/private-event-96/2026-02-24/
LOCATION:Christ Covenant Church\, 2191 Struble Rd\, Cincinnati\, 45231\, United States
CATEGORIES:private event
ATTACH;FMTTYPE=image/jpeg:https://christcovcincy.org/wp-content/uploads/2023/06/privateeventcalendar.jpg
END:VEVENT
BEGIN:VEVENT
DTSTART;TZID=America/New_York:20260222T114500
DTEND;TZID=America/New_York:20260222T131500
DTSTAMP:20260424T124015
CREATED:20260211T171810Z
LAST-MODIFIED:20260211T171810Z
UID:10007481-1771760700-1771766100@christcovcincy.org
SUMMARY:Covenant Ringers
DESCRIPTION:Covenant Ringers will rehearse in Room 106 immediately following the worship service
URL:https://christcovcincy.org/event/covenant-ringers/2026-02-22/
LOCATION:Christ Covenant Church\, 2191 Struble Rd\, Cincinnati\, 45231\, United States
ATTACH;FMTTYPE=image/png:https://christcovcincy.org/wp-content/uploads/2026/02/handbells2.png
END:VEVENT
BEGIN:VEVENT
DTSTART;TZID=America/New_York:20260222T114500
DTEND;TZID=America/New_York:20260222T123000
DTSTAMP:20260424T124015
CREATED:20260219T155049Z
LAST-MODIFIED:20260219T155049Z
UID:10007490-1771760700-1771763400@christcovcincy.org
SUMMARY:Joyful Noise Rehearsal
DESCRIPTION:All children ages 6-12 are invited to sing in our Children’s Choir on Palm Sunday & Easter.  Meet in room 102 immediately following the worship service.
URL:https://christcovcincy.org/event/joyful-noise-rehearsal/2026-02-22/
LOCATION:Christ Covenant Church\, 2191 Struble Rd\, Cincinnati\, 45231\, United States
CATEGORIES:Children's Ministry
ATTACH;FMTTYPE=image/jpeg:https://christcovcincy.org/wp-content/uploads/2026/02/childrenschoirsquare-e1771516205271.jpg
END:VEVENT
BEGIN:VEVENT
DTSTART;TZID=UTC:20260222T103000
DTEND;TZID=UTC:20260222T233000
DTSTAMP:20260424T124015
CREATED:20220714T235224Z
LAST-MODIFIED:20260327T170225Z
UID:10004278-1771756200-1771803000@christcovcincy.org
SUMMARY:Sunday Service @ 10:30am
DESCRIPTION:Join us for Worship! 10:30 am
URL:https://christcovcincy.org/event/sunday-service-1030am/2026-02-22/
LOCATION:Christ Covenant Church\, 2191 Struble Rd\, Cincinnati\, 45231\, United States
ATTACH;FMTTYPE=image/jpeg:https://christcovcincy.org/wp-content/uploads/2023/02/SundayService.jpg
END:VEVENT
BEGIN:VEVENT
DTSTART;TZID=America/New_York:20260222T091500
DTEND;TZID=America/New_York:20260222T101500
DTSTAMP:20260424T124015
CREATED:20250724T173447Z
LAST-MODIFIED:20260128T190345Z
UID:10006948-1771751700-1771755300@christcovcincy.org
SUMMARY:Sunday School Classes
DESCRIPTION:Nursery Care is available for ages 3 and under. \nChildren’s classes for Preschool (ages 4-5) in Room 105\, for grades 1 & 2 in Room 102\, for grades 3 & 4 in Room 104\, for grades 5 & 6 in Room 108. \nJunior High class for grades 7 & 8 in Room 106. \nHigh School class for grades 9 & 10 in the modular building. \nAdult Sunday School for HS grades 11 & 12 and adults in Fellowship Hall.
URL:https://christcovcincy.org/event/sunday-school-classes-7/2026-02-22/
LOCATION:Christ Covenant Church\, 2191 Struble Rd\, Cincinnati\, 45231\, United States
CATEGORIES:Children's Ministry,Sunday School,Youth Ministry
ATTACH;FMTTYPE=image/jpeg:https://christcovcincy.org/wp-content/uploads/2023/01/SundaySchoolGeneral.jpg
END:VEVENT
BEGIN:VEVENT
DTSTART;TZID=America/New_York:20260219T183000
DTEND;TZID=America/New_York:20260219T200000
DTSTAMP:20260424T124015
CREATED:20250821T193342Z
LAST-MODIFIED:20260417T161411Z
UID:10007006-1771525800-1771531200@christcovcincy.org
SUMMARY:Choir Rehearsal
DESCRIPTION:
URL:https://christcovcincy.org/event/choir-rehearsal-21/2026-02-19/
LOCATION:Christ Covenant Church\, 2191 Struble Rd\, Cincinnati\, 45231\, United States
ATTACH;FMTTYPE=image/jpeg:https://christcovcincy.org/wp-content/uploads/2023/03/ChancelChoirforWeb.jpg
END:VEVENT
BEGIN:VEVENT
DTSTART;TZID=America/Halifax:20260218T190000
DTEND;TZID=America/Halifax:20260218T200000
DTSTAMP:20260424T124015
CREATED:20260212T142127Z
LAST-MODIFIED:20260213T153400Z
UID:10007488-1771441200-1771444800@christcovcincy.org
SUMMARY:Ash Wednesday Service
DESCRIPTION:
URL:https://christcovcincy.org/event/ash-wednesday-service-4/
LOCATION:Christ Covenant Church\, 2191 Struble Rd\, Cincinnati\, 45231\, United States
ATTACH;FMTTYPE=image/jpeg:https://christcovcincy.org/wp-content/uploads/2026/02/Lent-2026-Ash-Wednesday-Slide-1.jpg
END:VEVENT
BEGIN:VEVENT
DTSTART;TZID=America/New_York:20260218T083000
DTEND;TZID=America/New_York:20260218T170000
DTSTAMP:20260424T124015
CREATED:20250723T174657Z
LAST-MODIFIED:20250723T174657Z
UID:10006893-1771403400-1771434000@christcovcincy.org
SUMMARY:CAFE Coop
DESCRIPTION:
URL:https://christcovcincy.org/event/cafe-coop-4/2026-02-18/
LOCATION:Christ Covenant Church\, 2191 Struble Rd\, Cincinnati\, 45231\, United States
ATTACH;FMTTYPE=image/jpeg:https://christcovcincy.org/wp-content/uploads/2024/09/CafeCoop.jpg
END:VEVENT
BEGIN:VEVENT
DTSTART;TZID=America/New_York:20260217T114500
DTEND;TZID=America/New_York:20260217T170000
DTSTAMP:20260424T124015
CREATED:20250416T153209Z
LAST-MODIFIED:20250723T132052Z
UID:10006859-1771328700-1771347600@christcovcincy.org
SUMMARY:Private Event
DESCRIPTION:Speech and Debate Club
URL:https://christcovcincy.org/event/private-event-96/2026-02-17/
LOCATION:Christ Covenant Church\, 2191 Struble Rd\, Cincinnati\, 45231\, United States
CATEGORIES:private event
ATTACH;FMTTYPE=image/jpeg:https://christcovcincy.org/wp-content/uploads/2023/06/privateeventcalendar.jpg
END:VEVENT
BEGIN:VEVENT
DTSTART;TZID=America/New_York:20260215T114500
DTEND;TZID=America/New_York:20260215T131500
DTSTAMP:20260424T124015
CREATED:20260211T171810Z
LAST-MODIFIED:20260211T171810Z
UID:10007480-1771155900-1771161300@christcovcincy.org
SUMMARY:Covenant Ringers
DESCRIPTION:Covenant Ringers will rehearse in Room 106 immediately following the worship service
URL:https://christcovcincy.org/event/covenant-ringers/2026-02-15/
LOCATION:Christ Covenant Church\, 2191 Struble Rd\, Cincinnati\, 45231\, United States
ATTACH;FMTTYPE=image/png:https://christcovcincy.org/wp-content/uploads/2026/02/handbells2.png
END:VEVENT
BEGIN:VEVENT
DTSTART;TZID=UTC:20260215T103000
DTEND;TZID=UTC:20260215T233000
DTSTAMP:20260424T124015
CREATED:20220714T235224Z
LAST-MODIFIED:20260327T170225Z
UID:10004277-1771151400-1771198200@christcovcincy.org
SUMMARY:Sunday Service @ 10:30am
DESCRIPTION:Join us for Worship! 10:30 am
URL:https://christcovcincy.org/event/sunday-service-1030am/2026-02-15/
LOCATION:Christ Covenant Church\, 2191 Struble Rd\, Cincinnati\, 45231\, United States
ATTACH;FMTTYPE=image/jpeg:https://christcovcincy.org/wp-content/uploads/2023/02/SundayService.jpg
END:VEVENT
BEGIN:VEVENT
DTSTART;TZID=America/New_York:20260215T091500
DTEND;TZID=America/New_York:20260215T101500
DTSTAMP:20260424T124015
CREATED:20250724T173447Z
LAST-MODIFIED:20260128T190345Z
UID:10006947-1771146900-1771150500@christcovcincy.org
SUMMARY:Sunday School Classes
DESCRIPTION:Nursery Care is available for ages 3 and under. \nChildren’s classes for Preschool (ages 4-5) in Room 105\, for grades 1 & 2 in Room 102\, for grades 3 & 4 in Room 104\, for grades 5 & 6 in Room 108. \nJunior High class for grades 7 & 8 in Room 106. \nHigh School class for grades 9 & 10 in the modular building. \nAdult Sunday School for HS grades 11 & 12 and adults in Fellowship Hall.
URL:https://christcovcincy.org/event/sunday-school-classes-7/2026-02-15/
LOCATION:Christ Covenant Church\, 2191 Struble Rd\, Cincinnati\, 45231\, United States
CATEGORIES:Children's Ministry,Sunday School,Youth Ministry
ATTACH;FMTTYPE=image/jpeg:https://christcovcincy.org/wp-content/uploads/2023/01/SundaySchoolGeneral.jpg
END:VEVENT
BEGIN:VEVENT
DTSTART;TZID=America/New_York:20260212T183000
DTEND;TZID=America/New_York:20260212T200000
DTSTAMP:20260424T124015
CREATED:20250821T193342Z
LAST-MODIFIED:20260417T161411Z
UID:10007005-1770921000-1770926400@christcovcincy.org
SUMMARY:Choir Rehearsal
DESCRIPTION:
URL:https://christcovcincy.org/event/choir-rehearsal-21/2026-02-12/
LOCATION:Christ Covenant Church\, 2191 Struble Rd\, Cincinnati\, 45231\, United States
ATTACH;FMTTYPE=image/jpeg:https://christcovcincy.org/wp-content/uploads/2023/03/ChancelChoirforWeb.jpg
END:VEVENT
BEGIN:VEVENT
DTSTART;TZID=America/New_York:20260211T083000
DTEND;TZID=America/New_York:20260211T170000
DTSTAMP:20260424T124015
CREATED:20250723T174657Z
LAST-MODIFIED:20250723T174657Z
UID:10006892-1770798600-1770829200@christcovcincy.org
SUMMARY:CAFE Coop
DESCRIPTION:
URL:https://christcovcincy.org/event/cafe-coop-4/2026-02-11/
LOCATION:Christ Covenant Church\, 2191 Struble Rd\, Cincinnati\, 45231\, United States
ATTACH;FMTTYPE=image/jpeg:https://christcovcincy.org/wp-content/uploads/2024/09/CafeCoop.jpg
END:VEVENT
BEGIN:VEVENT
DTSTART;TZID=America/New_York:20260210T114500
DTEND;TZID=America/New_York:20260210T170000
DTSTAMP:20260424T124015
CREATED:20250416T153209Z
LAST-MODIFIED:20250723T132052Z
UID:10006858-1770723900-1770742800@christcovcincy.org
SUMMARY:Private Event
DESCRIPTION:Speech and Debate Club
URL:https://christcovcincy.org/event/private-event-96/2026-02-10/
LOCATION:Christ Covenant Church\, 2191 Struble Rd\, Cincinnati\, 45231\, United States
CATEGORIES:private event
ATTACH;FMTTYPE=image/jpeg:https://christcovcincy.org/wp-content/uploads/2023/06/privateeventcalendar.jpg
END:VEVENT
BEGIN:VEVENT
DTSTART;TZID=UTC:20260208T103000
DTEND;TZID=UTC:20260208T233000
DTSTAMP:20260424T124015
CREATED:20220714T235224Z
LAST-MODIFIED:20260327T170225Z
UID:10004276-1770546600-1770593400@christcovcincy.org
SUMMARY:Sunday Service @ 10:30am
DESCRIPTION:Join us for Worship! 10:30 am
URL:https://christcovcincy.org/event/sunday-service-1030am/2026-02-08/
LOCATION:Christ Covenant Church\, 2191 Struble Rd\, Cincinnati\, 45231\, United States
ATTACH;FMTTYPE=image/jpeg:https://christcovcincy.org/wp-content/uploads/2023/02/SundayService.jpg
END:VEVENT
BEGIN:VEVENT
DTSTART;TZID=America/New_York:20260208T091500
DTEND;TZID=America/New_York:20260208T101500
DTSTAMP:20260424T124015
CREATED:20250724T173447Z
LAST-MODIFIED:20260128T190345Z
UID:10006946-1770542100-1770545700@christcovcincy.org
SUMMARY:Sunday School Classes
DESCRIPTION:Nursery Care is available for ages 3 and under. \nChildren’s classes for Preschool (ages 4-5) in Room 105\, for grades 1 & 2 in Room 102\, for grades 3 & 4 in Room 104\, for grades 5 & 6 in Room 108. \nJunior High class for grades 7 & 8 in Room 106. \nHigh School class for grades 9 & 10 in the modular building. \nAdult Sunday School for HS grades 11 & 12 and adults in Fellowship Hall.
URL:https://christcovcincy.org/event/sunday-school-classes-7/2026-02-08/
LOCATION:Christ Covenant Church\, 2191 Struble Rd\, Cincinnati\, 45231\, United States
CATEGORIES:Children's Ministry,Sunday School,Youth Ministry
ATTACH;FMTTYPE=image/jpeg:https://christcovcincy.org/wp-content/uploads/2023/01/SundaySchoolGeneral.jpg
END:VEVENT
BEGIN:VEVENT
DTSTART;TZID=America/New_York:20260206T103000
DTEND;TZID=America/New_York:20260207T120000
DTSTAMP:20260424T124015
CREATED:20250409T183749Z
LAST-MODIFIED:20250409T183749Z
UID:10005813-1770373800-1770465600@christcovcincy.org
SUMMARY:Midwest Presbytery Meeting
DESCRIPTION:Our church is hosting the Midwest Presbytery Meeting! \nFriday – 10:30 setup\, 10:30 early arrivals/committee meetings; 11:30-12:45 registration; 1:00 meeting begins; 5:30 dinner\, followed by worship \nSaturday – 7:30 snacks\, juice\, coffee; 8:30 worship; 9:00 meeting (ending around noon)
URL:https://christcovcincy.org/event/midwest-presbytery-meeting/
LOCATION:Christ Covenant Church\, 2191 Struble Rd\, Cincinnati\, 45231\, United States
END:VEVENT
BEGIN:VEVENT
DTSTART;TZID=America/New_York:20260205T183000
DTEND;TZID=America/New_York:20260205T200000
DTSTAMP:20260424T124015
CREATED:20250821T193342Z
LAST-MODIFIED:20260417T161411Z
UID:10007004-1770316200-1770321600@christcovcincy.org
SUMMARY:Choir Rehearsal
DESCRIPTION:
URL:https://christcovcincy.org/event/choir-rehearsal-21/2026-02-05/
LOCATION:Christ Covenant Church\, 2191 Struble Rd\, Cincinnati\, 45231\, United States
ATTACH;FMTTYPE=image/jpeg:https://christcovcincy.org/wp-content/uploads/2023/03/ChancelChoirforWeb.jpg
END:VEVENT
BEGIN:VEVENT
DTSTART;TZID=America/New_York:20260204T083000
DTEND;TZID=America/New_York:20260204T170000
DTSTAMP:20260424T124015
CREATED:20250723T174657Z
LAST-MODIFIED:20250723T174657Z
UID:10006891-1770193800-1770224400@christcovcincy.org
SUMMARY:CAFE Coop
DESCRIPTION:
URL:https://christcovcincy.org/event/cafe-coop-4/2026-02-04/
LOCATION:Christ Covenant Church\, 2191 Struble Rd\, Cincinnati\, 45231\, United States
ATTACH;FMTTYPE=image/jpeg:https://christcovcincy.org/wp-content/uploads/2024/09/CafeCoop.jpg
END:VEVENT
BEGIN:VEVENT
DTSTART;TZID=America/New_York:20260203T114500
DTEND;TZID=America/New_York:20260203T170000
DTSTAMP:20260424T124015
CREATED:20250416T153209Z
LAST-MODIFIED:20250723T132052Z
UID:10006857-1770119100-1770138000@christcovcincy.org
SUMMARY:Private Event
DESCRIPTION:Speech and Debate Club
URL:https://christcovcincy.org/event/private-event-96/2026-02-03/
LOCATION:Christ Covenant Church\, 2191 Struble Rd\, Cincinnati\, 45231\, United States
CATEGORIES:private event
ATTACH;FMTTYPE=image/jpeg:https://christcovcincy.org/wp-content/uploads/2023/06/privateeventcalendar.jpg
END:VEVENT
BEGIN:VEVENT
DTSTART;TZID=UTC:20260201T103000
DTEND;TZID=UTC:20260201T233000
DTSTAMP:20260424T124015
CREATED:20220714T235224Z
LAST-MODIFIED:20260327T170225Z
UID:10004275-1769941800-1769988600@christcovcincy.org
SUMMARY:Sunday Service @ 10:30am
DESCRIPTION:Join us for Worship! 10:30 am
URL:https://christcovcincy.org/event/sunday-service-1030am/2026-02-01/
LOCATION:Christ Covenant Church\, 2191 Struble Rd\, Cincinnati\, 45231\, United States
ATTACH;FMTTYPE=image/jpeg:https://christcovcincy.org/wp-content/uploads/2023/02/SundayService.jpg
END:VEVENT
BEGIN:VEVENT
DTSTART;TZID=America/New_York:20260201T091500
DTEND;TZID=America/New_York:20260201T101500
DTSTAMP:20260424T124015
CREATED:20250724T173447Z
LAST-MODIFIED:20260128T190345Z
UID:10006945-1769937300-1769940900@christcovcincy.org
SUMMARY:Sunday School Classes
DESCRIPTION:Nursery Care is available for ages 3 and under. \nChildren’s classes for Preschool (ages 4-5) in Room 105\, for grades 1 & 2 in Room 102\, for grades 3 & 4 in Room 104\, for grades 5 & 6 in Room 108. \nJunior High class for grades 7 & 8 in Room 106. \nHigh School class for grades 9 & 10 in the modular building. \nAdult Sunday School for HS grades 11 & 12 and adults in Fellowship Hall.
URL:https://christcovcincy.org/event/sunday-school-classes-7/2026-02-01/
LOCATION:Christ Covenant Church\, 2191 Struble Rd\, Cincinnati\, 45231\, United States
CATEGORIES:Children's Ministry,Sunday School,Youth Ministry
ATTACH;FMTTYPE=image/jpeg:https://christcovcincy.org/wp-content/uploads/2023/01/SundaySchoolGeneral.jpg
END:VEVENT
BEGIN:VEVENT
DTSTART;TZID=America/New_York:20260131T110000
DTEND;TZID=America/New_York:20260131T150000
DTSTAMP:20260424T124015
CREATED:20260114T155946Z
LAST-MODIFIED:20260114T161006Z
UID:10007427-1769857200-1769871600@christcovcincy.org
SUMMARY:M Detroy Visitation\, Memorial Service and Luncheon
DESCRIPTION:11:00am – Visitation in the sanctuary;\nnoon – Memorial Service in the sanctuary;\nLuncheon following service in fellowship hall
URL:https://christcovcincy.org/event/m-detroy-visitation-memorial-service-and-luncheon/
LOCATION:Christ Covenant Church\, 2191 Struble Rd\, Cincinnati\, 45231\, United States
ATTACH;FMTTYPE=image/jpeg:https://christcovcincy.org/wp-content/uploads/2023/10/funeralbulletinwebsite.jpg
END:VEVENT
BEGIN:VEVENT
DTSTART;TZID=America/New_York:20260129T183000
DTEND;TZID=America/New_York:20260129T200000
DTSTAMP:20260424T124015
CREATED:20250821T193342Z
LAST-MODIFIED:20260417T161411Z
UID:10007003-1769711400-1769716800@christcovcincy.org
SUMMARY:Choir Rehearsal
DESCRIPTION:
URL:https://christcovcincy.org/event/choir-rehearsal-21/2026-01-29/
LOCATION:Christ Covenant Church\, 2191 Struble Rd\, Cincinnati\, 45231\, United States
ATTACH;FMTTYPE=image/jpeg:https://christcovcincy.org/wp-content/uploads/2023/03/ChancelChoirforWeb.jpg
END:VEVENT
BEGIN:VEVENT
DTSTART;TZID=America/New_York:20260128T083000
DTEND;TZID=America/New_York:20260128T170000
DTSTAMP:20260424T124015
CREATED:20250723T174657Z
LAST-MODIFIED:20250723T174657Z
UID:10006890-1769589000-1769619600@christcovcincy.org
SUMMARY:CAFE Coop
DESCRIPTION:
URL:https://christcovcincy.org/event/cafe-coop-4/2026-01-28/
LOCATION:Christ Covenant Church\, 2191 Struble Rd\, Cincinnati\, 45231\, United States
ATTACH;FMTTYPE=image/jpeg:https://christcovcincy.org/wp-content/uploads/2024/09/CafeCoop.jpg
END:VEVENT
END:VCALENDAR