BEGIN:VCALENDAR
VERSION:2.0
PRODID:-//Christ Covenant Church - ECPv6.15.20//NONSGML v1.0//EN
CALSCALE:GREGORIAN
METHOD:PUBLISH
X-WR-CALNAME:Christ Covenant Church
X-ORIGINAL-URL:https://christcovcincy.org
X-WR-CALDESC:Events for Christ Covenant Church
REFRESH-INTERVAL;VALUE=DURATION:PT1H
X-Robots-Tag:noindex
X-PUBLISHED-TTL:PT1H
BEGIN:VTIMEZONE
TZID:UTC
BEGIN:STANDARD
TZOFFSETFROM:+0000
TZOFFSETTO:+0000
TZNAME:UTC
DTSTART:20240101T000000
END:STANDARD
END:VTIMEZONE
BEGIN:VTIMEZONE
TZID:America/New_York
BEGIN:DAYLIGHT
TZOFFSETFROM:-0500
TZOFFSETTO:-0400
TZNAME:EDT
DTSTART:20240310T070000
END:DAYLIGHT
BEGIN:STANDARD
TZOFFSETFROM:-0400
TZOFFSETTO:-0500
TZNAME:EST
DTSTART:20241103T060000
END:STANDARD
BEGIN:DAYLIGHT
TZOFFSETFROM:-0500
TZOFFSETTO:-0400
TZNAME:EDT
DTSTART:20250309T070000
END:DAYLIGHT
BEGIN:STANDARD
TZOFFSETFROM:-0400
TZOFFSETTO:-0500
TZNAME:EST
DTSTART:20251102T060000
END:STANDARD
BEGIN:DAYLIGHT
TZOFFSETFROM:-0500
TZOFFSETTO:-0400
TZNAME:EDT
DTSTART:20260308T070000
END:DAYLIGHT
BEGIN:STANDARD
TZOFFSETFROM:-0400
TZOFFSETTO:-0500
TZNAME:EST
DTSTART:20261101T060000
END:STANDARD
BEGIN:DAYLIGHT
TZOFFSETFROM:-0500
TZOFFSETTO:-0400
TZNAME:EDT
DTSTART:20270314T070000
END:DAYLIGHT
BEGIN:STANDARD
TZOFFSETFROM:-0400
TZOFFSETTO:-0500
TZNAME:EST
DTSTART:20271107T060000
END:STANDARD
END:VTIMEZONE
BEGIN:VTIMEZONE
TZID:America/Halifax
BEGIN:DAYLIGHT
TZOFFSETFROM:-0400
TZOFFSETTO:-0300
TZNAME:ADT
DTSTART:20240310T060000
END:DAYLIGHT
BEGIN:STANDARD
TZOFFSETFROM:-0300
TZOFFSETTO:-0400
TZNAME:AST
DTSTART:20241103T050000
END:STANDARD
BEGIN:DAYLIGHT
TZOFFSETFROM:-0400
TZOFFSETTO:-0300
TZNAME:ADT
DTSTART:20250309T060000
END:DAYLIGHT
BEGIN:STANDARD
TZOFFSETFROM:-0300
TZOFFSETTO:-0400
TZNAME:AST
DTSTART:20251102T050000
END:STANDARD
BEGIN:DAYLIGHT
TZOFFSETFROM:-0400
TZOFFSETTO:-0300
TZNAME:ADT
DTSTART:20260308T060000
END:DAYLIGHT
BEGIN:STANDARD
TZOFFSETFROM:-0300
TZOFFSETTO:-0400
TZNAME:AST
DTSTART:20261101T050000
END:STANDARD
END:VTIMEZONE
BEGIN:VEVENT
DTSTART;TZID=UTC:20260118T103000
DTEND;TZID=UTC:20260118T233000
DTSTAMP:20260424T181921
CREATED:20220714T235224Z
LAST-MODIFIED:20260327T170225Z
UID:10004273-1768732200-1768779000@christcovcincy.org
SUMMARY:Sunday Service @ 10:30am
DESCRIPTION:Join us for Worship! 10:30 am
URL:https://christcovcincy.org/event/sunday-service-1030am/2026-01-18/
LOCATION:Christ Covenant Church\, 2191 Struble Rd\, Cincinnati\, 45231\, United States
ATTACH;FMTTYPE=image/jpeg:https://christcovcincy.org/wp-content/uploads/2023/02/SundayService.jpg
END:VEVENT
BEGIN:VEVENT
DTSTART;TZID=America/New_York:20260118T091500
DTEND;TZID=America/New_York:20260118T101500
DTSTAMP:20260424T181921
CREATED:20250724T173447Z
LAST-MODIFIED:20260128T190345Z
UID:10006943-1768727700-1768731300@christcovcincy.org
SUMMARY:Sunday School Classes
DESCRIPTION:Nursery Care is available for ages 3 and under. \nChildren’s classes for Preschool (ages 4-5) in Room 105\, for grades 1 & 2 in Room 102\, for grades 3 & 4 in Room 104\, for grades 5 & 6 in Room 108. \nJunior High class for grades 7 & 8 in Room 106. \nHigh School class for grades 9 & 10 in the modular building. \nAdult Sunday School for HS grades 11 & 12 and adults in Fellowship Hall.
URL:https://christcovcincy.org/event/sunday-school-classes-7/2026-01-18/
LOCATION:Christ Covenant Church\, 2191 Struble Rd\, Cincinnati\, 45231\, United States
CATEGORIES:Children's Ministry,Sunday School,Youth Ministry
ATTACH;FMTTYPE=image/jpeg:https://christcovcincy.org/wp-content/uploads/2023/01/SundaySchoolGeneral.jpg
END:VEVENT
BEGIN:VEVENT
DTSTART;TZID=America/New_York:20260115T183000
DTEND;TZID=America/New_York:20260115T200000
DTSTAMP:20260424T181921
CREATED:20250821T193342Z
LAST-MODIFIED:20260417T161411Z
UID:10007001-1768501800-1768507200@christcovcincy.org
SUMMARY:Choir Rehearsal
DESCRIPTION:
URL:https://christcovcincy.org/event/choir-rehearsal-21/2026-01-15/
LOCATION:Christ Covenant Church\, 2191 Struble Rd\, Cincinnati\, 45231\, United States
ATTACH;FMTTYPE=image/jpeg:https://christcovcincy.org/wp-content/uploads/2023/03/ChancelChoirforWeb.jpg
END:VEVENT
BEGIN:VEVENT
DTSTART;TZID=America/New_York:20260115T130000
DTEND;TZID=America/New_York:20260115T153000
DTSTAMP:20260424T181921
CREATED:20260108T173816Z
LAST-MODIFIED:20260108T173911Z
UID:10007425-1768482000-1768491000@christcovcincy.org
SUMMARY:B Wainscott Memorial Service & Luncheon
DESCRIPTION:1:00pm – Memorial Service in the sanctuary;\n2:00pm – Luncheon in fellowship hall
URL:https://christcovcincy.org/event/b-wainscott-memorial-service-luncheon/
LOCATION:Christ Covenant Church\, 2191 Struble Rd\, Cincinnati\, 45231\, United States
ATTACH;FMTTYPE=image/jpeg:https://christcovcincy.org/wp-content/uploads/2023/10/funeralbulletinwebsite.jpg
END:VEVENT
BEGIN:VEVENT
DTSTART;TZID=America/New_York:20260114T083000
DTEND;TZID=America/New_York:20260114T170000
DTSTAMP:20260424T181921
CREATED:20250723T174657Z
LAST-MODIFIED:20250723T174657Z
UID:10006888-1768379400-1768410000@christcovcincy.org
SUMMARY:CAFE Coop
DESCRIPTION:
URL:https://christcovcincy.org/event/cafe-coop-4/2026-01-14/
LOCATION:Christ Covenant Church\, 2191 Struble Rd\, Cincinnati\, 45231\, United States
ATTACH;FMTTYPE=image/jpeg:https://christcovcincy.org/wp-content/uploads/2024/09/CafeCoop.jpg
END:VEVENT
BEGIN:VEVENT
DTSTART;TZID=America/New_York:20260113T114500
DTEND;TZID=America/New_York:20260113T170000
DTSTAMP:20260424T181921
CREATED:20250416T153209Z
LAST-MODIFIED:20250723T132052Z
UID:10006854-1768304700-1768323600@christcovcincy.org
SUMMARY:Private Event
DESCRIPTION:Speech and Debate Club
URL:https://christcovcincy.org/event/private-event-96/2026-01-13/
LOCATION:Christ Covenant Church\, 2191 Struble Rd\, Cincinnati\, 45231\, United States
CATEGORIES:private event
ATTACH;FMTTYPE=image/jpeg:https://christcovcincy.org/wp-content/uploads/2023/06/privateeventcalendar.jpg
END:VEVENT
BEGIN:VEVENT
DTSTART;TZID=America/New_York:20260111T114500
DTEND;TZID=America/New_York:20260111T130000
DTSTAMP:20260424T181921
CREATED:20251231T185005Z
LAST-MODIFIED:20251231T185005Z
UID:10007413-1768131900-1768136400@christcovcincy.org
SUMMARY:Handbell Introductory Workshop
DESCRIPTION:Interested persons with the ability to read music are invited to stop by Room 106 following the worship service to check out our new handbells. The Covenant Ringers need additional players. See Church Life for more information.
URL:https://christcovcincy.org/event/handbell-introductory-workshop/
LOCATION:Christ Covenant Church\, 2191 Struble Rd\, Cincinnati\, 45231\, United States
END:VEVENT
BEGIN:VEVENT
DTSTART;TZID=UTC:20260111T103000
DTEND;TZID=UTC:20260111T233000
DTSTAMP:20260424T181921
CREATED:20220714T235224Z
LAST-MODIFIED:20260327T170225Z
UID:10004272-1768127400-1768174200@christcovcincy.org
SUMMARY:Sunday Service @ 10:30am
DESCRIPTION:Join us for Worship! 10:30 am
URL:https://christcovcincy.org/event/sunday-service-1030am/2026-01-11/
LOCATION:Christ Covenant Church\, 2191 Struble Rd\, Cincinnati\, 45231\, United States
ATTACH;FMTTYPE=image/jpeg:https://christcovcincy.org/wp-content/uploads/2023/02/SundayService.jpg
END:VEVENT
BEGIN:VEVENT
DTSTART;TZID=America/New_York:20260111T091500
DTEND;TZID=America/New_York:20260111T101500
DTSTAMP:20260424T181921
CREATED:20250724T173447Z
LAST-MODIFIED:20260128T190345Z
UID:10006942-1768122900-1768126500@christcovcincy.org
SUMMARY:Sunday School Classes
DESCRIPTION:Nursery Care is available for ages 3 and under. \nChildren’s classes for Preschool (ages 4-5) in Room 105\, for grades 1 & 2 in Room 102\, for grades 3 & 4 in Room 104\, for grades 5 & 6 in Room 108. \nJunior High class for grades 7 & 8 in Room 106. \nHigh School class for grades 9 & 10 in the modular building. \nAdult Sunday School for HS grades 11 & 12 and adults in Fellowship Hall.
URL:https://christcovcincy.org/event/sunday-school-classes-7/2026-01-11/
LOCATION:Christ Covenant Church\, 2191 Struble Rd\, Cincinnati\, 45231\, United States
CATEGORIES:Children's Ministry,Sunday School,Youth Ministry
ATTACH;FMTTYPE=image/jpeg:https://christcovcincy.org/wp-content/uploads/2023/01/SundaySchoolGeneral.jpg
END:VEVENT
BEGIN:VEVENT
DTSTART;TZID=America/New_York:20260107T083000
DTEND;TZID=America/New_York:20260107T170000
DTSTAMP:20260424T181921
CREATED:20250723T174657Z
LAST-MODIFIED:20250723T174657Z
UID:10006887-1767774600-1767805200@christcovcincy.org
SUMMARY:CAFE Coop
DESCRIPTION:
URL:https://christcovcincy.org/event/cafe-coop-4/2026-01-07/
LOCATION:Christ Covenant Church\, 2191 Struble Rd\, Cincinnati\, 45231\, United States
ATTACH;FMTTYPE=image/jpeg:https://christcovcincy.org/wp-content/uploads/2024/09/CafeCoop.jpg
END:VEVENT
BEGIN:VEVENT
DTSTART;TZID=America/New_York:20260106T114500
DTEND;TZID=America/New_York:20260106T170000
DTSTAMP:20260424T181921
CREATED:20250416T153209Z
LAST-MODIFIED:20250723T132052Z
UID:10006853-1767699900-1767718800@christcovcincy.org
SUMMARY:Private Event
DESCRIPTION:Speech and Debate Club
URL:https://christcovcincy.org/event/private-event-96/2026-01-06/
LOCATION:Christ Covenant Church\, 2191 Struble Rd\, Cincinnati\, 45231\, United States
CATEGORIES:private event
ATTACH;FMTTYPE=image/jpeg:https://christcovcincy.org/wp-content/uploads/2023/06/privateeventcalendar.jpg
END:VEVENT
BEGIN:VEVENT
DTSTART;TZID=America/New_York:20260104T130000
DTEND;TZID=America/New_York:20260104T150000
DTSTAMP:20260424T181921
CREATED:20251218T170924Z
LAST-MODIFIED:20251218T170924Z
UID:10007393-1767531600-1767538800@christcovcincy.org
SUMMARY:Private Event
DESCRIPTION:J. Langdon students’ Christmas piano recital (postponed from Dec 14)
URL:https://christcovcincy.org/event/private-event-113/
LOCATION:Christ Covenant Church\, 2191 Struble Rd\, Cincinnati\, 45231\, United States
CATEGORIES:private event
ATTACH;FMTTYPE=image/jpeg:https://christcovcincy.org/wp-content/uploads/2023/06/privateeventcalendar.jpg
END:VEVENT
BEGIN:VEVENT
DTSTART;TZID=UTC:20260104T103000
DTEND;TZID=UTC:20260104T233000
DTSTAMP:20260424T181921
CREATED:20220714T235224Z
LAST-MODIFIED:20260327T170225Z
UID:10004271-1767522600-1767569400@christcovcincy.org
SUMMARY:Sunday Service @ 10:30am
DESCRIPTION:Join us for Worship! 10:30 am
URL:https://christcovcincy.org/event/sunday-service-1030am/2026-01-04/
LOCATION:Christ Covenant Church\, 2191 Struble Rd\, Cincinnati\, 45231\, United States
ATTACH;FMTTYPE=image/jpeg:https://christcovcincy.org/wp-content/uploads/2023/02/SundayService.jpg
END:VEVENT
BEGIN:VEVENT
DTSTART;TZID=America/New_York:20260104T091500
DTEND;TZID=America/New_York:20260104T101500
DTSTAMP:20260424T181921
CREATED:20250724T173447Z
LAST-MODIFIED:20260128T190345Z
UID:10006941-1767518100-1767521700@christcovcincy.org
SUMMARY:Sunday School Classes
DESCRIPTION:Nursery Care is available for ages 3 and under. \nChildren’s classes for Preschool (ages 4-5) in Room 105\, for grades 1 & 2 in Room 102\, for grades 3 & 4 in Room 104\, for grades 5 & 6 in Room 108. \nJunior High class for grades 7 & 8 in Room 106. \nHigh School class for grades 9 & 10 in the modular building. \nAdult Sunday School for HS grades 11 & 12 and adults in Fellowship Hall.
URL:https://christcovcincy.org/event/sunday-school-classes-7/2026-01-04/
LOCATION:Christ Covenant Church\, 2191 Struble Rd\, Cincinnati\, 45231\, United States
CATEGORIES:Children's Ministry,Sunday School,Youth Ministry
ATTACH;FMTTYPE=image/jpeg:https://christcovcincy.org/wp-content/uploads/2023/01/SundaySchoolGeneral.jpg
END:VEVENT
BEGIN:VEVENT
DTSTART;TZID=UTC:20251228T103000
DTEND;TZID=UTC:20251228T233000
DTSTAMP:20260424T181921
CREATED:20220714T235224Z
LAST-MODIFIED:20260327T170225Z
UID:10004270-1766917800-1766964600@christcovcincy.org
SUMMARY:Sunday Service @ 10:30am
DESCRIPTION:Join us for Worship! 10:30 am
URL:https://christcovcincy.org/event/sunday-service-1030am/2025-12-28/
LOCATION:Christ Covenant Church\, 2191 Struble Rd\, Cincinnati\, 45231\, United States
ATTACH;FMTTYPE=image/jpeg:https://christcovcincy.org/wp-content/uploads/2023/02/SundayService.jpg
END:VEVENT
BEGIN:VEVENT
DTSTART;TZID=America/New_York:20251224T190000
DTEND;TZID=America/New_York:20251224T200000
DTSTAMP:20260424T181921
CREATED:20250723T190438Z
LAST-MODIFIED:20251218T163703Z
UID:10006920-1766602800-1766606400@christcovcincy.org
SUMMARY:Christmas Eve Service
DESCRIPTION:
URL:https://christcovcincy.org/event/christmas-eve-service-4/
LOCATION:Christ Covenant Church\, 2191 Struble Rd\, Cincinnati\, 45231\, United States
ATTACH;FMTTYPE=image/jpeg:https://christcovcincy.org/wp-content/uploads/2025/07/ChristmasEve2025Slide.jpg
END:VEVENT
BEGIN:VEVENT
DTSTART;TZID=America/New_York:20251223T150000
DTEND;TZID=America/New_York:20251223T163000
DTSTAMP:20260424T181921
CREATED:20251222T165456Z
LAST-MODIFIED:20251222T170353Z
UID:10007396-1766502000-1766507400@christcovcincy.org
SUMMARY:Christmas Eve Rehearsal
DESCRIPTION:for worship service participants in the sanctuary
URL:https://christcovcincy.org/event/christmas-eve-rehearsal/
LOCATION:Christ Covenant Church\, 2191 Struble Rd\, Cincinnati\, 45231\, United States
END:VEVENT
BEGIN:VEVENT
DTSTART;TZID=America/New_York:20251221T183000
DTEND;TZID=America/New_York:20251221T210000
DTSTAMP:20260424T181921
CREATED:20250723T190222Z
LAST-MODIFIED:20251204T013745Z
UID:10006919-1766341800-1766350800@christcovcincy.org
SUMMARY:Christmas Cantata
DESCRIPTION:Program begins at 6:30pm with a reception following in Fellowship Hall
URL:https://christcovcincy.org/event/christmas-cantata-4/
LOCATION:Christ Covenant Church\, 2191 Struble Rd\, Cincinnati\, 45231\, United States
ATTACH;FMTTYPE=image/jpeg:https://christcovcincy.org/wp-content/uploads/2025/12/BrightestBestwebsite.jpg
END:VEVENT
BEGIN:VEVENT
DTSTART;TZID=America/New_York:20251221T113000
DTEND;TZID=America/New_York:20251221T131500
DTSTAMP:20260424T181921
CREATED:20250918T161916Z
LAST-MODIFIED:20250918T161916Z
UID:10007183-1766316600-1766322900@christcovcincy.org
SUMMARY:Covenant Chimes
DESCRIPTION:Covenant Chimes will rehearse in Room 106 immediately following the worship service
URL:https://christcovcincy.org/event/covenant-chimes/2025-12-21/
LOCATION:Christ Covenant Church\, 2191 Struble Rd\, Cincinnati\, 45231\, United States
ATTACH;FMTTYPE=image/jpeg:https://christcovcincy.org/wp-content/uploads/2023/10/download.jpg
END:VEVENT
BEGIN:VEVENT
DTSTART;TZID=UTC:20251221T103000
DTEND;TZID=UTC:20251221T233000
DTSTAMP:20260424T181921
CREATED:20220714T235224Z
LAST-MODIFIED:20260327T170225Z
UID:10004269-1766313000-1766359800@christcovcincy.org
SUMMARY:Sunday Service @ 10:30am
DESCRIPTION:Join us for Worship! 10:30 am
URL:https://christcovcincy.org/event/sunday-service-1030am/2025-12-21/
LOCATION:Christ Covenant Church\, 2191 Struble Rd\, Cincinnati\, 45231\, United States
ATTACH;FMTTYPE=image/jpeg:https://christcovcincy.org/wp-content/uploads/2023/02/SundayService.jpg
END:VEVENT
BEGIN:VEVENT
DTSTART;TZID=America/New_York:20251221T091500
DTEND;TZID=America/New_York:20251221T101500
DTSTAMP:20260424T181921
CREATED:20250724T173447Z
LAST-MODIFIED:20260128T190345Z
UID:10006940-1766308500-1766312100@christcovcincy.org
SUMMARY:Sunday School Classes
DESCRIPTION:Nursery Care is available for ages 3 and under. \nChildren’s classes for Preschool (ages 4-5) in Room 105\, for grades 1 & 2 in Room 102\, for grades 3 & 4 in Room 104\, for grades 5 & 6 in Room 108. \nJunior High class for grades 7 & 8 in Room 106. \nHigh School class for grades 9 & 10 in the modular building. \nAdult Sunday School for HS grades 11 & 12 and adults in Fellowship Hall.
URL:https://christcovcincy.org/event/sunday-school-classes-7/2025-12-21/
LOCATION:Christ Covenant Church\, 2191 Struble Rd\, Cincinnati\, 45231\, United States
CATEGORIES:Children's Ministry,Sunday School,Youth Ministry
ATTACH;FMTTYPE=image/jpeg:https://christcovcincy.org/wp-content/uploads/2023/01/SundaySchoolGeneral.jpg
END:VEVENT
BEGIN:VEVENT
DTSTART;TZID=America/New_York:20251220T114500
DTEND;TZID=America/New_York:20251220T130000
DTSTAMP:20260424T181921
CREATED:20251218T165703Z
LAST-MODIFIED:20251218T165703Z
UID:10007392-1766231100-1766235600@christcovcincy.org
SUMMARY:Covenant Chimes
DESCRIPTION:Rehearse Cantata piece in Room 106
URL:https://christcovcincy.org/event/covenant-chimes-3/
LOCATION:Christ Covenant Church\, 2191 Struble Rd\, Cincinnati\, 45231\, United States
ATTACH;FMTTYPE=image/jpeg:https://christcovcincy.org/wp-content/uploads/2023/10/download.jpg
END:VEVENT
BEGIN:VEVENT
DTSTART;TZID=America/New_York:20251220T093000
DTEND;TZID=America/New_York:20251220T120000
DTSTAMP:20260424T181921
CREATED:20251112T192121Z
LAST-MODIFIED:20251112T192121Z
UID:10007349-1766223000-1766232000@christcovcincy.org
SUMMARY:Choir Rehearsal
DESCRIPTION:Dress rehearsal for the Cantata
URL:https://christcovcincy.org/event/choir-rehearsal-24/
LOCATION:Christ Covenant Church\, 2191 Struble Rd\, Cincinnati\, 45231\, United States
ATTACH;FMTTYPE=image/jpeg:https://christcovcincy.org/wp-content/uploads/2023/03/ChancelChoirforWeb.jpg
END:VEVENT
BEGIN:VEVENT
DTSTART;TZID=America/New_York:20251218T183000
DTEND;TZID=America/New_York:20251218T200000
DTSTAMP:20260424T181921
CREATED:20250821T193342Z
LAST-MODIFIED:20260417T161411Z
UID:10006997-1766082600-1766088000@christcovcincy.org
SUMMARY:Choir Rehearsal
DESCRIPTION:
URL:https://christcovcincy.org/event/choir-rehearsal-21/2025-12-18/
LOCATION:Christ Covenant Church\, 2191 Struble Rd\, Cincinnati\, 45231\, United States
ATTACH;FMTTYPE=image/jpeg:https://christcovcincy.org/wp-content/uploads/2023/03/ChancelChoirforWeb.jpg
END:VEVENT
BEGIN:VEVENT
DTSTART;TZID=America/Halifax:20251218T090000
DTEND;TZID=America/Halifax:20251218T120000
DTSTAMP:20260424T181921
CREATED:20251218T165459Z
LAST-MODIFIED:20251218T165459Z
UID:10007391-1766048400-1766059200@christcovcincy.org
SUMMARY:Private Event
DESCRIPTION:Sons of the American Revolution presentation
URL:https://christcovcincy.org/event/private-event-112/
LOCATION:Christ Covenant Church\, 2191 Struble Rd\, Cincinnati\, 45231\, United States
CATEGORIES:private event
ATTACH;FMTTYPE=image/jpeg:https://christcovcincy.org/wp-content/uploads/2023/06/privateeventcalendar.jpg
END:VEVENT
BEGIN:VEVENT
DTSTART;TZID=America/New_York:20251214T180000
DTEND;TZID=America/New_York:20251214T193000
DTSTAMP:20260424T181921
CREATED:20251112T192010Z
LAST-MODIFIED:20251120T212228Z
UID:10007360-1765735200-1765740600@christcovcincy.org
SUMMARY:Choir Rehearsal
DESCRIPTION:Sunday afternoon rehearsal for the Cantata
URL:https://christcovcincy.org/event/choir-rehearsal-23/2025-12-14/
LOCATION:Christ Covenant Church\, 2191 Struble Rd\, Cincinnati\, 45231\, United States
ATTACH;FMTTYPE=image/jpeg:https://christcovcincy.org/wp-content/uploads/2023/03/ChancelChoirforWeb.jpg
END:VEVENT
BEGIN:VEVENT
DTSTART;TZID=America/New_York:20251214T130000
DTEND;TZID=America/New_York:20251214T170000
DTSTAMP:20260424T181921
CREATED:20251030T181725Z
LAST-MODIFIED:20251215T233703Z
UID:10007331-1765717200-1765731600@christcovcincy.org
SUMMARY:Private Event
DESCRIPTION:J. Langdon students’ Christmas piano recital – CANCELLED!
URL:https://christcovcincy.org/event/private-event-110/
LOCATION:Christ Covenant Church\, 2191 Struble Rd\, Cincinnati\, 45231\, United States
CATEGORIES:private event
ATTACH;FMTTYPE=image/jpeg:https://christcovcincy.org/wp-content/uploads/2023/06/privateeventcalendar.jpg
END:VEVENT
BEGIN:VEVENT
DTSTART;TZID=America/New_York:20251214T114500
DTEND;TZID=America/New_York:20251214T123000
DTSTAMP:20260424T181921
CREATED:20250925T145140Z
LAST-MODIFIED:20251119T170327Z
UID:10007357-1765712700-1765715400@christcovcincy.org
SUMMARY:Joyful Noise Practice
DESCRIPTION:All children ages 6-12 are invited to sing in our Children’s Choir.  Meet in room 102 immediately following the worship service.
URL:https://christcovcincy.org/event/joyful-noise-practice/2025-12-14/
LOCATION:Christ Covenant Church\, 2191 Struble Rd\, Cincinnati\, 45231\, United States
CATEGORIES:Children's Ministry
ATTACH;FMTTYPE=image/jpeg:https://christcovcincy.org/wp-content/uploads/2025/03/JoyfulNoise-scaled.jpg
END:VEVENT
BEGIN:VEVENT
DTSTART;TZID=America/New_York:20251214T113000
DTEND;TZID=America/New_York:20251214T131500
DTSTAMP:20260424T181921
CREATED:20250918T161916Z
LAST-MODIFIED:20250918T161916Z
UID:10007182-1765711800-1765718100@christcovcincy.org
SUMMARY:Covenant Chimes
DESCRIPTION:Covenant Chimes will rehearse in Room 106 immediately following the worship service
URL:https://christcovcincy.org/event/covenant-chimes/2025-12-14/
LOCATION:Christ Covenant Church\, 2191 Struble Rd\, Cincinnati\, 45231\, United States
ATTACH;FMTTYPE=image/jpeg:https://christcovcincy.org/wp-content/uploads/2023/10/download.jpg
END:VEVENT
BEGIN:VEVENT
DTSTART;TZID=UTC:20251214T103000
DTEND;TZID=UTC:20251214T233000
DTSTAMP:20260424T181921
CREATED:20220714T235224Z
LAST-MODIFIED:20260327T170225Z
UID:10004268-1765708200-1765755000@christcovcincy.org
SUMMARY:Sunday Service @ 10:30am
DESCRIPTION:Join us for Worship! 10:30 am
URL:https://christcovcincy.org/event/sunday-service-1030am/2025-12-14/
LOCATION:Christ Covenant Church\, 2191 Struble Rd\, Cincinnati\, 45231\, United States
ATTACH;FMTTYPE=image/jpeg:https://christcovcincy.org/wp-content/uploads/2023/02/SundayService.jpg
END:VEVENT
END:VCALENDAR