BEGIN:VCALENDAR
VERSION:2.0
PRODID:-//Christ Covenant Church - ECPv6.15.20//NONSGML v1.0//EN
CALSCALE:GREGORIAN
METHOD:PUBLISH
X-ORIGINAL-URL:https://christcovcincy.org
X-WR-CALDESC:Events for Christ Covenant Church
REFRESH-INTERVAL;VALUE=DURATION:PT1H
X-Robots-Tag:noindex
X-PUBLISHED-TTL:PT1H
BEGIN:VTIMEZONE
TZID:UTC
BEGIN:STANDARD
TZOFFSETFROM:+0000
TZOFFSETTO:+0000
TZNAME:UTC
DTSTART:20260101T000000
END:STANDARD
END:VTIMEZONE
BEGIN:VEVENT
DTSTART;TZID=UTC:20270926T103000
DTEND;TZID=UTC:20270926T233000
DTSTAMP:20260424T000725
CREATED:20220714T235224Z
LAST-MODIFIED:20260327T170225Z
UID:10006553-1821954600-1822001400@christcovcincy.org
SUMMARY:Sunday Service @ 10:30am
DESCRIPTION:Join us for Worship! 10:30 am
URL:https://christcovcincy.org/event/sunday-service-1030am/2027-09-26/
LOCATION:Christ Covenant Church\, 2191 Struble Rd\, Cincinnati\, 45231\, United States
ATTACH;FMTTYPE=image/jpeg:https://christcovcincy.org/wp-content/uploads/2023/02/SundayService.jpg
END:VEVENT
BEGIN:VEVENT
DTSTART;TZID=UTC:20271003T103000
DTEND;TZID=UTC:20271003T233000
DTSTAMP:20260424T000725
CREATED:20220714T235224Z
LAST-MODIFIED:20260327T170225Z
UID:10006554-1822559400-1822606200@christcovcincy.org
SUMMARY:Sunday Service @ 10:30am
DESCRIPTION:Join us for Worship! 10:30 am
URL:https://christcovcincy.org/event/sunday-service-1030am/2027-10-03/
LOCATION:Christ Covenant Church\, 2191 Struble Rd\, Cincinnati\, 45231\, United States
ATTACH;FMTTYPE=image/jpeg:https://christcovcincy.org/wp-content/uploads/2023/02/SundayService.jpg
END:VEVENT
BEGIN:VEVENT
DTSTART;TZID=UTC:20271010T103000
DTEND;TZID=UTC:20271010T233000
DTSTAMP:20260424T000725
CREATED:20220714T235224Z
LAST-MODIFIED:20260327T170225Z
UID:10006555-1823164200-1823211000@christcovcincy.org
SUMMARY:Sunday Service @ 10:30am
DESCRIPTION:Join us for Worship! 10:30 am
URL:https://christcovcincy.org/event/sunday-service-1030am/2027-10-10/
LOCATION:Christ Covenant Church\, 2191 Struble Rd\, Cincinnati\, 45231\, United States
ATTACH;FMTTYPE=image/jpeg:https://christcovcincy.org/wp-content/uploads/2023/02/SundayService.jpg
END:VEVENT
BEGIN:VEVENT
DTSTART;TZID=UTC:20271017T103000
DTEND;TZID=UTC:20271017T233000
DTSTAMP:20260424T000725
CREATED:20220714T235224Z
LAST-MODIFIED:20260327T170225Z
UID:10006556-1823769000-1823815800@christcovcincy.org
SUMMARY:Sunday Service @ 10:30am
DESCRIPTION:Join us for Worship! 10:30 am
URL:https://christcovcincy.org/event/sunday-service-1030am/2027-10-17/
LOCATION:Christ Covenant Church\, 2191 Struble Rd\, Cincinnati\, 45231\, United States
ATTACH;FMTTYPE=image/jpeg:https://christcovcincy.org/wp-content/uploads/2023/02/SundayService.jpg
END:VEVENT
BEGIN:VEVENT
DTSTART;TZID=UTC:20271024T103000
DTEND;TZID=UTC:20271024T233000
DTSTAMP:20260424T000725
CREATED:20220714T235224Z
LAST-MODIFIED:20260327T170225Z
UID:10006557-1824373800-1824420600@christcovcincy.org
SUMMARY:Sunday Service @ 10:30am
DESCRIPTION:Join us for Worship! 10:30 am
URL:https://christcovcincy.org/event/sunday-service-1030am/2027-10-24/
LOCATION:Christ Covenant Church\, 2191 Struble Rd\, Cincinnati\, 45231\, United States
ATTACH;FMTTYPE=image/jpeg:https://christcovcincy.org/wp-content/uploads/2023/02/SundayService.jpg
END:VEVENT
BEGIN:VEVENT
DTSTART;TZID=UTC:20271031T103000
DTEND;TZID=UTC:20271031T233000
DTSTAMP:20260424T000725
CREATED:20220714T235224Z
LAST-MODIFIED:20260327T170225Z
UID:10006558-1824978600-1825025400@christcovcincy.org
SUMMARY:Sunday Service @ 10:30am
DESCRIPTION:Join us for Worship! 10:30 am
URL:https://christcovcincy.org/event/sunday-service-1030am/2027-10-31/
LOCATION:Christ Covenant Church\, 2191 Struble Rd\, Cincinnati\, 45231\, United States
ATTACH;FMTTYPE=image/jpeg:https://christcovcincy.org/wp-content/uploads/2023/02/SundayService.jpg
END:VEVENT
BEGIN:VEVENT
DTSTART;TZID=UTC:20271107T103000
DTEND;TZID=UTC:20271107T233000
DTSTAMP:20260424T000725
CREATED:20220714T235224Z
LAST-MODIFIED:20260327T170225Z
UID:10006559-1825583400-1825630200@christcovcincy.org
SUMMARY:Sunday Service @ 10:30am
DESCRIPTION:Join us for Worship! 10:30 am
URL:https://christcovcincy.org/event/sunday-service-1030am/2027-11-07/
LOCATION:Christ Covenant Church\, 2191 Struble Rd\, Cincinnati\, 45231\, United States
ATTACH;FMTTYPE=image/jpeg:https://christcovcincy.org/wp-content/uploads/2023/02/SundayService.jpg
END:VEVENT
BEGIN:VEVENT
DTSTART;TZID=UTC:20271114T103000
DTEND;TZID=UTC:20271114T233000
DTSTAMP:20260424T000725
CREATED:20220714T235224Z
LAST-MODIFIED:20260327T170225Z
UID:10006560-1826188200-1826235000@christcovcincy.org
SUMMARY:Sunday Service @ 10:30am
DESCRIPTION:Join us for Worship! 10:30 am
URL:https://christcovcincy.org/event/sunday-service-1030am/2027-11-14/
LOCATION:Christ Covenant Church\, 2191 Struble Rd\, Cincinnati\, 45231\, United States
ATTACH;FMTTYPE=image/jpeg:https://christcovcincy.org/wp-content/uploads/2023/02/SundayService.jpg
END:VEVENT
BEGIN:VEVENT
DTSTART;TZID=UTC:20271121T103000
DTEND;TZID=UTC:20271121T233000
DTSTAMP:20260424T000725
CREATED:20220714T235224Z
LAST-MODIFIED:20260327T170225Z
UID:10006561-1826793000-1826839800@christcovcincy.org
SUMMARY:Sunday Service @ 10:30am
DESCRIPTION:Join us for Worship! 10:30 am
URL:https://christcovcincy.org/event/sunday-service-1030am/2027-11-21/
LOCATION:Christ Covenant Church\, 2191 Struble Rd\, Cincinnati\, 45231\, United States
ATTACH;FMTTYPE=image/jpeg:https://christcovcincy.org/wp-content/uploads/2023/02/SundayService.jpg
END:VEVENT
BEGIN:VEVENT
DTSTART;TZID=UTC:20271128T103000
DTEND;TZID=UTC:20271128T233000
DTSTAMP:20260424T000725
CREATED:20220714T235224Z
LAST-MODIFIED:20260327T170225Z
UID:10006562-1827397800-1827444600@christcovcincy.org
SUMMARY:Sunday Service @ 10:30am
DESCRIPTION:Join us for Worship! 10:30 am
URL:https://christcovcincy.org/event/sunday-service-1030am/2027-11-28/
LOCATION:Christ Covenant Church\, 2191 Struble Rd\, Cincinnati\, 45231\, United States
ATTACH;FMTTYPE=image/jpeg:https://christcovcincy.org/wp-content/uploads/2023/02/SundayService.jpg
END:VEVENT
BEGIN:VEVENT
DTSTART;TZID=UTC:20271205T103000
DTEND;TZID=UTC:20271205T233000
DTSTAMP:20260424T000725
CREATED:20220714T235224Z
LAST-MODIFIED:20260327T170225Z
UID:10006563-1828002600-1828049400@christcovcincy.org
SUMMARY:Sunday Service @ 10:30am
DESCRIPTION:Join us for Worship! 10:30 am
URL:https://christcovcincy.org/event/sunday-service-1030am/2027-12-05/
LOCATION:Christ Covenant Church\, 2191 Struble Rd\, Cincinnati\, 45231\, United States
ATTACH;FMTTYPE=image/jpeg:https://christcovcincy.org/wp-content/uploads/2023/02/SundayService.jpg
END:VEVENT
BEGIN:VEVENT
DTSTART;TZID=UTC:20271212T103000
DTEND;TZID=UTC:20271212T233000
DTSTAMP:20260424T000725
CREATED:20220714T235224Z
LAST-MODIFIED:20260327T170225Z
UID:10006564-1828607400-1828654200@christcovcincy.org
SUMMARY:Sunday Service @ 10:30am
DESCRIPTION:Join us for Worship! 10:30 am
URL:https://christcovcincy.org/event/sunday-service-1030am/2027-12-12/
LOCATION:Christ Covenant Church\, 2191 Struble Rd\, Cincinnati\, 45231\, United States
ATTACH;FMTTYPE=image/jpeg:https://christcovcincy.org/wp-content/uploads/2023/02/SundayService.jpg
END:VEVENT
BEGIN:VEVENT
DTSTART;TZID=UTC:20271219T103000
DTEND;TZID=UTC:20271219T233000
DTSTAMP:20260424T000725
CREATED:20220714T235224Z
LAST-MODIFIED:20260327T170225Z
UID:10006565-1829212200-1829259000@christcovcincy.org
SUMMARY:Sunday Service @ 10:30am
DESCRIPTION:Join us for Worship! 10:30 am
URL:https://christcovcincy.org/event/sunday-service-1030am/2027-12-19/
LOCATION:Christ Covenant Church\, 2191 Struble Rd\, Cincinnati\, 45231\, United States
ATTACH;FMTTYPE=image/jpeg:https://christcovcincy.org/wp-content/uploads/2023/02/SundayService.jpg
END:VEVENT
BEGIN:VEVENT
DTSTART;TZID=UTC:20271226T103000
DTEND;TZID=UTC:20271226T233000
DTSTAMP:20260424T000725
CREATED:20220714T235224Z
LAST-MODIFIED:20260327T170225Z
UID:10006566-1829817000-1829863800@christcovcincy.org
SUMMARY:Sunday Service @ 10:30am
DESCRIPTION:Join us for Worship! 10:30 am
URL:https://christcovcincy.org/event/sunday-service-1030am/2027-12-26/
LOCATION:Christ Covenant Church\, 2191 Struble Rd\, Cincinnati\, 45231\, United States
ATTACH;FMTTYPE=image/jpeg:https://christcovcincy.org/wp-content/uploads/2023/02/SundayService.jpg
END:VEVENT
BEGIN:VEVENT
DTSTART;TZID=UTC:20280102T103000
DTEND;TZID=UTC:20280102T233000
DTSTAMP:20260424T000725
CREATED:20220714T235224Z
LAST-MODIFIED:20260327T170225Z
UID:10006567-1830421800-1830468600@christcovcincy.org
SUMMARY:Sunday Service @ 10:30am
DESCRIPTION:Join us for Worship! 10:30 am
URL:https://christcovcincy.org/event/sunday-service-1030am/2028-01-02/
LOCATION:Christ Covenant Church\, 2191 Struble Rd\, Cincinnati\, 45231\, United States
ATTACH;FMTTYPE=image/jpeg:https://christcovcincy.org/wp-content/uploads/2023/02/SundayService.jpg
END:VEVENT
BEGIN:VEVENT
DTSTART;TZID=UTC:20280109T103000
DTEND;TZID=UTC:20280109T233000
DTSTAMP:20260424T000725
CREATED:20220714T235224Z
LAST-MODIFIED:20260327T170225Z
UID:10006568-1831026600-1831073400@christcovcincy.org
SUMMARY:Sunday Service @ 10:30am
DESCRIPTION:Join us for Worship! 10:30 am
URL:https://christcovcincy.org/event/sunday-service-1030am/2028-01-09/
LOCATION:Christ Covenant Church\, 2191 Struble Rd\, Cincinnati\, 45231\, United States
ATTACH;FMTTYPE=image/jpeg:https://christcovcincy.org/wp-content/uploads/2023/02/SundayService.jpg
END:VEVENT
BEGIN:VEVENT
DTSTART;TZID=UTC:20280116T103000
DTEND;TZID=UTC:20280116T233000
DTSTAMP:20260424T000725
CREATED:20220714T235224Z
LAST-MODIFIED:20260327T170225Z
UID:10006569-1831631400-1831678200@christcovcincy.org
SUMMARY:Sunday Service @ 10:30am
DESCRIPTION:Join us for Worship! 10:30 am
URL:https://christcovcincy.org/event/sunday-service-1030am/2028-01-16/
LOCATION:Christ Covenant Church\, 2191 Struble Rd\, Cincinnati\, 45231\, United States
ATTACH;FMTTYPE=image/jpeg:https://christcovcincy.org/wp-content/uploads/2023/02/SundayService.jpg
END:VEVENT
BEGIN:VEVENT
DTSTART;TZID=UTC:20280123T103000
DTEND;TZID=UTC:20280123T233000
DTSTAMP:20260424T000725
CREATED:20220714T235224Z
LAST-MODIFIED:20260327T170225Z
UID:10006570-1832236200-1832283000@christcovcincy.org
SUMMARY:Sunday Service @ 10:30am
DESCRIPTION:Join us for Worship! 10:30 am
URL:https://christcovcincy.org/event/sunday-service-1030am/2028-01-23/
LOCATION:Christ Covenant Church\, 2191 Struble Rd\, Cincinnati\, 45231\, United States
ATTACH;FMTTYPE=image/jpeg:https://christcovcincy.org/wp-content/uploads/2023/02/SundayService.jpg
END:VEVENT
BEGIN:VEVENT
DTSTART;TZID=UTC:20280130T103000
DTEND;TZID=UTC:20280130T233000
DTSTAMP:20260424T000725
CREATED:20220714T235224Z
LAST-MODIFIED:20260327T170225Z
UID:10006571-1832841000-1832887800@christcovcincy.org
SUMMARY:Sunday Service @ 10:30am
DESCRIPTION:Join us for Worship! 10:30 am
URL:https://christcovcincy.org/event/sunday-service-1030am/2028-01-30/
LOCATION:Christ Covenant Church\, 2191 Struble Rd\, Cincinnati\, 45231\, United States
ATTACH;FMTTYPE=image/jpeg:https://christcovcincy.org/wp-content/uploads/2023/02/SundayService.jpg
END:VEVENT
BEGIN:VEVENT
DTSTART;TZID=UTC:20280206T103000
DTEND;TZID=UTC:20280206T233000
DTSTAMP:20260424T000725
CREATED:20220714T235224Z
LAST-MODIFIED:20260327T170225Z
UID:10006572-1833445800-1833492600@christcovcincy.org
SUMMARY:Sunday Service @ 10:30am
DESCRIPTION:Join us for Worship! 10:30 am
URL:https://christcovcincy.org/event/sunday-service-1030am/2028-02-06/
LOCATION:Christ Covenant Church\, 2191 Struble Rd\, Cincinnati\, 45231\, United States
ATTACH;FMTTYPE=image/jpeg:https://christcovcincy.org/wp-content/uploads/2023/02/SundayService.jpg
END:VEVENT
BEGIN:VEVENT
DTSTART;TZID=UTC:20280213T103000
DTEND;TZID=UTC:20280213T233000
DTSTAMP:20260424T000725
CREATED:20220714T235224Z
LAST-MODIFIED:20260327T170225Z
UID:10006573-1834050600-1834097400@christcovcincy.org
SUMMARY:Sunday Service @ 10:30am
DESCRIPTION:Join us for Worship! 10:30 am
URL:https://christcovcincy.org/event/sunday-service-1030am/2028-02-13/
LOCATION:Christ Covenant Church\, 2191 Struble Rd\, Cincinnati\, 45231\, United States
ATTACH;FMTTYPE=image/jpeg:https://christcovcincy.org/wp-content/uploads/2023/02/SundayService.jpg
END:VEVENT
BEGIN:VEVENT
DTSTART;TZID=UTC:20280220T103000
DTEND;TZID=UTC:20280220T233000
DTSTAMP:20260424T000725
CREATED:20220714T235224Z
LAST-MODIFIED:20260327T170225Z
UID:10006574-1834655400-1834702200@christcovcincy.org
SUMMARY:Sunday Service @ 10:30am
DESCRIPTION:Join us for Worship! 10:30 am
URL:https://christcovcincy.org/event/sunday-service-1030am/2028-02-20/
LOCATION:Christ Covenant Church\, 2191 Struble Rd\, Cincinnati\, 45231\, United States
ATTACH;FMTTYPE=image/jpeg:https://christcovcincy.org/wp-content/uploads/2023/02/SundayService.jpg
END:VEVENT
BEGIN:VEVENT
DTSTART;TZID=UTC:20280227T103000
DTEND;TZID=UTC:20280227T233000
DTSTAMP:20260424T000725
CREATED:20220714T235224Z
LAST-MODIFIED:20260327T170225Z
UID:10006575-1835260200-1835307000@christcovcincy.org
SUMMARY:Sunday Service @ 10:30am
DESCRIPTION:Join us for Worship! 10:30 am
URL:https://christcovcincy.org/event/sunday-service-1030am/2028-02-27/
LOCATION:Christ Covenant Church\, 2191 Struble Rd\, Cincinnati\, 45231\, United States
ATTACH;FMTTYPE=image/jpeg:https://christcovcincy.org/wp-content/uploads/2023/02/SundayService.jpg
END:VEVENT
BEGIN:VEVENT
DTSTART;TZID=UTC:20280305T103000
DTEND;TZID=UTC:20280305T233000
DTSTAMP:20260424T000725
CREATED:20220714T235224Z
LAST-MODIFIED:20260327T170225Z
UID:10006576-1835865000-1835911800@christcovcincy.org
SUMMARY:Sunday Service @ 10:30am
DESCRIPTION:Join us for Worship! 10:30 am
URL:https://christcovcincy.org/event/sunday-service-1030am/2028-03-05/
LOCATION:Christ Covenant Church\, 2191 Struble Rd\, Cincinnati\, 45231\, United States
ATTACH;FMTTYPE=image/jpeg:https://christcovcincy.org/wp-content/uploads/2023/02/SundayService.jpg
END:VEVENT
BEGIN:VEVENT
DTSTART;TZID=UTC:20280312T103000
DTEND;TZID=UTC:20280312T233000
DTSTAMP:20260424T000725
CREATED:20220714T235224Z
LAST-MODIFIED:20260327T170225Z
UID:10006577-1836469800-1836516600@christcovcincy.org
SUMMARY:Sunday Service @ 10:30am
DESCRIPTION:Join us for Worship! 10:30 am
URL:https://christcovcincy.org/event/sunday-service-1030am/2028-03-12/
LOCATION:Christ Covenant Church\, 2191 Struble Rd\, Cincinnati\, 45231\, United States
ATTACH;FMTTYPE=image/jpeg:https://christcovcincy.org/wp-content/uploads/2023/02/SundayService.jpg
END:VEVENT
BEGIN:VEVENT
DTSTART;TZID=UTC:20280319T103000
DTEND;TZID=UTC:20280319T233000
DTSTAMP:20260424T000725
CREATED:20220714T235224Z
LAST-MODIFIED:20260327T170225Z
UID:10006578-1837074600-1837121400@christcovcincy.org
SUMMARY:Sunday Service @ 10:30am
DESCRIPTION:Join us for Worship! 10:30 am
URL:https://christcovcincy.org/event/sunday-service-1030am/2028-03-19/
LOCATION:Christ Covenant Church\, 2191 Struble Rd\, Cincinnati\, 45231\, United States
ATTACH;FMTTYPE=image/jpeg:https://christcovcincy.org/wp-content/uploads/2023/02/SundayService.jpg
END:VEVENT
BEGIN:VEVENT
DTSTART;TZID=UTC:20280326T103000
DTEND;TZID=UTC:20280326T233000
DTSTAMP:20260424T000725
CREATED:20220714T235224Z
LAST-MODIFIED:20260327T170225Z
UID:10006579-1837679400-1837726200@christcovcincy.org
SUMMARY:Sunday Service @ 10:30am
DESCRIPTION:Join us for Worship! 10:30 am
URL:https://christcovcincy.org/event/sunday-service-1030am/2028-03-26/
LOCATION:Christ Covenant Church\, 2191 Struble Rd\, Cincinnati\, 45231\, United States
ATTACH;FMTTYPE=image/jpeg:https://christcovcincy.org/wp-content/uploads/2023/02/SundayService.jpg
END:VEVENT
BEGIN:VEVENT
DTSTART;TZID=UTC:20280402T103000
DTEND;TZID=UTC:20280402T233000
DTSTAMP:20260424T000725
CREATED:20220714T235224Z
LAST-MODIFIED:20260327T170225Z
UID:10006580-1838284200-1838331000@christcovcincy.org
SUMMARY:Sunday Service @ 10:30am
DESCRIPTION:Join us for Worship! 10:30 am
URL:https://christcovcincy.org/event/sunday-service-1030am/2028-04-02/
LOCATION:Christ Covenant Church\, 2191 Struble Rd\, Cincinnati\, 45231\, United States
ATTACH;FMTTYPE=image/jpeg:https://christcovcincy.org/wp-content/uploads/2023/02/SundayService.jpg
END:VEVENT
BEGIN:VEVENT
DTSTART;TZID=UTC:20280409T103000
DTEND;TZID=UTC:20280409T233000
DTSTAMP:20260424T000725
CREATED:20220714T235224Z
LAST-MODIFIED:20260327T170225Z
UID:10006581-1838889000-1838935800@christcovcincy.org
SUMMARY:Sunday Service @ 10:30am
DESCRIPTION:Join us for Worship! 10:30 am
URL:https://christcovcincy.org/event/sunday-service-1030am/2028-04-09/
LOCATION:Christ Covenant Church\, 2191 Struble Rd\, Cincinnati\, 45231\, United States
ATTACH;FMTTYPE=image/jpeg:https://christcovcincy.org/wp-content/uploads/2023/02/SundayService.jpg
END:VEVENT
BEGIN:VEVENT
DTSTART;TZID=UTC:20280416T103000
DTEND;TZID=UTC:20280416T233000
DTSTAMP:20260424T000725
CREATED:20220714T235224Z
LAST-MODIFIED:20260327T170225Z
UID:10006582-1839493800-1839540600@christcovcincy.org
SUMMARY:Sunday Service @ 10:30am
DESCRIPTION:Join us for Worship! 10:30 am
URL:https://christcovcincy.org/event/sunday-service-1030am/2028-04-16/
LOCATION:Christ Covenant Church\, 2191 Struble Rd\, Cincinnati\, 45231\, United States
ATTACH;FMTTYPE=image/jpeg:https://christcovcincy.org/wp-content/uploads/2023/02/SundayService.jpg
END:VEVENT
END:VCALENDAR