BEGIN:VCALENDAR
VERSION:2.0
PRODID:-//Christ Covenant Church - ECPv6.15.20//NONSGML v1.0//EN
CALSCALE:GREGORIAN
METHOD:PUBLISH
X-WR-CALNAME:Christ Covenant Church
X-ORIGINAL-URL:https://christcovcincy.org
X-WR-CALDESC:Events for Christ Covenant Church
REFRESH-INTERVAL;VALUE=DURATION:PT1H
X-Robots-Tag:noindex
X-PUBLISHED-TTL:PT1H
BEGIN:VTIMEZONE
TZID:America/Halifax
BEGIN:DAYLIGHT
TZOFFSETFROM:-0400
TZOFFSETTO:-0300
TZNAME:ADT
DTSTART:20240310T060000
END:DAYLIGHT
BEGIN:STANDARD
TZOFFSETFROM:-0300
TZOFFSETTO:-0400
TZNAME:AST
DTSTART:20241103T050000
END:STANDARD
BEGIN:DAYLIGHT
TZOFFSETFROM:-0400
TZOFFSETTO:-0300
TZNAME:ADT
DTSTART:20250309T060000
END:DAYLIGHT
BEGIN:STANDARD
TZOFFSETFROM:-0300
TZOFFSETTO:-0400
TZNAME:AST
DTSTART:20251102T050000
END:STANDARD
BEGIN:DAYLIGHT
TZOFFSETFROM:-0400
TZOFFSETTO:-0300
TZNAME:ADT
DTSTART:20260308T060000
END:DAYLIGHT
BEGIN:STANDARD
TZOFFSETFROM:-0300
TZOFFSETTO:-0400
TZNAME:AST
DTSTART:20261101T050000
END:STANDARD
END:VTIMEZONE
BEGIN:VTIMEZONE
TZID:America/New_York
BEGIN:DAYLIGHT
TZOFFSETFROM:-0500
TZOFFSETTO:-0400
TZNAME:EDT
DTSTART:20240310T070000
END:DAYLIGHT
BEGIN:STANDARD
TZOFFSETFROM:-0400
TZOFFSETTO:-0500
TZNAME:EST
DTSTART:20241103T060000
END:STANDARD
BEGIN:DAYLIGHT
TZOFFSETFROM:-0500
TZOFFSETTO:-0400
TZNAME:EDT
DTSTART:20250309T070000
END:DAYLIGHT
BEGIN:STANDARD
TZOFFSETFROM:-0400
TZOFFSETTO:-0500
TZNAME:EST
DTSTART:20251102T060000
END:STANDARD
BEGIN:DAYLIGHT
TZOFFSETFROM:-0500
TZOFFSETTO:-0400
TZNAME:EDT
DTSTART:20260308T070000
END:DAYLIGHT
BEGIN:STANDARD
TZOFFSETFROM:-0400
TZOFFSETTO:-0500
TZNAME:EST
DTSTART:20261101T060000
END:STANDARD
END:VTIMEZONE
BEGIN:VEVENT
DTSTART;TZID=America/Halifax:20251012T170000
DTEND;TZID=America/Halifax:20251012T200000
DTSTAMP:20260423T163740
CREATED:20251002T213224Z
LAST-MODIFIED:20251002T213232Z
UID:10006972-1760288400-1760299200@christcovcincy.org
SUMMARY:Fall Fellowship
DESCRIPTION:Join in the fun at our final fall fellowship and 5th annual chili cookoff! Enjoy hayrides and s’mores\, cornhole and more. \nVisit  our Sign Up Genius to let us know what food items you plan to bring. \nTo participate in the chili cook off\, please contact  tmiller@christcovcincy.org.
URL:https://christcovcincy.org/event/fall-fellowship-3-2/
LOCATION:Christ Covenant picnic and office complex\, 2192 Springdale Rd.\, Cincinnati\, OH\, 45231\, United States
CATEGORIES:Children's Ministry,fellowships,Youth Ministry
ATTACH;FMTTYPE=image/jpeg:https://christcovcincy.org/wp-content/uploads/2025/01/chili-bowl-scaled.jpg
END:VEVENT
BEGIN:VEVENT
DTSTART;TZID=America/Halifax:20250928T170000
DTEND;TZID=America/Halifax:20250928T200000
DTSTAMP:20260423T163740
CREATED:20250115T210805Z
LAST-MODIFIED:20250820T183057Z
UID:10005748-1759078800-1759089600@christcovcincy.org
SUMMARY:Fall Fellowship
DESCRIPTION:
URL:https://christcovcincy.org/event/fall-fellowship-3/2025-09-28/
LOCATION:Christ Covenant picnic and office complex\, 2192 Springdale Rd.\, Cincinnati\, OH\, 45231\, United States
CATEGORIES:fellowships
END:VEVENT
BEGIN:VEVENT
DTSTART;TZID=America/New_York:20250927T120000
DTEND;TZID=America/New_York:20250927T180000
DTSTAMP:20260423T163740
CREATED:20250618T164441Z
LAST-MODIFIED:20250618T164441Z
UID:10006828-1758974400-1758996000@christcovcincy.org
SUMMARY:Private Event
DESCRIPTION:Miller family birthday party
URL:https://christcovcincy.org/event/private-event-102/
LOCATION:Christ Covenant picnic and office complex\, 2192 Springdale Rd.\, Cincinnati\, OH\, 45231\, United States
CATEGORIES:private event
ATTACH;FMTTYPE=image/jpeg:https://christcovcincy.org/wp-content/uploads/2023/06/privateeventcalendar.jpg
END:VEVENT
BEGIN:VEVENT
DTSTART;TZID=America/New_York:20250914T114500
DTEND;TZID=America/New_York:20250914T130000
DTSTAMP:20260423T163740
CREATED:20250910T144907Z
LAST-MODIFIED:20250910T144907Z
UID:10007167-1757850300-1757854800@christcovcincy.org
SUMMARY:Choir & Music Team Picnic
DESCRIPTION:Members of the choir and music teams are invited to enjoy a fall ministry kickoff picnic together
URL:https://christcovcincy.org/event/choir-music-team-picnic/
LOCATION:Christ Covenant picnic and office complex\, 2192 Springdale Rd.\, Cincinnati\, OH\, 45231\, United States
CATEGORIES:fellowships
ATTACH;FMTTYPE=image/jpeg:https://christcovcincy.org/wp-content/uploads/2023/08/cookout.jpg
END:VEVENT
BEGIN:VEVENT
DTSTART;TZID=America/New_York:20250909T183000
DTEND;TZID=America/New_York:20250909T200000
DTSTAMP:20260423T163740
CREATED:20250416T154429Z
LAST-MODIFIED:20250821T180224Z
UID:10006980-1757442600-1757448000@christcovcincy.org
SUMMARY:Volleyball
DESCRIPTION:
URL:https://christcovcincy.org/event/volleyball-2/2025-09-09/
LOCATION:Christ Covenant picnic and office complex\, 2192 Springdale Rd.\, Cincinnati\, OH\, 45231\, United States
CATEGORIES:fellowships
ATTACH;FMTTYPE=image/jpeg:https://christcovcincy.org/wp-content/uploads/2023/05/volley.jpg
END:VEVENT
BEGIN:VEVENT
DTSTART;TZID=America/Halifax:20250907T170000
DTEND;TZID=America/Halifax:20250907T200000
DTSTAMP:20260423T163740
CREATED:20250115T210805Z
LAST-MODIFIED:20250820T183057Z
UID:10005747-1757264400-1757275200@christcovcincy.org
SUMMARY:Fall Fellowship
DESCRIPTION:
URL:https://christcovcincy.org/event/fall-fellowship-3/2025-09-07/
LOCATION:Christ Covenant picnic and office complex\, 2192 Springdale Rd.\, Cincinnati\, OH\, 45231\, United States
CATEGORIES:fellowships
END:VEVENT
BEGIN:VEVENT
DTSTART;TZID=America/New_York:20250902T183000
DTEND;TZID=America/New_York:20250902T200000
DTSTAMP:20260423T163740
CREATED:20250416T154429Z
LAST-MODIFIED:20250821T180224Z
UID:10006979-1756837800-1756843200@christcovcincy.org
SUMMARY:Volleyball
DESCRIPTION:
URL:https://christcovcincy.org/event/volleyball-2/2025-09-02/
LOCATION:Christ Covenant picnic and office complex\, 2192 Springdale Rd.\, Cincinnati\, OH\, 45231\, United States
CATEGORIES:fellowships
ATTACH;FMTTYPE=image/jpeg:https://christcovcincy.org/wp-content/uploads/2023/05/volley.jpg
END:VEVENT
BEGIN:VEVENT
DTSTART;TZID=America/New_York:20250831T170000
DTEND;TZID=America/New_York:20250831T200000
DTSTAMP:20260423T163740
CREATED:20250410T151414Z
LAST-MODIFIED:20250410T152415Z
UID:10005824-1756659600-1756670400@christcovcincy.org
SUMMARY:Youth Group
DESCRIPTION:
URL:https://christcovcincy.org/event/youth-group-11/2025-08-31/
LOCATION:Christ Covenant picnic and office complex\, 2192 Springdale Rd.\, Cincinnati\, OH\, 45231\, United States
CATEGORIES:Youth Ministry
ATTACH;FMTTYPE=image/jpeg:https://christcovcincy.org/wp-content/uploads/2023/05/YouthGroup.jpg
END:VEVENT
BEGIN:VEVENT
DTSTART;TZID=America/New_York:20250831T150000
DTEND;TZID=America/New_York:20250831T210000
DTSTAMP:20260423T163740
CREATED:20250730T190218Z
LAST-MODIFIED:20250730T190218Z
UID:10006966-1756652400-1756674000@christcovcincy.org
SUMMARY:Private Event
DESCRIPTION:Lanning family 80th Birthday Gathering/Family Reunion
URL:https://christcovcincy.org/event/private-event-106/
LOCATION:Christ Covenant picnic and office complex\, 2192 Springdale Rd.\, Cincinnati\, OH\, 45231\, United States
CATEGORIES:private event
ATTACH;FMTTYPE=image/jpeg:https://christcovcincy.org/wp-content/uploads/2023/06/privateeventcalendar.jpg
END:VEVENT
BEGIN:VEVENT
DTSTART;TZID=America/New_York:20250826T183000
DTEND;TZID=America/New_York:20250826T200000
DTSTAMP:20260423T163740
CREATED:20250416T154429Z
LAST-MODIFIED:20250821T180224Z
UID:10005945-1756233000-1756238400@christcovcincy.org
SUMMARY:Volleyball
DESCRIPTION:
URL:https://christcovcincy.org/event/volleyball-2/2025-08-26/
LOCATION:Christ Covenant picnic and office complex\, 2192 Springdale Rd.\, Cincinnati\, OH\, 45231\, United States
CATEGORIES:fellowships
ATTACH;FMTTYPE=image/jpeg:https://christcovcincy.org/wp-content/uploads/2023/05/volley.jpg
END:VEVENT
BEGIN:VEVENT
DTSTART;TZID=America/New_York:20250824T170000
DTEND;TZID=America/New_York:20250824T200000
DTSTAMP:20260423T163740
CREATED:20250410T151414Z
LAST-MODIFIED:20250410T152415Z
UID:10005823-1756054800-1756065600@christcovcincy.org
SUMMARY:Youth Group
DESCRIPTION:
URL:https://christcovcincy.org/event/youth-group-11/2025-08-24/
LOCATION:Christ Covenant picnic and office complex\, 2192 Springdale Rd.\, Cincinnati\, OH\, 45231\, United States
CATEGORIES:Youth Ministry
ATTACH;FMTTYPE=image/jpeg:https://christcovcincy.org/wp-content/uploads/2023/05/YouthGroup.jpg
END:VEVENT
BEGIN:VEVENT
DTSTART;TZID=America/New_York:20250819T183000
DTEND;TZID=America/New_York:20250819T200000
DTSTAMP:20260423T163740
CREATED:20250416T154429Z
LAST-MODIFIED:20250821T180224Z
UID:10005943-1755628200-1755633600@christcovcincy.org
SUMMARY:Volleyball
DESCRIPTION:
URL:https://christcovcincy.org/event/volleyball-2/2025-08-19/
LOCATION:Christ Covenant picnic and office complex\, 2192 Springdale Rd.\, Cincinnati\, OH\, 45231\, United States
CATEGORIES:fellowships
ATTACH;FMTTYPE=image/jpeg:https://christcovcincy.org/wp-content/uploads/2023/05/volley.jpg
END:VEVENT
BEGIN:VEVENT
DTSTART;TZID=America/Halifax:20250817T170000
DTEND;TZID=America/Halifax:20250817T200000
DTSTAMP:20260423T163740
CREATED:20250417T160135Z
LAST-MODIFIED:20250806T164339Z
UID:10005998-1755450000-1755460800@christcovcincy.org
SUMMARY:Sunday Night Fellowship
DESCRIPTION:Pinewood Derby \nDesign your own miniature car to roll down our derby track.  Contestants of all ages are welcome to participate.  Hot dog dinner beforehand\, and plenty of popcorn and derby snacks to follow. \nMain Course: hot dog bar (provided) / Bring 12 servings according to your last name – A-G: Chips\, H-M: Dessert\, N-Z: Veggie Tray
URL:https://christcovcincy.org/event/sunday-night-fellowship-6/
LOCATION:Christ Covenant picnic and office complex\, 2192 Springdale Rd.\, Cincinnati\, OH\, 45231\, United States
CATEGORIES:Children's Ministry,fellowships,summer gatherings,Youth Ministry
ATTACH;FMTTYPE=image/jpeg:https://christcovcincy.org/wp-content/uploads/2025/03/SundayNightFellowships2025.jpg
END:VEVENT
BEGIN:VEVENT
DTSTART;TZID=America/New_York:20250816T140000
DTEND;TZID=America/New_York:20250816T200000
DTSTAMP:20260423T163740
CREATED:20250723T175032Z
LAST-MODIFIED:20250723T175032Z
UID:10006905-1755352800-1755374400@christcovcincy.org
SUMMARY:Private Event
DESCRIPTION:Family birthday party for K Crisp
URL:https://christcovcincy.org/event/private-event-103/
LOCATION:Christ Covenant picnic and office complex\, 2192 Springdale Rd.\, Cincinnati\, OH\, 45231\, United States
CATEGORIES:private event
ATTACH;FMTTYPE=image/jpeg:https://christcovcincy.org/wp-content/uploads/2023/06/privateeventcalendar.jpg
END:VEVENT
BEGIN:VEVENT
DTSTART;TZID=America/New_York:20250812T183000
DTEND;TZID=America/New_York:20250812T200000
DTSTAMP:20260423T163740
CREATED:20250416T154429Z
LAST-MODIFIED:20250821T180224Z
UID:10005941-1755023400-1755028800@christcovcincy.org
SUMMARY:Volleyball
DESCRIPTION:
URL:https://christcovcincy.org/event/volleyball-2/2025-08-12/
LOCATION:Christ Covenant picnic and office complex\, 2192 Springdale Rd.\, Cincinnati\, OH\, 45231\, United States
CATEGORIES:fellowships
ATTACH;FMTTYPE=image/jpeg:https://christcovcincy.org/wp-content/uploads/2023/05/volley.jpg
END:VEVENT
BEGIN:VEVENT
DTSTART;TZID=America/New_York:20250810T170000
DTEND;TZID=America/New_York:20250810T200000
DTSTAMP:20260423T163740
CREATED:20250410T151414Z
LAST-MODIFIED:20250410T152415Z
UID:10005822-1754845200-1754856000@christcovcincy.org
SUMMARY:Youth Group
DESCRIPTION:
URL:https://christcovcincy.org/event/youth-group-11/2025-08-10/
LOCATION:Christ Covenant picnic and office complex\, 2192 Springdale Rd.\, Cincinnati\, OH\, 45231\, United States
CATEGORIES:Youth Ministry
ATTACH;FMTTYPE=image/jpeg:https://christcovcincy.org/wp-content/uploads/2023/05/YouthGroup.jpg
END:VEVENT
BEGIN:VEVENT
DTSTART;TZID=America/New_York:20250805T183000
DTEND;TZID=America/New_York:20250805T200000
DTSTAMP:20260423T163740
CREATED:20250416T154429Z
LAST-MODIFIED:20250821T180224Z
UID:10005939-1754418600-1754424000@christcovcincy.org
SUMMARY:Volleyball
DESCRIPTION:
URL:https://christcovcincy.org/event/volleyball-2/2025-08-05/
LOCATION:Christ Covenant picnic and office complex\, 2192 Springdale Rd.\, Cincinnati\, OH\, 45231\, United States
CATEGORIES:fellowships
ATTACH;FMTTYPE=image/jpeg:https://christcovcincy.org/wp-content/uploads/2023/05/volley.jpg
END:VEVENT
BEGIN:VEVENT
DTSTART;TZID=America/New_York:20250729T190000
DTEND;TZID=America/New_York:20250729T203000
DTSTAMP:20260423T163740
CREATED:20250416T154429Z
LAST-MODIFIED:20250821T180224Z
UID:10005938-1753815600-1753821000@christcovcincy.org
SUMMARY:Volleyball
DESCRIPTION:
URL:https://christcovcincy.org/event/volleyball-2/2025-07-29/
LOCATION:Christ Covenant picnic and office complex\, 2192 Springdale Rd.\, Cincinnati\, OH\, 45231\, United States
CATEGORIES:fellowships
ATTACH;FMTTYPE=image/jpeg:https://christcovcincy.org/wp-content/uploads/2023/05/volley.jpg
END:VEVENT
BEGIN:VEVENT
DTSTART;TZID=America/Halifax:20250727T170000
DTEND;TZID=America/Halifax:20250727T200000
DTSTAMP:20260423T163740
CREATED:20250417T155502Z
LAST-MODIFIED:20250616T155746Z
UID:10005997-1753635600-1753646400@christcovcincy.org
SUMMARY:Sunday Night Fellowship
DESCRIPTION:Beat the Heat & BINGO \nBeat the summer heat with some Bingo in the shade of our picnic shelter\, some splashing in the church pool\, and other summer surprises. Bring your swimsuit if you plan to get wet. \nMain Course: sandwich tray (provided) / Bring 12 servings according to your last name – A-G: Dessert\, H-M: Chips\, N-Z: Salad
URL:https://christcovcincy.org/event/sunday-night-fellowship-5/
LOCATION:Christ Covenant picnic and office complex\, 2192 Springdale Rd.\, Cincinnati\, OH\, 45231\, United States
CATEGORIES:Children's Ministry,fellowships,summer gatherings,Youth Ministry
ATTACH;FMTTYPE=image/jpeg:https://christcovcincy.org/wp-content/uploads/2025/03/SundayNightFellowships2025.jpg
END:VEVENT
BEGIN:VEVENT
DTSTART;TZID=America/New_York:20250722T190000
DTEND;TZID=America/New_York:20250722T203000
DTSTAMP:20260423T163740
CREATED:20250416T154429Z
LAST-MODIFIED:20250821T180224Z
UID:10005937-1753210800-1753216200@christcovcincy.org
SUMMARY:Volleyball
DESCRIPTION:
URL:https://christcovcincy.org/event/volleyball-2/2025-07-22/
LOCATION:Christ Covenant picnic and office complex\, 2192 Springdale Rd.\, Cincinnati\, OH\, 45231\, United States
CATEGORIES:fellowships
ATTACH;FMTTYPE=image/jpeg:https://christcovcincy.org/wp-content/uploads/2023/05/volley.jpg
END:VEVENT
BEGIN:VEVENT
DTSTART;TZID=America/New_York:20250720T170000
DTEND;TZID=America/New_York:20250720T200000
DTSTAMP:20260423T163740
CREATED:20250410T151414Z
LAST-MODIFIED:20250410T152415Z
UID:10005821-1753030800-1753041600@christcovcincy.org
SUMMARY:Youth Group
DESCRIPTION:
URL:https://christcovcincy.org/event/youth-group-11/2025-07-20/
LOCATION:Christ Covenant picnic and office complex\, 2192 Springdale Rd.\, Cincinnati\, OH\, 45231\, United States
CATEGORIES:Youth Ministry
ATTACH;FMTTYPE=image/jpeg:https://christcovcincy.org/wp-content/uploads/2023/05/YouthGroup.jpg
END:VEVENT
BEGIN:VEVENT
DTSTART;TZID=America/New_York:20250715T190000
DTEND;TZID=America/New_York:20250715T203000
DTSTAMP:20260423T163740
CREATED:20250416T154429Z
LAST-MODIFIED:20250821T180224Z
UID:10005936-1752606000-1752611400@christcovcincy.org
SUMMARY:Volleyball
DESCRIPTION:
URL:https://christcovcincy.org/event/volleyball-2/2025-07-15/
LOCATION:Christ Covenant picnic and office complex\, 2192 Springdale Rd.\, Cincinnati\, OH\, 45231\, United States
CATEGORIES:fellowships
ATTACH;FMTTYPE=image/jpeg:https://christcovcincy.org/wp-content/uploads/2023/05/volley.jpg
END:VEVENT
BEGIN:VEVENT
DTSTART;TZID=America/Halifax:20250713T170000
DTEND;TZID=America/Halifax:20250713T200000
DTSTAMP:20260423T163740
CREATED:20250417T155242Z
LAST-MODIFIED:20250616T155831Z
UID:10005996-1752426000-1752436800@christcovcincy.org
SUMMARY:Sunday Night Fellowship
DESCRIPTION:Luau with Karaoke \nDon your most tropical attire\, and come enjoy pulled pork\, shaved ice\, and karaoke around the pool. \nMain Course: pulled pork BBQ (provided) / Bring 12 servings according to your last name – A-G: Fruit\, H-M: Dessert\, N-Z: Sides
URL:https://christcovcincy.org/event/sunday-night-fellowship-4/
LOCATION:Christ Covenant picnic and office complex\, 2192 Springdale Rd.\, Cincinnati\, OH\, 45231\, United States
CATEGORIES:Children's Ministry,fellowships,summer gatherings,Youth Ministry
ATTACH;FMTTYPE=image/jpeg:https://christcovcincy.org/wp-content/uploads/2025/03/SundayNightFellowships2025.jpg
END:VEVENT
BEGIN:VEVENT
DTSTART;TZID=America/New_York:20250708T190000
DTEND;TZID=America/New_York:20250708T203000
DTSTAMP:20260423T163740
CREATED:20250416T154429Z
LAST-MODIFIED:20250821T180224Z
UID:10005935-1752001200-1752006600@christcovcincy.org
SUMMARY:Volleyball
DESCRIPTION:
URL:https://christcovcincy.org/event/volleyball-2/2025-07-08/
LOCATION:Christ Covenant picnic and office complex\, 2192 Springdale Rd.\, Cincinnati\, OH\, 45231\, United States
CATEGORIES:fellowships
ATTACH;FMTTYPE=image/jpeg:https://christcovcincy.org/wp-content/uploads/2023/05/volley.jpg
END:VEVENT
BEGIN:VEVENT
DTSTART;TZID=America/New_York:20250706T170000
DTEND;TZID=America/New_York:20250706T200000
DTSTAMP:20260423T163740
CREATED:20250410T151414Z
LAST-MODIFIED:20250410T152415Z
UID:10005820-1751821200-1751832000@christcovcincy.org
SUMMARY:Youth Group
DESCRIPTION:
URL:https://christcovcincy.org/event/youth-group-11/2025-07-06/
LOCATION:Christ Covenant picnic and office complex\, 2192 Springdale Rd.\, Cincinnati\, OH\, 45231\, United States
CATEGORIES:Youth Ministry
ATTACH;FMTTYPE=image/jpeg:https://christcovcincy.org/wp-content/uploads/2023/05/YouthGroup.jpg
END:VEVENT
BEGIN:VEVENT
DTSTART;TZID=America/New_York:20250704T110000
DTEND;TZID=America/New_York:20250704T190000
DTSTAMP:20260423T163740
CREATED:20250618T164156Z
LAST-MODIFIED:20250618T164156Z
UID:10006827-1751626800-1751655600@christcovcincy.org
SUMMARY:Private Event
DESCRIPTION:Miller family gathering
URL:https://christcovcincy.org/event/private-event-101/
LOCATION:Christ Covenant picnic and office complex\, 2192 Springdale Rd.\, Cincinnati\, OH\, 45231\, United States
CATEGORIES:private event
ATTACH;FMTTYPE=image/jpeg:https://christcovcincy.org/wp-content/uploads/2023/06/privateeventcalendar.jpg
END:VEVENT
BEGIN:VEVENT
DTSTART;TZID=America/New_York:20250701T190000
DTEND;TZID=America/New_York:20250701T203000
DTSTAMP:20260423T163740
CREATED:20250416T154429Z
LAST-MODIFIED:20250821T180224Z
UID:10005934-1751396400-1751401800@christcovcincy.org
SUMMARY:Volleyball
DESCRIPTION:
URL:https://christcovcincy.org/event/volleyball-2/2025-07-01/
LOCATION:Christ Covenant picnic and office complex\, 2192 Springdale Rd.\, Cincinnati\, OH\, 45231\, United States
CATEGORIES:fellowships
ATTACH;FMTTYPE=image/jpeg:https://christcovcincy.org/wp-content/uploads/2023/05/volley.jpg
END:VEVENT
BEGIN:VEVENT
DTSTART;TZID=America/New_York:20250629T170000
DTEND;TZID=America/New_York:20250629T200000
DTSTAMP:20260423T163740
CREATED:20250410T151414Z
LAST-MODIFIED:20250410T152415Z
UID:10005819-1751216400-1751227200@christcovcincy.org
SUMMARY:Youth Group
DESCRIPTION:
URL:https://christcovcincy.org/event/youth-group-11/2025-06-29/
LOCATION:Christ Covenant picnic and office complex\, 2192 Springdale Rd.\, Cincinnati\, OH\, 45231\, United States
CATEGORIES:Youth Ministry
ATTACH;FMTTYPE=image/jpeg:https://christcovcincy.org/wp-content/uploads/2023/05/YouthGroup.jpg
END:VEVENT
BEGIN:VEVENT
DTSTART;TZID=America/New_York:20250628T130000
DTEND;TZID=America/New_York:20250628T180000
DTSTAMP:20260423T163740
CREATED:20250611T172045Z
LAST-MODIFIED:20250611T172720Z
UID:10006805-1751115600-1751133600@christcovcincy.org
SUMMARY:Private Event
DESCRIPTION:Miller family pool party
URL:https://christcovcincy.org/event/private-event-99/
LOCATION:Swimming Pool
CATEGORIES:private event
ATTACH;FMTTYPE=image/jpeg:https://christcovcincy.org/wp-content/uploads/2023/06/privateeventcalendar.jpg
END:VEVENT
BEGIN:VEVENT
DTSTART;TZID=America/New_York:20250624T190000
DTEND;TZID=America/New_York:20250624T203000
DTSTAMP:20260423T163740
CREATED:20250416T154429Z
LAST-MODIFIED:20250821T180224Z
UID:10005933-1750791600-1750797000@christcovcincy.org
SUMMARY:Volleyball
DESCRIPTION:
URL:https://christcovcincy.org/event/volleyball-2/2025-06-24/
LOCATION:Christ Covenant picnic and office complex\, 2192 Springdale Rd.\, Cincinnati\, OH\, 45231\, United States
CATEGORIES:fellowships
ATTACH;FMTTYPE=image/jpeg:https://christcovcincy.org/wp-content/uploads/2023/05/volley.jpg
END:VEVENT
END:VCALENDAR