BEGIN:VCALENDAR
VERSION:2.0
PRODID:-//Christ Covenant Church - ECPv6.15.20//NONSGML v1.0//EN
CALSCALE:GREGORIAN
METHOD:PUBLISH
X-WR-CALNAME:Christ Covenant Church
X-ORIGINAL-URL:https://christcovcincy.org
X-WR-CALDESC:Events for Christ Covenant Church
REFRESH-INTERVAL;VALUE=DURATION:PT1H
X-Robots-Tag:noindex
X-PUBLISHED-TTL:PT1H
BEGIN:VTIMEZONE
TZID:America/Halifax
BEGIN:DAYLIGHT
TZOFFSETFROM:-0400
TZOFFSETTO:-0300
TZNAME:ADT
DTSTART:20230312T060000
END:DAYLIGHT
BEGIN:STANDARD
TZOFFSETFROM:-0300
TZOFFSETTO:-0400
TZNAME:AST
DTSTART:20231105T050000
END:STANDARD
BEGIN:DAYLIGHT
TZOFFSETFROM:-0400
TZOFFSETTO:-0300
TZNAME:ADT
DTSTART:20240310T060000
END:DAYLIGHT
BEGIN:STANDARD
TZOFFSETFROM:-0300
TZOFFSETTO:-0400
TZNAME:AST
DTSTART:20241103T050000
END:STANDARD
BEGIN:DAYLIGHT
TZOFFSETFROM:-0400
TZOFFSETTO:-0300
TZNAME:ADT
DTSTART:20250309T060000
END:DAYLIGHT
BEGIN:STANDARD
TZOFFSETFROM:-0300
TZOFFSETTO:-0400
TZNAME:AST
DTSTART:20251102T050000
END:STANDARD
END:VTIMEZONE
BEGIN:VEVENT
DTSTART;TZID=America/Halifax:20240927T160000
DTEND;TZID=America/Halifax:20240928T170000
DTSTAMP:20260423T221836
CREATED:20240925T145246Z
LAST-MODIFIED:20240925T145246Z
UID:10005606-1727452800-1727542800@christcovcincy.org
SUMMARY:Private Event
DESCRIPTION:Trail Life Campout
URL:https://christcovcincy.org/event/private-event-86/
LOCATION:Christ Covenant picnic and office complex\, 2192 Springdale Rd.\, Cincinnati\, OH\, 45231\, United States
CATEGORIES:private event
ATTACH;FMTTYPE=image/jpeg:https://christcovcincy.org/wp-content/uploads/2023/06/privateeventcalendar.jpg
END:VEVENT
BEGIN:VEVENT
DTSTART;TZID=America/Halifax:20240915T180000
DTEND;TZID=America/Halifax:20240915T200000
DTSTAMP:20260423T221836
CREATED:20240925T155502Z
LAST-MODIFIED:20240925T155525Z
UID:10005608-1726423200-1726430400@christcovcincy.org
SUMMARY:Youth Group
DESCRIPTION:Photo Scavenger Hunt
URL:https://christcovcincy.org/event/youth-group-7/
LOCATION:Christ Covenant picnic and office complex\, 2192 Springdale Rd.\, Cincinnati\, OH\, 45231\, United States
CATEGORIES:Youth Ministry
ATTACH;FMTTYPE=image/jpeg:https://christcovcincy.org/wp-content/uploads/2023/05/YouthGroup.jpg
END:VEVENT
BEGIN:VEVENT
DTSTART;TZID=America/Halifax:20240908T170000
DTEND;TZID=America/Halifax:20240908T200000
DTSTAMP:20260423T221836
CREATED:20240306T200326Z
LAST-MODIFIED:20240925T164912Z
UID:10004957-1725814800-1725825600@christcovcincy.org
SUMMARY:Fall Fellowship
DESCRIPTION:Join us for GAME NIGHT\, a casual evening of board and card games\, fellowship and s’mores around the campfire. Bring your favorite game to share (30 minutes of less to play) if you like.  Main Course (provided): Hamburgers. Please bring 12 servings according to your last name: A-G: dessert\, H-R: side\, S-Z: fruit.
URL:https://christcovcincy.org/event/fall-fellowship-2/
LOCATION:Christ Covenant picnic and office complex\, 2192 Springdale Rd.\, Cincinnati\, OH\, 45231\, United States
CATEGORIES:fellowships
END:VEVENT
BEGIN:VEVENT
DTSTART;TZID=America/Halifax:20240831T120000
DTEND;TZID=America/Halifax:20240831T180000
DTSTAMP:20260423T221836
CREATED:20240719T200419Z
LAST-MODIFIED:20240725T173057Z
UID:10005432-1725105600-1725127200@christcovcincy.org
SUMMARY:Private Event
DESCRIPTION:Lanning Family 60th Anniversary Celebration
URL:https://christcovcincy.org/event/private-event-82/
LOCATION:Christ Covenant picnic and office complex\, 2192 Springdale Rd.\, Cincinnati\, OH\, 45231\, United States
CATEGORIES:private event
ATTACH;FMTTYPE=image/jpeg:https://christcovcincy.org/wp-content/uploads/2023/06/privateeventcalendar.jpg
END:VEVENT
BEGIN:VEVENT
DTSTART;TZID=America/Halifax:20240829T180000
DTEND;TZID=America/Halifax:20240829T203000
DTSTAMP:20260423T221836
CREATED:20240822T174010Z
LAST-MODIFIED:20240822T183748Z
UID:10005513-1724954400-1724963400@christcovcincy.org
SUMMARY:Choir Kickoff Cookout
DESCRIPTION:Meet at the church office for dinner together followed by a short rehearsal. Steve will provide meats & buns. Bring a side dish to share. New singers are welcome!
URL:https://christcovcincy.org/event/choir-kickoff-cookout-2/
LOCATION:Christ Covenant picnic and office complex\, 2192 Springdale Rd.\, Cincinnati\, OH\, 45231\, United States
ATTACH;FMTTYPE=image/jpeg:https://christcovcincy.org/wp-content/uploads/2023/08/cookout.jpg
END:VEVENT
BEGIN:VEVENT
DTSTART;TZID=America/Halifax:20240827T183000
DTEND;TZID=America/Halifax:20240827T200000
DTSTAMP:20260423T221836
CREATED:20240306T203214Z
LAST-MODIFIED:20240828T153920Z
UID:10005001-1724783400-1724788800@christcovcincy.org
SUMMARY:Volleyball
DESCRIPTION:
URL:https://christcovcincy.org/event/volleyball/2024-08-27/
LOCATION:Christ Covenant picnic and office complex\, 2192 Springdale Rd.\, Cincinnati\, OH\, 45231\, United States
ATTACH;FMTTYPE=image/jpeg:https://christcovcincy.org/wp-content/uploads/2023/05/volley.jpg
END:VEVENT
BEGIN:VEVENT
DTSTART;TZID=America/Halifax:20240827T170000
DTEND;TZID=America/Halifax:20240827T184500
DTSTAMP:20260423T221836
CREATED:20240702T180836Z
LAST-MODIFIED:20240807T171620Z
UID:10005430-1724778000-1724784300@christcovcincy.org
SUMMARY:Family Fellowship & Cookout
DESCRIPTION:Join us for family fellowship & cookout after family swim time. Bring your own grilling items or main dish for your family and a side dish to share.
URL:https://christcovcincy.org/event/private-event-81/2024-08-27/
LOCATION:Christ Covenant picnic and office complex\, 2192 Springdale Rd.\, Cincinnati\, OH\, 45231\, United States
ATTACH;FMTTYPE=image/jpeg:https://christcovcincy.org/wp-content/uploads/2023/08/cookout.jpg
END:VEVENT
BEGIN:VEVENT
DTSTART;TZID=America/Halifax:20240820T183000
DTEND;TZID=America/Halifax:20240820T200000
DTSTAMP:20260423T221836
CREATED:20240306T203214Z
LAST-MODIFIED:20240828T153920Z
UID:10005000-1724178600-1724184000@christcovcincy.org
SUMMARY:Volleyball
DESCRIPTION:
URL:https://christcovcincy.org/event/volleyball/2024-08-20/
LOCATION:Christ Covenant picnic and office complex\, 2192 Springdale Rd.\, Cincinnati\, OH\, 45231\, United States
ATTACH;FMTTYPE=image/jpeg:https://christcovcincy.org/wp-content/uploads/2023/05/volley.jpg
END:VEVENT
BEGIN:VEVENT
DTSTART;TZID=America/Halifax:20240818T170000
DTEND;TZID=America/Halifax:20240818T200000
DTSTAMP:20260423T221836
CREATED:20240306T200024Z
LAST-MODIFIED:20240529T191641Z
UID:10004955-1724000400-1724011200@christcovcincy.org
SUMMARY:Sunday Night Fellowship
DESCRIPTION:On the Boardwalk \nStep right up and join the fun! Games\, popcorn\, snow cones\, prizes and more! Something for the kid in all of us. \nMain Course: hot dog bar (provided) / Bring 12 servings according to your last name – A-G: Dessert\, H-M: Chips\, N-Z: Sides
URL:https://christcovcincy.org/event/sunday-night-fellowship-2-2024-08-18/
LOCATION:Christ Covenant picnic and office complex\, 2192 Springdale Rd.\, Cincinnati\, OH\, 45231\, United States
CATEGORIES:Children's Ministry,fellowships,Youth Ministry
ATTACH;FMTTYPE=image/jpeg:https://christcovcincy.org/wp-content/uploads/2022/07/corina-rainer-9FDI-_E29fk-unsplash-scaled.jpg
END:VEVENT
BEGIN:VEVENT
DTSTART;TZID=America/Halifax:20240813T183000
DTEND;TZID=America/Halifax:20240813T200000
DTSTAMP:20260423T221836
CREATED:20240306T203214Z
LAST-MODIFIED:20240828T153920Z
UID:10004999-1723573800-1723579200@christcovcincy.org
SUMMARY:Volleyball
DESCRIPTION:
URL:https://christcovcincy.org/event/volleyball/2024-08-13/
LOCATION:Christ Covenant picnic and office complex\, 2192 Springdale Rd.\, Cincinnati\, OH\, 45231\, United States
ATTACH;FMTTYPE=image/jpeg:https://christcovcincy.org/wp-content/uploads/2023/05/volley.jpg
END:VEVENT
BEGIN:VEVENT
DTSTART;TZID=America/Halifax:20240813T170000
DTEND;TZID=America/Halifax:20240813T184500
DTSTAMP:20260423T221836
CREATED:20240702T180836Z
LAST-MODIFIED:20240807T171620Z
UID:10005429-1723568400-1723574700@christcovcincy.org
SUMMARY:Family Fellowship & Cookout
DESCRIPTION:Join us for family fellowship & cookout after family swim time. Bring your own grilling items or main dish for your family and a side dish to share.
URL:https://christcovcincy.org/event/private-event-81/2024-08-13/
LOCATION:Christ Covenant picnic and office complex\, 2192 Springdale Rd.\, Cincinnati\, OH\, 45231\, United States
ATTACH;FMTTYPE=image/jpeg:https://christcovcincy.org/wp-content/uploads/2023/08/cookout.jpg
END:VEVENT
BEGIN:VEVENT
DTSTART;TZID=America/Halifax:20240811T123000
DTEND;TZID=America/Halifax:20240811T160000
DTSTAMP:20260423T221836
CREATED:20240724T184239Z
LAST-MODIFIED:20240724T184239Z
UID:10005442-1723379400-1723392000@christcovcincy.org
SUMMARY:Private Event
DESCRIPTION:Miller family party
URL:https://christcovcincy.org/event/private-event-84/
LOCATION:Christ Covenant picnic and office complex\, 2192 Springdale Rd.\, Cincinnati\, OH\, 45231\, United States
CATEGORIES:private event
ATTACH;FMTTYPE=image/jpeg:https://christcovcincy.org/wp-content/uploads/2023/06/privateeventcalendar.jpg
END:VEVENT
BEGIN:VEVENT
DTSTART;TZID=America/Halifax:20240810T140000
DTEND;TZID=America/Halifax:20240810T210000
DTSTAMP:20260423T221836
CREATED:20240724T181710Z
LAST-MODIFIED:20240724T184406Z
UID:10005441-1723298400-1723323600@christcovcincy.org
SUMMARY:Private Event
DESCRIPTION:Rainous Family birthday party/picnic/pool time
URL:https://christcovcincy.org/event/private-event-83/
LOCATION:Christ Covenant picnic and office complex\, 2192 Springdale Rd.\, Cincinnati\, OH\, 45231\, United States
CATEGORIES:private event
ATTACH;FMTTYPE=image/jpeg:https://christcovcincy.org/wp-content/uploads/2023/06/privateeventcalendar.jpg
END:VEVENT
BEGIN:VEVENT
DTSTART;TZID=America/Halifax:20240806T183000
DTEND;TZID=America/Halifax:20240806T200000
DTSTAMP:20260423T221836
CREATED:20240306T203214Z
LAST-MODIFIED:20240828T153920Z
UID:10004998-1722969000-1722974400@christcovcincy.org
SUMMARY:Volleyball
DESCRIPTION:
URL:https://christcovcincy.org/event/volleyball/2024-08-06/
LOCATION:Christ Covenant picnic and office complex\, 2192 Springdale Rd.\, Cincinnati\, OH\, 45231\, United States
ATTACH;FMTTYPE=image/jpeg:https://christcovcincy.org/wp-content/uploads/2023/05/volley.jpg
END:VEVENT
BEGIN:VEVENT
DTSTART;TZID=America/Halifax:20240730T183000
DTEND;TZID=America/Halifax:20240730T200000
DTSTAMP:20260423T221836
CREATED:20240306T203214Z
LAST-MODIFIED:20240828T153920Z
UID:10004997-1722364200-1722369600@christcovcincy.org
SUMMARY:Volleyball
DESCRIPTION:
URL:https://christcovcincy.org/event/volleyball/2024-07-30/
LOCATION:Christ Covenant picnic and office complex\, 2192 Springdale Rd.\, Cincinnati\, OH\, 45231\, United States
ATTACH;FMTTYPE=image/jpeg:https://christcovcincy.org/wp-content/uploads/2023/05/volley.jpg
END:VEVENT
BEGIN:VEVENT
DTSTART;TZID=America/Halifax:20240728T170000
DTEND;TZID=America/Halifax:20240728T200000
DTSTAMP:20260423T221836
CREATED:20240306T200024Z
LAST-MODIFIED:20240509T181013Z
UID:10004952-1722186000-1722196800@christcovcincy.org
SUMMARY:Sunday Night Fellowship
DESCRIPTION:Beat the Heat & BINGO \nBeat the summer heat with some Bingo in the shade of our picnic shelter\, some splashing in the church pool\, and other summer surprises. Bring your swimsuit if you plan to get wet. \nMain Course: sandwich tray (provided) / Bring 12 servings according to your last name – A-G: Chips\, H-M: Salads\, N-Z: Dessert
URL:https://christcovcincy.org/event/sunday-night-fellowship-2-2024-07-28/
LOCATION:Christ Covenant picnic and office complex\, 2192 Springdale Rd.\, Cincinnati\, OH\, 45231\, United States
CATEGORIES:fellowships
END:VEVENT
BEGIN:VEVENT
DTSTART;TZID=America/Halifax:20240723T183000
DTEND;TZID=America/Halifax:20240723T200000
DTSTAMP:20260423T221836
CREATED:20240306T203214Z
LAST-MODIFIED:20240828T153920Z
UID:10004996-1721759400-1721764800@christcovcincy.org
SUMMARY:Volleyball
DESCRIPTION:
URL:https://christcovcincy.org/event/volleyball/2024-07-23/
LOCATION:Christ Covenant picnic and office complex\, 2192 Springdale Rd.\, Cincinnati\, OH\, 45231\, United States
ATTACH;FMTTYPE=image/jpeg:https://christcovcincy.org/wp-content/uploads/2023/05/volley.jpg
END:VEVENT
BEGIN:VEVENT
DTSTART;TZID=America/Halifax:20240723T170000
DTEND;TZID=America/Halifax:20240723T184500
DTSTAMP:20260423T221836
CREATED:20240702T180836Z
LAST-MODIFIED:20240807T171620Z
UID:10005428-1721754000-1721760300@christcovcincy.org
SUMMARY:Family Fellowship & Cookout
DESCRIPTION:Join us for family fellowship & cookout after family swim time. Bring your own grilling items or main dish for your family and a side dish to share.
URL:https://christcovcincy.org/event/private-event-81/2024-07-23/
LOCATION:Christ Covenant picnic and office complex\, 2192 Springdale Rd.\, Cincinnati\, OH\, 45231\, United States
ATTACH;FMTTYPE=image/jpeg:https://christcovcincy.org/wp-content/uploads/2023/08/cookout.jpg
END:VEVENT
BEGIN:VEVENT
DTSTART;TZID=America/Halifax:20240716T183000
DTEND;TZID=America/Halifax:20240716T200000
DTSTAMP:20260423T221836
CREATED:20240306T203214Z
LAST-MODIFIED:20240828T153920Z
UID:10004995-1721154600-1721160000@christcovcincy.org
SUMMARY:Volleyball
DESCRIPTION:
URL:https://christcovcincy.org/event/volleyball/2024-07-16/
LOCATION:Christ Covenant picnic and office complex\, 2192 Springdale Rd.\, Cincinnati\, OH\, 45231\, United States
ATTACH;FMTTYPE=image/jpeg:https://christcovcincy.org/wp-content/uploads/2023/05/volley.jpg
END:VEVENT
BEGIN:VEVENT
DTSTART;TZID=America/Halifax:20240714T170000
DTEND;TZID=America/Halifax:20240714T200000
DTSTAMP:20260423T221836
CREATED:20240306T200024Z
LAST-MODIFIED:20240509T180149Z
UID:10005260-1720976400-1720987200@christcovcincy.org
SUMMARY:Sunday Night Fellowship
DESCRIPTION:Around the World \nIn a nod to the Summer Olympics being held in Paris\, we’ll enjoy some international games of our own\, as well as a cosmopolitan smorgasbord dinner. \nMain Course: International Potluck – Bring one or two favorite dishes from your family’s traditions\, along with a card explaining your recipe’s origin.
URL:https://christcovcincy.org/event/sunday-night-fellowship-2-2024-07-14/
LOCATION:Christ Covenant picnic and office complex\, 2192 Springdale Rd.\, Cincinnati\, OH\, 45231\, United States
CATEGORIES:fellowships
END:VEVENT
BEGIN:VEVENT
DTSTART;TZID=America/Halifax:20240712T150000
DTEND;TZID=America/Halifax:20240712T200000
DTSTAMP:20260423T221836
CREATED:20240516T182636Z
LAST-MODIFIED:20240516T182636Z
UID:10005409-1720796400-1720814400@christcovcincy.org
SUMMARY:Private Event
DESCRIPTION:70th birthday celebration for Mark V
URL:https://christcovcincy.org/event/private-event-65/
LOCATION:Christ Covenant picnic and office complex\, 2192 Springdale Rd.\, Cincinnati\, OH\, 45231\, United States
CATEGORIES:private event
ATTACH;FMTTYPE=image/jpeg:https://christcovcincy.org/wp-content/uploads/2023/06/privateeventcalendar.jpg
END:VEVENT
BEGIN:VEVENT
DTSTART;TZID=America/Halifax:20240709T183000
DTEND;TZID=America/Halifax:20240709T200000
DTSTAMP:20260423T221836
CREATED:20240306T203214Z
LAST-MODIFIED:20240828T153920Z
UID:10004994-1720549800-1720555200@christcovcincy.org
SUMMARY:Volleyball
DESCRIPTION:
URL:https://christcovcincy.org/event/volleyball/2024-07-09/
LOCATION:Christ Covenant picnic and office complex\, 2192 Springdale Rd.\, Cincinnati\, OH\, 45231\, United States
ATTACH;FMTTYPE=image/jpeg:https://christcovcincy.org/wp-content/uploads/2023/05/volley.jpg
END:VEVENT
BEGIN:VEVENT
DTSTART;TZID=America/Halifax:20240707T140000
DTEND;TZID=America/Halifax:20240707T220000
DTSTAMP:20260423T221836
CREATED:20240522T150238Z
LAST-MODIFIED:20240522T150555Z
UID:10005411-1720360800-1720389600@christcovcincy.org
SUMMARY:Private Event
DESCRIPTION:L Marsh graduation party – set up on Saturday evening beginning around 5pm
URL:https://christcovcincy.org/event/private-event-66/
LOCATION:Christ Covenant picnic and office complex\, 2192 Springdale Rd.\, Cincinnati\, OH\, 45231\, United States
CATEGORIES:private event
ATTACH;FMTTYPE=image/jpeg:https://christcovcincy.org/wp-content/uploads/2023/06/privateeventcalendar.jpg
END:VEVENT
BEGIN:VEVENT
DTSTART;TZID=America/Halifax:20240704T120000
DTEND;TZID=America/Halifax:20240704T170000
DTSTAMP:20260423T221836
CREATED:20240530T134410Z
LAST-MODIFIED:20240530T134410Z
UID:10005414-1720094400-1720112400@christcovcincy.org
SUMMARY:Private Event
DESCRIPTION:Miller Family Party
URL:https://christcovcincy.org/event/private-event-69/
LOCATION:Christ Covenant picnic and office complex\, 2192 Springdale Rd.\, Cincinnati\, OH\, 45231\, United States
CATEGORIES:private event
ATTACH;FMTTYPE=image/jpeg:https://christcovcincy.org/wp-content/uploads/2023/06/privateeventcalendar.jpg
END:VEVENT
BEGIN:VEVENT
DTSTART;TZID=America/Halifax:20240702T183000
DTEND;TZID=America/Halifax:20240702T200000
DTSTAMP:20260423T221836
CREATED:20240306T203214Z
LAST-MODIFIED:20240828T153920Z
UID:10004993-1719945000-1719950400@christcovcincy.org
SUMMARY:Volleyball
DESCRIPTION:
URL:https://christcovcincy.org/event/volleyball/2024-07-02/
LOCATION:Christ Covenant picnic and office complex\, 2192 Springdale Rd.\, Cincinnati\, OH\, 45231\, United States
ATTACH;FMTTYPE=image/jpeg:https://christcovcincy.org/wp-content/uploads/2023/05/volley.jpg
END:VEVENT
BEGIN:VEVENT
DTSTART;TZID=America/Halifax:20240629T163000
DTEND;TZID=America/Halifax:20240629T193000
DTSTAMP:20260423T221836
CREATED:20240530T134245Z
LAST-MODIFIED:20240530T134245Z
UID:10005413-1719678600-1719689400@christcovcincy.org
SUMMARY:Private Event
DESCRIPTION:Lyons graduation party
URL:https://christcovcincy.org/event/private-event-68/
LOCATION:Christ Covenant picnic and office complex\, 2192 Springdale Rd.\, Cincinnati\, OH\, 45231\, United States
CATEGORIES:private event
ATTACH;FMTTYPE=image/jpeg:https://christcovcincy.org/wp-content/uploads/2023/06/privateeventcalendar.jpg
END:VEVENT
BEGIN:VEVENT
DTSTART;TZID=America/Halifax:20240629T122000
DTEND;TZID=America/Halifax:20240629T153000
DTSTAMP:20260423T221836
CREATED:20240530T134126Z
LAST-MODIFIED:20240530T134126Z
UID:10005412-1719663600-1719675000@christcovcincy.org
SUMMARY:Private Event
DESCRIPTION:Miller family event
URL:https://christcovcincy.org/event/private-event-67/
LOCATION:Christ Covenant picnic and office complex\, 2192 Springdale Rd.\, Cincinnati\, OH\, 45231\, United States
CATEGORIES:private event
ATTACH;FMTTYPE=image/jpeg:https://christcovcincy.org/wp-content/uploads/2023/06/privateeventcalendar.jpg
END:VEVENT
BEGIN:VEVENT
DTSTART;TZID=America/Halifax:20240626T170000
DTEND;TZID=America/Halifax:20240626T200000
DTSTAMP:20260423T221836
CREATED:20240321T192331Z
LAST-MODIFIED:20240531T164618Z
UID:10005285-1719421200-1719432000@christcovcincy.org
SUMMARY:Rock Solid
DESCRIPTION:Fantastic Family Nights are back! Join us Wednesdays in June to learn  rock solid truth to stand on in the shifting sands of our life! Crafts\, games\, music\, food\, fun\, and Truth lessons. For kids ages 5-12 (and their parents). \nDinner for the whole family at 5:00. Program begins at 5:45. \n  \n 
URL:https://christcovcincy.org/event/rock-solid/2024-06-26/
LOCATION:Christ Covenant picnic and office complex\, 2192 Springdale Rd.\, Cincinnati\, OH\, 45231\, United States
CATEGORIES:Children's Ministry,summer gatherings
ATTACH;FMTTYPE=image/jpeg:https://christcovcincy.org/wp-content/uploads/2024/05/Rock-Solid-calendar-version.jpg
END:VEVENT
BEGIN:VEVENT
DTSTART;TZID=America/Halifax:20240625T183000
DTEND;TZID=America/Halifax:20240625T200000
DTSTAMP:20260423T221836
CREATED:20240306T203214Z
LAST-MODIFIED:20240828T153920Z
UID:10004992-1719340200-1719345600@christcovcincy.org
SUMMARY:Volleyball
DESCRIPTION:
URL:https://christcovcincy.org/event/volleyball/2024-06-25/
LOCATION:Christ Covenant picnic and office complex\, 2192 Springdale Rd.\, Cincinnati\, OH\, 45231\, United States
ATTACH;FMTTYPE=image/jpeg:https://christcovcincy.org/wp-content/uploads/2023/05/volley.jpg
END:VEVENT
BEGIN:VEVENT
DTSTART;TZID=America/Halifax:20240625T170000
DTEND;TZID=America/Halifax:20240625T184500
DTSTAMP:20260423T221836
CREATED:20240702T180836Z
LAST-MODIFIED:20240807T171620Z
UID:10005427-1719334800-1719341100@christcovcincy.org
SUMMARY:Family Fellowship & Cookout
DESCRIPTION:Join us for family fellowship & cookout after family swim time. Bring your own grilling items or main dish for your family and a side dish to share.
URL:https://christcovcincy.org/event/private-event-81/2024-06-25/
LOCATION:Christ Covenant picnic and office complex\, 2192 Springdale Rd.\, Cincinnati\, OH\, 45231\, United States
ATTACH;FMTTYPE=image/jpeg:https://christcovcincy.org/wp-content/uploads/2023/08/cookout.jpg
END:VEVENT
END:VCALENDAR