BEGIN:VCALENDAR
VERSION:2.0
PRODID:-//Christ Covenant Church - ECPv6.15.20//NONSGML v1.0//EN
CALSCALE:GREGORIAN
METHOD:PUBLISH
X-WR-CALNAME:Christ Covenant Church
X-ORIGINAL-URL:https://christcovcincy.org
X-WR-CALDESC:Events for Christ Covenant Church
REFRESH-INTERVAL;VALUE=DURATION:PT1H
X-Robots-Tag:noindex
X-PUBLISHED-TTL:PT1H
BEGIN:VTIMEZONE
TZID:America/New_York
BEGIN:DAYLIGHT
TZOFFSETFROM:-0500
TZOFFSETTO:-0400
TZNAME:EDT
DTSTART:20220313T070000
END:DAYLIGHT
BEGIN:STANDARD
TZOFFSETFROM:-0400
TZOFFSETTO:-0500
TZNAME:EST
DTSTART:20221106T060000
END:STANDARD
BEGIN:DAYLIGHT
TZOFFSETFROM:-0500
TZOFFSETTO:-0400
TZNAME:EDT
DTSTART:20230312T070000
END:DAYLIGHT
BEGIN:STANDARD
TZOFFSETFROM:-0400
TZOFFSETTO:-0500
TZNAME:EST
DTSTART:20231105T060000
END:STANDARD
BEGIN:DAYLIGHT
TZOFFSETFROM:-0500
TZOFFSETTO:-0400
TZNAME:EDT
DTSTART:20240310T070000
END:DAYLIGHT
BEGIN:STANDARD
TZOFFSETFROM:-0400
TZOFFSETTO:-0500
TZNAME:EST
DTSTART:20241103T060000
END:STANDARD
BEGIN:DAYLIGHT
TZOFFSETFROM:-0500
TZOFFSETTO:-0400
TZNAME:EDT
DTSTART:20250309T070000
END:DAYLIGHT
BEGIN:STANDARD
TZOFFSETFROM:-0400
TZOFFSETTO:-0500
TZNAME:EST
DTSTART:20251102T060000
END:STANDARD
END:VTIMEZONE
BEGIN:VTIMEZONE
TZID:America/Halifax
BEGIN:DAYLIGHT
TZOFFSETFROM:-0400
TZOFFSETTO:-0300
TZNAME:ADT
DTSTART:20220313T060000
END:DAYLIGHT
BEGIN:STANDARD
TZOFFSETFROM:-0300
TZOFFSETTO:-0400
TZNAME:AST
DTSTART:20221106T050000
END:STANDARD
BEGIN:DAYLIGHT
TZOFFSETFROM:-0400
TZOFFSETTO:-0300
TZNAME:ADT
DTSTART:20230312T060000
END:DAYLIGHT
BEGIN:STANDARD
TZOFFSETFROM:-0300
TZOFFSETTO:-0400
TZNAME:AST
DTSTART:20231105T050000
END:STANDARD
BEGIN:DAYLIGHT
TZOFFSETFROM:-0400
TZOFFSETTO:-0300
TZNAME:ADT
DTSTART:20240310T060000
END:DAYLIGHT
BEGIN:STANDARD
TZOFFSETFROM:-0300
TZOFFSETTO:-0400
TZNAME:AST
DTSTART:20241103T050000
END:STANDARD
BEGIN:DAYLIGHT
TZOFFSETFROM:-0400
TZOFFSETTO:-0300
TZNAME:ADT
DTSTART:20250309T060000
END:DAYLIGHT
BEGIN:STANDARD
TZOFFSETFROM:-0300
TZOFFSETTO:-0400
TZNAME:AST
DTSTART:20251102T050000
END:STANDARD
END:VTIMEZONE
BEGIN:VTIMEZONE
TZID:UTC
BEGIN:STANDARD
TZOFFSETFROM:+0000
TZOFFSETTO:+0000
TZNAME:UTC
DTSTART:20220101T000000
END:STANDARD
END:VTIMEZONE
BEGIN:VEVENT
DTSTART;TZID=America/New_York:20240116T120000
DTEND;TZID=America/New_York:20240116T170000
DTSTAMP:20260425T230310
CREATED:20230412T183605Z
LAST-MODIFIED:20240516T203704Z
UID:10004532-1705406400-1705424400@christcovcincy.org
SUMMARY:Private Event
DESCRIPTION:Boerner/Langdon Speech & Debate Class
URL:https://christcovcincy.org/event/private-event-26/2024-01-16/
LOCATION:Church Fellowship Hall
ATTACH;FMTTYPE=image/png:https://christcovcincy.org/wp-content/uploads/2023/03/Private-Eventwebcalendar.png
END:VEVENT
BEGIN:VEVENT
DTSTART;TZID=America/Halifax:20240115T183000
DTEND;TZID=America/Halifax:20240115T210000
DTSTAMP:20260425T230311
CREATED:20240111T171744Z
LAST-MODIFIED:20240111T182327Z
UID:10005192-1705343400-1705352400@christcovcincy.org
SUMMARY:Missions Event
DESCRIPTION:View a screening of Patrick Marsh’s recent documentary. For security reasons\, attendees will be required to sign a non-disclosure agreement. Adults viewers only.
URL:https://christcovcincy.org/event/missions-event/
LOCATION:Church Fellowship Hall
ATTACH;FMTTYPE=image/jpeg:https://christcovcincy.org/wp-content/uploads/2023/05/missionscommittee.jpg
END:VEVENT
BEGIN:VEVENT
DTSTART;TZID=America/Halifax:20240113T110000
DTEND;TZID=America/Halifax:20240113T140000
DTSTAMP:20260425T230311
CREATED:20231122T205254Z
LAST-MODIFIED:20240228T180552Z
UID:10005154-1705143600-1705154400@christcovcincy.org
SUMMARY:Private Event
DESCRIPTION:Karate Practice (Katas)
URL:https://christcovcincy.org/event/private-event-48/2024-01-13/
LOCATION:Church Fellowship Hall
ATTACH;FMTTYPE=image/jpeg:https://christcovcincy.org/wp-content/uploads/2023/06/privateeventcalendar.jpg
END:VEVENT
BEGIN:VEVENT
DTSTART;TZID=America/Halifax:20240112T100000
DTEND;TZID=America/Halifax:20240112T130000
DTSTAMP:20260425T230311
CREATED:20231229T202053Z
LAST-MODIFIED:20231229T202053Z
UID:10005182-1705053600-1705064400@christcovcincy.org
SUMMARY:Silver Heirs
DESCRIPTION:Join the Senior Saints of the church for a time of fun and fellowship as we enjoy an interesting program and boxed lunch.  Bring your friends!  For specific monthly program details\, see the weekly Church Life.
URL:https://christcovcincy.org/event/silver-heirs-3/
LOCATION:Church Fellowship Hall
ATTACH;FMTTYPE=image/jpeg:https://christcovcincy.org/wp-content/uploads/2023/01/SilverHeirs-1.jpg
END:VEVENT
BEGIN:VEVENT
DTSTART;TZID=America/New_York:20240109T120000
DTEND;TZID=America/New_York:20240109T170000
DTSTAMP:20260425T230311
CREATED:20230412T183605Z
LAST-MODIFIED:20240516T203704Z
UID:10004531-1704801600-1704819600@christcovcincy.org
SUMMARY:Private Event
DESCRIPTION:Boerner/Langdon Speech & Debate Class
URL:https://christcovcincy.org/event/private-event-26/2024-01-09/
LOCATION:Church Fellowship Hall
ATTACH;FMTTYPE=image/png:https://christcovcincy.org/wp-content/uploads/2023/03/Private-Eventwebcalendar.png
END:VEVENT
BEGIN:VEVENT
DTSTART;TZID=America/Halifax:20231210T174500
DTEND;TZID=America/Halifax:20231210T194500
DTSTAMP:20260425T230311
CREATED:20231101T160612Z
LAST-MODIFIED:20231101T161705Z
UID:10004859-1702230300-1702237500@christcovcincy.org
SUMMARY:Birthday Party for Jesus
DESCRIPTION:Join in our celebration of Jesus’ birth for kids ages 4-12. \nPizza dinner\, Christmas activities\, games\, crafts\, and of course–birthday cake. \nGift exchange: Children bring a wrapped $5 gift that begins with the first letter of their name \nBring your friends and neighbors! Parents welcome\, but not required to stay. \nRSVP to Tina Miller by December 6.
URL:https://christcovcincy.org/event/birthday-party-for-jesus-2/
LOCATION:Church Fellowship Hall
CATEGORIES:Children's Ministry
ATTACH;FMTTYPE=image/png:https://christcovcincy.org/wp-content/uploads/2023/11/Birthday-Party-for-Jesus-2023.png
END:VEVENT
BEGIN:VEVENT
DTSTART;TZID=America/Halifax:20231209T110000
DTEND;TZID=America/Halifax:20231209T140000
DTSTAMP:20260425T230311
CREATED:20231122T205254Z
LAST-MODIFIED:20240228T180552Z
UID:10005153-1702119600-1702130400@christcovcincy.org
SUMMARY:Private Event
DESCRIPTION:Karate Practice (Katas)
URL:https://christcovcincy.org/event/private-event-48/2023-12-09/
LOCATION:Church Fellowship Hall
ATTACH;FMTTYPE=image/jpeg:https://christcovcincy.org/wp-content/uploads/2023/06/privateeventcalendar.jpg
END:VEVENT
BEGIN:VEVENT
DTSTART;TZID=America/Halifax:20231208T190000
DTEND;TZID=America/Halifax:20231208T200000
DTSTAMP:20260425T230311
CREATED:20231130T184248Z
LAST-MODIFIED:20231130T184248Z
UID:10005165-1702062000-1702065600@christcovcincy.org
SUMMARY:Cedar Bay Family Camp Update Meeting
DESCRIPTION:Attention Family Campers and others with inquiring minds about camp! You’re invited to a Cedar Bay Camp Update Meeting. We will hear from Camp Director\, Dave Hopkins\, about their vision for future development\, including building a sauna at Mariners’ Cove. It will be built\, in part\, with donations to the Katie Wood Memorial Fund\, honoring Katie’s deep love of the sauna and all things Family Camp. Dave will also share about the need for help recruiting full-time and seasonal camp staff\, the annual Men’s MLK Weekend Work Project\, and other ways to support Cedar Bay. 
URL:https://christcovcincy.org/event/cedar-bay-family-camp-update-meeting/
LOCATION:Church Fellowship Hall
ATTACH;FMTTYPE=image/jpeg:https://christcovcincy.org/wp-content/uploads/2023/03/Cedar-Bay-sign-1.jpg
END:VEVENT
BEGIN:VEVENT
DTSTART;TZID=UTC:20231208T100000
DTEND;TZID=UTC:20231208T130000
DTSTAMP:20260425T230311
CREATED:20230106T011628Z
LAST-MODIFIED:20230428T154039Z
UID:10004738-1702029600-1702040400@christcovcincy.org
SUMMARY:Silver Heirs
DESCRIPTION:Join the Senior Saints of the church for a time of fun and fellowship as we enjoy an interesting program and boxed lunch.  Bring your friends!  For specific monthly program details\, see the weekly Church Life.
URL:https://christcovcincy.org/event/silver-heirs-2/2023-12-08/
LOCATION:Church Fellowship Hall
ATTACH;FMTTYPE=image/jpeg:https://christcovcincy.org/wp-content/uploads/2023/01/SilverHeirs-1.jpg
END:VEVENT
BEGIN:VEVENT
DTSTART;TZID=America/New_York:20231205T120000
DTEND;TZID=America/New_York:20231205T170000
DTSTAMP:20260425T230311
CREATED:20230412T183605Z
LAST-MODIFIED:20240516T203704Z
UID:10004530-1701777600-1701795600@christcovcincy.org
SUMMARY:Private Event
DESCRIPTION:Boerner/Langdon Speech & Debate Class
URL:https://christcovcincy.org/event/private-event-26/2023-12-05/
LOCATION:Church Fellowship Hall
ATTACH;FMTTYPE=image/png:https://christcovcincy.org/wp-content/uploads/2023/03/Private-Eventwebcalendar.png
END:VEVENT
BEGIN:VEVENT
DTSTART;TZID=America/New_York:20231128T120000
DTEND;TZID=America/New_York:20231128T170000
DTSTAMP:20260425T230311
CREATED:20230412T183605Z
LAST-MODIFIED:20240516T203704Z
UID:10004529-1701172800-1701190800@christcovcincy.org
SUMMARY:Private Event
DESCRIPTION:Boerner/Langdon Speech & Debate Class
URL:https://christcovcincy.org/event/private-event-26/2023-11-28/
LOCATION:Church Fellowship Hall
ATTACH;FMTTYPE=image/png:https://christcovcincy.org/wp-content/uploads/2023/03/Private-Eventwebcalendar.png
END:VEVENT
BEGIN:VEVENT
DTSTART;TZID=America/New_York:20231114T120000
DTEND;TZID=America/New_York:20231114T170000
DTSTAMP:20260425T230311
CREATED:20230412T183605Z
LAST-MODIFIED:20240516T203704Z
UID:10004528-1699963200-1699981200@christcovcincy.org
SUMMARY:Private Event
DESCRIPTION:Boerner/Langdon Speech & Debate Class
URL:https://christcovcincy.org/event/private-event-26/2023-11-14/
LOCATION:Church Fellowship Hall
ATTACH;FMTTYPE=image/png:https://christcovcincy.org/wp-content/uploads/2023/03/Private-Eventwebcalendar.png
END:VEVENT
BEGIN:VEVENT
DTSTART;TZID=UTC:20231110T100000
DTEND;TZID=UTC:20231110T130000
DTSTAMP:20260425T230311
CREATED:20230106T011628Z
LAST-MODIFIED:20230428T154039Z
UID:10004737-1699610400-1699621200@christcovcincy.org
SUMMARY:Silver Heirs
DESCRIPTION:Join the Senior Saints of the church for a time of fun and fellowship as we enjoy an interesting program and boxed lunch.  Bring your friends!  For specific monthly program details\, see the weekly Church Life.
URL:https://christcovcincy.org/event/silver-heirs-2/2023-11-10/
LOCATION:Church Fellowship Hall
ATTACH;FMTTYPE=image/jpeg:https://christcovcincy.org/wp-content/uploads/2023/01/SilverHeirs-1.jpg
END:VEVENT
BEGIN:VEVENT
DTSTART;TZID=America/Halifax:20231029T114500
DTEND;TZID=America/Halifax:20231029T140000
DTSTAMP:20260425T230311
CREATED:20230927T175618Z
LAST-MODIFIED:20230927T175618Z
UID:10005117-1698579900-1698588000@christcovcincy.org
SUMMARY:"Fellowship of Grace" Luncheon
DESCRIPTION:
URL:https://christcovcincy.org/event/fellowship-of-grace-luncheon/
LOCATION:Church Fellowship Hall
CATEGORIES:fellowships
ATTACH;FMTTYPE=image/png:https://christcovcincy.org/wp-content/uploads/2022/12/luncheon.png
END:VEVENT
BEGIN:VEVENT
DTSTART;TZID=America/New_York:20231024T120000
DTEND;TZID=America/New_York:20231024T170000
DTSTAMP:20260425T230311
CREATED:20230412T183605Z
LAST-MODIFIED:20240516T203704Z
UID:10004527-1698148800-1698166800@christcovcincy.org
SUMMARY:Private Event
DESCRIPTION:Boerner/Langdon Speech & Debate Class
URL:https://christcovcincy.org/event/private-event-26/2023-10-24/
LOCATION:Church Fellowship Hall
ATTACH;FMTTYPE=image/png:https://christcovcincy.org/wp-content/uploads/2023/03/Private-Eventwebcalendar.png
END:VEVENT
BEGIN:VEVENT
DTSTART;TZID=America/New_York:20231017T120000
DTEND;TZID=America/New_York:20231017T170000
DTSTAMP:20260425T230311
CREATED:20230412T183605Z
LAST-MODIFIED:20240516T203704Z
UID:10004526-1697544000-1697562000@christcovcincy.org
SUMMARY:Private Event
DESCRIPTION:Boerner/Langdon Speech & Debate Class
URL:https://christcovcincy.org/event/private-event-26/2023-10-17/
LOCATION:Church Fellowship Hall
ATTACH;FMTTYPE=image/png:https://christcovcincy.org/wp-content/uploads/2023/03/Private-Eventwebcalendar.png
END:VEVENT
BEGIN:VEVENT
DTSTART;TZID=UTC:20231013T100000
DTEND;TZID=UTC:20231013T130000
DTSTAMP:20260425T230311
CREATED:20230106T011628Z
LAST-MODIFIED:20230428T154039Z
UID:10004736-1697191200-1697202000@christcovcincy.org
SUMMARY:Silver Heirs
DESCRIPTION:Join the Senior Saints of the church for a time of fun and fellowship as we enjoy an interesting program and boxed lunch.  Bring your friends!  For specific monthly program details\, see the weekly Church Life.
URL:https://christcovcincy.org/event/silver-heirs-2/2023-10-13/
LOCATION:Church Fellowship Hall
ATTACH;FMTTYPE=image/jpeg:https://christcovcincy.org/wp-content/uploads/2023/01/SilverHeirs-1.jpg
END:VEVENT
BEGIN:VEVENT
DTSTART;TZID=America/New_York:20231010T120000
DTEND;TZID=America/New_York:20231010T170000
DTSTAMP:20260425T230311
CREATED:20230412T183605Z
LAST-MODIFIED:20240516T203704Z
UID:10004525-1696939200-1696957200@christcovcincy.org
SUMMARY:Private Event
DESCRIPTION:Boerner/Langdon Speech & Debate Class
URL:https://christcovcincy.org/event/private-event-26/2023-10-10/
LOCATION:Church Fellowship Hall
ATTACH;FMTTYPE=image/png:https://christcovcincy.org/wp-content/uploads/2023/03/Private-Eventwebcalendar.png
END:VEVENT
BEGIN:VEVENT
DTSTART;TZID=America/Halifax:20231006T130000
DTEND;TZID=America/Halifax:20231006T160000
DTSTAMP:20260425T230311
CREATED:20230907T134710Z
LAST-MODIFIED:20230907T134710Z
UID:10005079-1696597200-1696608000@christcovcincy.org
SUMMARY:CAFE Event
DESCRIPTION:Sons of American Revolution presentations
URL:https://christcovcincy.org/event/cafe-event/
LOCATION:Church Fellowship Hall
ATTACH;FMTTYPE=image/png:https://christcovcincy.org/wp-content/uploads/2022/07/Cafe-Event.png
END:VEVENT
BEGIN:VEVENT
DTSTART;TZID=America/New_York:20231003T120000
DTEND;TZID=America/New_York:20231003T170000
DTSTAMP:20260425T230311
CREATED:20230412T183605Z
LAST-MODIFIED:20240516T203704Z
UID:10004524-1696334400-1696352400@christcovcincy.org
SUMMARY:Private Event
DESCRIPTION:Boerner/Langdon Speech & Debate Class
URL:https://christcovcincy.org/event/private-event-26/2023-10-03/
LOCATION:Church Fellowship Hall
ATTACH;FMTTYPE=image/png:https://christcovcincy.org/wp-content/uploads/2023/03/Private-Eventwebcalendar.png
END:VEVENT
BEGIN:VEVENT
DTSTART;TZID=America/New_York:20230926T120000
DTEND;TZID=America/New_York:20230926T170000
DTSTAMP:20260425T230311
CREATED:20230412T183605Z
LAST-MODIFIED:20240516T203704Z
UID:10004523-1695729600-1695747600@christcovcincy.org
SUMMARY:Private Event
DESCRIPTION:Boerner/Langdon Speech & Debate Class
URL:https://christcovcincy.org/event/private-event-26/2023-09-26/
LOCATION:Church Fellowship Hall
ATTACH;FMTTYPE=image/png:https://christcovcincy.org/wp-content/uploads/2023/03/Private-Eventwebcalendar.png
END:VEVENT
BEGIN:VEVENT
DTSTART;TZID=America/New_York:20230919T120000
DTEND;TZID=America/New_York:20230919T170000
DTSTAMP:20260425T230311
CREATED:20230412T183605Z
LAST-MODIFIED:20240516T203704Z
UID:10004522-1695124800-1695142800@christcovcincy.org
SUMMARY:Private Event
DESCRIPTION:Boerner/Langdon Speech & Debate Class
URL:https://christcovcincy.org/event/private-event-26/2023-09-19/
LOCATION:Church Fellowship Hall
ATTACH;FMTTYPE=image/png:https://christcovcincy.org/wp-content/uploads/2023/03/Private-Eventwebcalendar.png
END:VEVENT
BEGIN:VEVENT
DTSTART;TZID=America/New_York:20230912T120000
DTEND;TZID=America/New_York:20230912T170000
DTSTAMP:20260425T230311
CREATED:20230412T183605Z
LAST-MODIFIED:20240516T203704Z
UID:10004521-1694520000-1694538000@christcovcincy.org
SUMMARY:Private Event
DESCRIPTION:Boerner/Langdon Speech & Debate Class
URL:https://christcovcincy.org/event/private-event-26/2023-09-12/
LOCATION:Church Fellowship Hall
ATTACH;FMTTYPE=image/png:https://christcovcincy.org/wp-content/uploads/2023/03/Private-Eventwebcalendar.png
END:VEVENT
BEGIN:VEVENT
DTSTART;TZID=UTC:20230908T100000
DTEND;TZID=UTC:20230908T130000
DTSTAMP:20260425T230311
CREATED:20230106T011628Z
LAST-MODIFIED:20230428T154039Z
UID:10004735-1694167200-1694178000@christcovcincy.org
SUMMARY:Silver Heirs
DESCRIPTION:Join the Senior Saints of the church for a time of fun and fellowship as we enjoy an interesting program and boxed lunch.  Bring your friends!  For specific monthly program details\, see the weekly Church Life.
URL:https://christcovcincy.org/event/silver-heirs-2/2023-09-08/
LOCATION:Church Fellowship Hall
ATTACH;FMTTYPE=image/jpeg:https://christcovcincy.org/wp-content/uploads/2023/01/SilverHeirs-1.jpg
END:VEVENT
BEGIN:VEVENT
DTSTART;TZID=America/New_York:20230905T120000
DTEND;TZID=America/New_York:20230905T170000
DTSTAMP:20260425T230311
CREATED:20230412T183605Z
LAST-MODIFIED:20240516T203704Z
UID:10004520-1693915200-1693933200@christcovcincy.org
SUMMARY:Private Event
DESCRIPTION:Boerner/Langdon Speech & Debate Class
URL:https://christcovcincy.org/event/private-event-26/2023-09-05/
LOCATION:Church Fellowship Hall
ATTACH;FMTTYPE=image/png:https://christcovcincy.org/wp-content/uploads/2023/03/Private-Eventwebcalendar.png
END:VEVENT
BEGIN:VEVENT
DTSTART;TZID=America/Halifax:20230827T120000
DTEND;TZID=America/Halifax:20230827T133000
DTSTAMP:20260425T230311
CREATED:20230823T154118Z
LAST-MODIFIED:20230823T181853Z
UID:10005076-1693137600-1693143000@christcovcincy.org
SUMMARY:Mission Brown Bag Lunch
DESCRIPTION:Come join Laurie Klaas for an informal time of sharing over lunch in Fellowship Hall after the service. Drinks will be provided. Contact Judy Langdon with questions (513-829-1056).
URL:https://christcovcincy.org/event/mission-brown-bag-lunch-3/
LOCATION:Church Fellowship Hall
ATTACH;FMTTYPE=image/jpeg:https://christcovcincy.org/wp-content/uploads/2023/04/brownbaglunch.jpg
END:VEVENT
BEGIN:VEVENT
DTSTART;TZID=America/Halifax:20230820T083000
DTEND;TZID=America/Halifax:20230820T101500
DTSTAMP:20260425T230311
CREATED:20230706T164454Z
LAST-MODIFIED:20230706T164454Z
UID:10004960-1692520200-1692526500@christcovcincy.org
SUMMARY:Sunday School Kick-Off Breakfast
DESCRIPTION:Join in a time of fellowship over breakfast and then stick around to see the children who are promoting in this new Sunday School year. We’ll spend time praying for the children and their teachers as we offer this ministry to the Lord for the 2023-2024 year.
URL:https://christcovcincy.org/event/sunday-school-kick-off-breakfast/
LOCATION:Church Fellowship Hall
END:VEVENT
BEGIN:VEVENT
DTSTART;TZID=UTC:20230714T100000
DTEND;TZID=UTC:20230714T130000
DTSTAMP:20260425T230311
CREATED:20230106T011628Z
LAST-MODIFIED:20230428T154039Z
UID:10004734-1689328800-1689339600@christcovcincy.org
SUMMARY:Silver Heirs
DESCRIPTION:Join the Senior Saints of the church for a time of fun and fellowship as we enjoy an interesting program and boxed lunch.  Bring your friends!  For specific monthly program details\, see the weekly Church Life.
URL:https://christcovcincy.org/event/silver-heirs-2/2023-07-14/
LOCATION:Church Fellowship Hall
ATTACH;FMTTYPE=image/jpeg:https://christcovcincy.org/wp-content/uploads/2023/01/SilverHeirs-1.jpg
END:VEVENT
BEGIN:VEVENT
DTSTART;TZID=UTC:20230609T100000
DTEND;TZID=UTC:20230609T130000
DTSTAMP:20260425T230311
CREATED:20230106T011628Z
LAST-MODIFIED:20230428T154039Z
UID:10004733-1686304800-1686315600@christcovcincy.org
SUMMARY:Silver Heirs
DESCRIPTION:Join the Senior Saints of the church for a time of fun and fellowship as we enjoy an interesting program and boxed lunch.  Bring your friends!  For specific monthly program details\, see the weekly Church Life.
URL:https://christcovcincy.org/event/silver-heirs-2/2023-06-09/
LOCATION:Church Fellowship Hall
ATTACH;FMTTYPE=image/jpeg:https://christcovcincy.org/wp-content/uploads/2023/01/SilverHeirs-1.jpg
END:VEVENT
BEGIN:VEVENT
DTSTART;TZID=America/New_York:20230521T120000
DTEND;TZID=America/New_York:20230521T133000
DTSTAMP:20260425T230311
CREATED:20230426T131911Z
LAST-MODIFIED:20230428T152726Z
UID:10004569-1684670400-1684675800@christcovcincy.org
SUMMARY:Mission Brown Bag Lunch
DESCRIPTION:Matt Garrett\, with India Gospel League\, will join us for lunch in Fellowship Hall after the service. Drinks will be provided. Contact John Wood (513-382-6148) or Ruth Cload (513-238-7818) if you have questions.
URL:https://christcovcincy.org/event/mission-brown-bag-lunch-2/
LOCATION:Church Fellowship Hall
ATTACH;FMTTYPE=image/jpeg:https://christcovcincy.org/wp-content/uploads/2023/04/brownbaglunch.jpg
END:VEVENT
END:VCALENDAR