BEGIN:VCALENDAR
VERSION:2.0
PRODID:-//Christ Covenant Church - ECPv6.15.20//NONSGML v1.0//EN
CALSCALE:GREGORIAN
METHOD:PUBLISH
X-WR-CALNAME:Christ Covenant Church
X-ORIGINAL-URL:https://christcovcincy.org
X-WR-CALDESC:Events for Christ Covenant Church
REFRESH-INTERVAL;VALUE=DURATION:PT1H
X-Robots-Tag:noindex
X-PUBLISHED-TTL:PT1H
BEGIN:VTIMEZONE
TZID:America/New_York
BEGIN:DAYLIGHT
TZOFFSETFROM:-0500
TZOFFSETTO:-0400
TZNAME:EDT
DTSTART:20240310T070000
END:DAYLIGHT
BEGIN:STANDARD
TZOFFSETFROM:-0400
TZOFFSETTO:-0500
TZNAME:EST
DTSTART:20241103T060000
END:STANDARD
BEGIN:DAYLIGHT
TZOFFSETFROM:-0500
TZOFFSETTO:-0400
TZNAME:EDT
DTSTART:20250309T070000
END:DAYLIGHT
BEGIN:STANDARD
TZOFFSETFROM:-0400
TZOFFSETTO:-0500
TZNAME:EST
DTSTART:20251102T060000
END:STANDARD
BEGIN:DAYLIGHT
TZOFFSETFROM:-0500
TZOFFSETTO:-0400
TZNAME:EDT
DTSTART:20260308T070000
END:DAYLIGHT
BEGIN:STANDARD
TZOFFSETFROM:-0400
TZOFFSETTO:-0500
TZNAME:EST
DTSTART:20261101T060000
END:STANDARD
BEGIN:DAYLIGHT
TZOFFSETFROM:-0500
TZOFFSETTO:-0400
TZNAME:EDT
DTSTART:20270314T070000
END:DAYLIGHT
BEGIN:STANDARD
TZOFFSETFROM:-0400
TZOFFSETTO:-0500
TZNAME:EST
DTSTART:20271107T060000
END:STANDARD
END:VTIMEZONE
BEGIN:VTIMEZONE
TZID:America/Halifax
BEGIN:DAYLIGHT
TZOFFSETFROM:-0400
TZOFFSETTO:-0300
TZNAME:ADT
DTSTART:20240310T060000
END:DAYLIGHT
BEGIN:STANDARD
TZOFFSETFROM:-0300
TZOFFSETTO:-0400
TZNAME:AST
DTSTART:20241103T050000
END:STANDARD
BEGIN:DAYLIGHT
TZOFFSETFROM:-0400
TZOFFSETTO:-0300
TZNAME:ADT
DTSTART:20250309T060000
END:DAYLIGHT
BEGIN:STANDARD
TZOFFSETFROM:-0300
TZOFFSETTO:-0400
TZNAME:AST
DTSTART:20251102T050000
END:STANDARD
BEGIN:DAYLIGHT
TZOFFSETFROM:-0400
TZOFFSETTO:-0300
TZNAME:ADT
DTSTART:20260308T060000
END:DAYLIGHT
BEGIN:STANDARD
TZOFFSETFROM:-0300
TZOFFSETTO:-0400
TZNAME:AST
DTSTART:20261101T050000
END:STANDARD
END:VTIMEZONE
BEGIN:VEVENT
DTSTART;TZID=America/New_York:20260227T183000
DTEND;TZID=America/New_York:20260227T210000
DTSTAMP:20260425T072126
CREATED:20260107T192620Z
LAST-MODIFIED:20260107T192620Z
UID:10007416-1772217000-1772226000@christcovcincy.org
SUMMARY:Private Event
DESCRIPTION:Prather Martial Arts Competition Team practice
URL:https://christcovcincy.org/event/private-event-114/2026-02-27/
LOCATION:Church Fellowship Hall
CATEGORIES:private event
ATTACH;FMTTYPE=image/jpeg:https://christcovcincy.org/wp-content/uploads/2023/06/privateeventcalendar.jpg
END:VEVENT
BEGIN:VEVENT
DTSTART;TZID=America/New_York:20260222T180000
DTEND;TZID=America/New_York:20260222T200000
DTSTAMP:20260425T072126
CREATED:20251231T184144Z
LAST-MODIFIED:20260326T203434Z
UID:10007408-1771783200-1771790400@christcovcincy.org
SUMMARY:Youth Group
DESCRIPTION:
URL:https://christcovcincy.org/event/youth-group-15/2026-02-22/
LOCATION:Church Fellowship Hall
CATEGORIES:Youth Ministry
ATTACH;FMTTYPE=image/jpeg:https://christcovcincy.org/wp-content/uploads/2022/12/CCC-Youth-Group-web-calendar.jpg
END:VEVENT
BEGIN:VEVENT
DTSTART;TZID=America/New_York:20260215T180000
DTEND;TZID=America/New_York:20260215T200000
DTSTAMP:20260425T072126
CREATED:20251231T184144Z
LAST-MODIFIED:20260326T203434Z
UID:10007407-1771178400-1771185600@christcovcincy.org
SUMMARY:Youth Group
DESCRIPTION:
URL:https://christcovcincy.org/event/youth-group-15/2026-02-15/
LOCATION:Church Fellowship Hall
CATEGORIES:Youth Ministry
ATTACH;FMTTYPE=image/jpeg:https://christcovcincy.org/wp-content/uploads/2022/12/CCC-Youth-Group-web-calendar.jpg
END:VEVENT
BEGIN:VEVENT
DTSTART;TZID=America/New_York:20260213T183000
DTEND;TZID=America/New_York:20260213T210000
DTSTAMP:20260425T072126
CREATED:20260107T192620Z
LAST-MODIFIED:20260107T192620Z
UID:10007415-1771007400-1771016400@christcovcincy.org
SUMMARY:Private Event
DESCRIPTION:Prather Martial Arts Competition Team practice
URL:https://christcovcincy.org/event/private-event-114/2026-02-13/
LOCATION:Church Fellowship Hall
CATEGORIES:private event
ATTACH;FMTTYPE=image/jpeg:https://christcovcincy.org/wp-content/uploads/2023/06/privateeventcalendar.jpg
END:VEVENT
BEGIN:VEVENT
DTSTART;TZID=America/New_York:20260201T180000
DTEND;TZID=America/New_York:20260201T200000
DTSTAMP:20260425T072126
CREATED:20251231T184144Z
LAST-MODIFIED:20260326T203434Z
UID:10007406-1769968800-1769976000@christcovcincy.org
SUMMARY:Youth Group
DESCRIPTION:
URL:https://christcovcincy.org/event/youth-group-15/2026-02-01/
LOCATION:Church Fellowship Hall
CATEGORIES:Youth Ministry
ATTACH;FMTTYPE=image/jpeg:https://christcovcincy.org/wp-content/uploads/2022/12/CCC-Youth-Group-web-calendar.jpg
END:VEVENT
BEGIN:VEVENT
DTSTART;TZID=America/New_York:20260118T180000
DTEND;TZID=America/New_York:20260118T200000
DTSTAMP:20260425T072126
CREATED:20251231T184144Z
LAST-MODIFIED:20260326T203434Z
UID:10007428-1768759200-1768766400@christcovcincy.org
SUMMARY:Youth Group
DESCRIPTION:
URL:https://christcovcincy.org/event/youth-group-15/2026-01-18/
LOCATION:Church Fellowship Hall
CATEGORIES:Youth Ministry
ATTACH;FMTTYPE=image/jpeg:https://christcovcincy.org/wp-content/uploads/2022/12/CCC-Youth-Group-web-calendar.jpg
END:VEVENT
BEGIN:VEVENT
DTSTART;TZID=America/New_York:20260116T183000
DTEND;TZID=America/New_York:20260116T210000
DTSTAMP:20260425T072126
CREATED:20260107T192620Z
LAST-MODIFIED:20260107T192620Z
UID:10007414-1768588200-1768597200@christcovcincy.org
SUMMARY:Private Event
DESCRIPTION:Prather Martial Arts Competition Team practice
URL:https://christcovcincy.org/event/private-event-114/2026-01-16/
LOCATION:Church Fellowship Hall
CATEGORIES:private event
ATTACH;FMTTYPE=image/jpeg:https://christcovcincy.org/wp-content/uploads/2023/06/privateeventcalendar.jpg
END:VEVENT
BEGIN:VEVENT
DTSTART;TZID=America/New_York:20260116T100000
DTEND;TZID=America/New_York:20260116T123000
DTSTAMP:20260425T072126
CREATED:20250903T132409Z
LAST-MODIFIED:20260121T202559Z
UID:10007394-1768557600-1768566600@christcovcincy.org
SUMMARY:Silver Heirs
DESCRIPTION:Join our senior saints for a light meal and program. See Church Life for details on the monthly program and to RSVP and order your boxed lunch.
URL:https://christcovcincy.org/event/silver-heirs-5/2026-01-16/
LOCATION:Church Fellowship Hall
CATEGORIES:fellowships
ATTACH;FMTTYPE=image/jpeg:https://christcovcincy.org/wp-content/uploads/2023/01/SilverHeirs-1.jpg
END:VEVENT
BEGIN:VEVENT
DTSTART;TZID=America/New_York:20260111T180000
DTEND;TZID=America/New_York:20260111T200000
DTSTAMP:20260425T072126
CREATED:20251231T184144Z
LAST-MODIFIED:20260326T203434Z
UID:10007404-1768154400-1768161600@christcovcincy.org
SUMMARY:Youth Group
DESCRIPTION:
URL:https://christcovcincy.org/event/youth-group-15/2026-01-11/
LOCATION:Church Fellowship Hall
CATEGORIES:Youth Ministry
ATTACH;FMTTYPE=image/jpeg:https://christcovcincy.org/wp-content/uploads/2022/12/CCC-Youth-Group-web-calendar.jpg
END:VEVENT
BEGIN:VEVENT
DTSTART;TZID=America/New_York:20260104T130000
DTEND;TZID=America/New_York:20260104T150000
DTSTAMP:20260425T072126
CREATED:20251218T170924Z
LAST-MODIFIED:20251218T170924Z
UID:10007393-1767531600-1767538800@christcovcincy.org
SUMMARY:Private Event
DESCRIPTION:J. Langdon students’ Christmas piano recital (postponed from Dec 14)
URL:https://christcovcincy.org/event/private-event-113/
LOCATION:Christ Covenant Church\, 2191 Struble Rd\, Cincinnati\, 45231\, United States
CATEGORIES:private event
ATTACH;FMTTYPE=image/jpeg:https://christcovcincy.org/wp-content/uploads/2023/06/privateeventcalendar.jpg
END:VEVENT
BEGIN:VEVENT
DTSTART;TZID=America/New_York:20251206T133000
DTEND;TZID=America/New_York:20251206T153000
DTSTAMP:20260425T072126
CREATED:20251009T142341Z
LAST-MODIFIED:20251029T200027Z
UID:10007323-1765027800-1765035000@christcovcincy.org
SUMMARY:"Prepare Him Room" Women's Event
DESCRIPTION:Intentionally refocus your heart on Jesus amid the holiday rush. Join us for Prepare Him Room–a virtual event featuring Bible teacher\, Kelly Minter. \nWe’ll look at the Christmas story through the lives of Mary and her cousin Elizabeth to discover what it means to find joy\, peace\, and purpose in Jesus Himself. \nDoors open at 1:00. Worship begins at 1:30 \nPlease RSVP at the church welcome desk on Sundays or to tmiller@christcovcincy.org  \n 
URL:https://christcovcincy.org/event/prepare-him-room-womens-event/
LOCATION:Church Fellowship Hall
CATEGORIES:Women's Discipleship
ATTACH;FMTTYPE=image/png:https://christcovcincy.org/wp-content/uploads/2025/10/Screenshot-for-website.png
END:VEVENT
BEGIN:VEVENT
DTSTART;TZID=America/New_York:20251114T100000
DTEND;TZID=America/New_York:20251114T123000
DTSTAMP:20260425T072126
CREATED:20250903T132409Z
LAST-MODIFIED:20260121T202559Z
UID:10007123-1763114400-1763123400@christcovcincy.org
SUMMARY:Silver Heirs
DESCRIPTION:Join our senior saints for a light meal and program. See Church Life for details on the monthly program and to RSVP and order your boxed lunch.
URL:https://christcovcincy.org/event/silver-heirs-5/2025-11-14/
LOCATION:Church Fellowship Hall
CATEGORIES:fellowships
ATTACH;FMTTYPE=image/jpeg:https://christcovcincy.org/wp-content/uploads/2023/01/SilverHeirs-1.jpg
END:VEVENT
BEGIN:VEVENT
DTSTART;TZID=America/New_York:20251102T113000
DTEND;TZID=America/New_York:20251102T140000
DTSTAMP:20260425T072126
CREATED:20251008T151637Z
LAST-MODIFIED:20251008T153619Z
UID:10007317-1762083000-1762092000@christcovcincy.org
SUMMARY:Presbytery Planning Meeting & Luncheon
DESCRIPTION:
URL:https://christcovcincy.org/event/presbytery-planning-meeting-luncheon/
LOCATION:Church Fellowship Hall
END:VEVENT
BEGIN:VEVENT
DTSTART;TZID=America/New_York:20251026T090000
DTEND;TZID=America/New_York:20251026T140000
DTSTAMP:20260425T072126
CREATED:20250508T184027Z
LAST-MODIFIED:20250508T184027Z
UID:10006469-1761469200-1761487200@christcovcincy.org
SUMMARY:40 Days of Hope Luncheon
DESCRIPTION:Join the Deacon’s immediately following the worship service for a luncheon celebration of our 40 Days of Hope.  Theme: “Rounding Third and Heading for Home.”
URL:https://christcovcincy.org/event/40-days-of-hope-luncheon/
LOCATION:Church Fellowship Hall
CATEGORIES:fellowships
ATTACH;FMTTYPE=image/png:https://christcovcincy.org/wp-content/uploads/2025/05/40-days-of-hope.png
END:VEVENT
BEGIN:VEVENT
DTSTART;TZID=America/New_York:20251016T110000
DTEND;TZID=America/New_York:20251016T140000
DTSTAMP:20260425T072126
CREATED:20250701T142905Z
LAST-MODIFIED:20251016T192129Z
UID:10006840-1760612400-1760623200@christcovcincy.org
SUMMARY:Mt. Healthy Garden Club
DESCRIPTION:
URL:https://christcovcincy.org/event/mt-healthy-garden-club/2025-10-16/
LOCATION:Church Fellowship Hall
ATTACH;FMTTYPE=image/jpeg:https://christcovcincy.org/wp-content/uploads/2025/07/Garden-Club.jpg
END:VEVENT
BEGIN:VEVENT
DTSTART;TZID=America/New_York:20251010T100000
DTEND;TZID=America/New_York:20251010T123000
DTSTAMP:20260425T072126
CREATED:20250903T132409Z
LAST-MODIFIED:20260121T202559Z
UID:10007122-1760090400-1760099400@christcovcincy.org
SUMMARY:Silver Heirs
DESCRIPTION:Join our senior saints for a light meal and program. See Church Life for details on the monthly program and to RSVP and order your boxed lunch.
URL:https://christcovcincy.org/event/silver-heirs-5/2025-10-10/
LOCATION:Church Fellowship Hall
CATEGORIES:fellowships
ATTACH;FMTTYPE=image/jpeg:https://christcovcincy.org/wp-content/uploads/2023/01/SilverHeirs-1.jpg
END:VEVENT
BEGIN:VEVENT
DTSTART;TZID=America/New_York:20250914T114500
DTEND;TZID=America/New_York:20250914T130000
DTSTAMP:20260425T072126
CREATED:20250911T152607Z
LAST-MODIFIED:20250911T152824Z
UID:10007169-1757850300-1757854800@christcovcincy.org
SUMMARY:Mission Team Lunch
DESCRIPTION:Mission Team lunch with Anne A.
URL:https://christcovcincy.org/event/mission-team-lunch/
LOCATION:Church Fellowship Hall
ATTACH;FMTTYPE=image/jpeg:https://christcovcincy.org/wp-content/uploads/2023/04/brownbaglunch.jpg
END:VEVENT
BEGIN:VEVENT
DTSTART;TZID=America/New_York:20250912T100000
DTEND;TZID=America/New_York:20250912T123000
DTSTAMP:20260425T072126
CREATED:20250903T132409Z
LAST-MODIFIED:20260121T202559Z
UID:10007121-1757671200-1757680200@christcovcincy.org
SUMMARY:Silver Heirs
DESCRIPTION:Join our senior saints for a light meal and program. See Church Life for details on the monthly program and to RSVP and order your boxed lunch.
URL:https://christcovcincy.org/event/silver-heirs-5/2025-09-12/
LOCATION:Church Fellowship Hall
CATEGORIES:fellowships
ATTACH;FMTTYPE=image/jpeg:https://christcovcincy.org/wp-content/uploads/2023/01/SilverHeirs-1.jpg
END:VEVENT
BEGIN:VEVENT
DTSTART;TZID=America/New_York:20250905T180000
DTEND;TZID=America/New_York:20250905T200000
DTSTAMP:20260425T072126
CREATED:20250723T181437Z
LAST-MODIFIED:20250723T181437Z
UID:10006906-1757095200-1757102400@christcovcincy.org
SUMMARY:Esther Study Kickoff Dinner
DESCRIPTION:Dinner & special video session for Esther study participants.  Meeting either in chapel or fellowship hall\, depending on number of attendees.
URL:https://christcovcincy.org/event/esther-study-kickoff-dinner/
LOCATION:Chapel @ Christ Covenant Church Office\, 2192 Springdale Rd\, Cincinnati\, OH\, 45231
CATEGORIES:Women's Discipleship
ATTACH;FMTTYPE=image/jpeg:https://christcovcincy.org/wp-content/uploads/2023/10/WomensBibleStudy2.jpg
END:VEVENT
BEGIN:VEVENT
DTSTART;TZID=America/New_York:20250831T110000
DTEND;TZID=America/New_York:20250831T160000
DTSTAMP:20260425T072126
CREATED:20250409T182329Z
LAST-MODIFIED:20250409T182329Z
UID:10005812-1756638000-1756656000@christcovcincy.org
SUMMARY:SURPRISE Birthday Luncheon
DESCRIPTION:Adele is turning 100 years old today! But PLEASE DON’T TELL HER we will celebrate with a luncheon following worship.
URL:https://christcovcincy.org/event/surprise-birthday-luncheon/
LOCATION:Church Fellowship Hall
END:VEVENT
BEGIN:VEVENT
DTSTART;TZID=America/New_York:20250830T100000
DTEND;TZID=America/New_York:20250830T120000
DTSTAMP:20260425T072126
CREATED:20250724T155335Z
LAST-MODIFIED:20250724T172659Z
UID:10006923-1756548000-1756555200@christcovcincy.org
SUMMARY:Luncheon Setup
DESCRIPTION:
URL:https://christcovcincy.org/event/luncheon-setup-2/
LOCATION:Church Fellowship Hall
END:VEVENT
BEGIN:VEVENT
DTSTART;TZID=America/New_York:20250824T083000
DTEND;TZID=America/New_York:20250824T101500
DTSTAMP:20260425T072126
CREATED:20250410T175314Z
LAST-MODIFIED:20250822T184116Z
UID:10005840-1756024200-1756030500@christcovcincy.org
SUMMARY:Churchwide Sunday School Kick-off Breakfast
DESCRIPTION:The new Sunday School year kicks off with our annual  breakfast. The serving line begins at 8:30 a.m.\, followed by the presentation of the children promoting to new classes and prayer for our teachers and students. Don’t miss the blessing as you hear how God is at work in our discipleship opportunities and learn about the new fall teaching series for adults.
URL:https://christcovcincy.org/event/pancake-breakfast-2/
LOCATION:Church Fellowship Hall
CATEGORIES:Children's Ministry,Sunday School
ATTACH;FMTTYPE=image/jpeg:https://christcovcincy.org/wp-content/uploads/2025/08/SundaySchoolKickoffwebsite.jpg
END:VEVENT
BEGIN:VEVENT
DTSTART;TZID=America/New_York:20250717T110000
DTEND;TZID=America/New_York:20250717T140000
DTSTAMP:20260425T072126
CREATED:20250701T142905Z
LAST-MODIFIED:20251016T192129Z
UID:10006837-1752750000-1752760800@christcovcincy.org
SUMMARY:Mt. Healthy Garden Club
DESCRIPTION:
URL:https://christcovcincy.org/event/mt-healthy-garden-club/2025-07-17/
LOCATION:Church Fellowship Hall
ATTACH;FMTTYPE=image/jpeg:https://christcovcincy.org/wp-content/uploads/2025/07/Garden-Club.jpg
END:VEVENT
BEGIN:VEVENT
DTSTART;TZID=America/Halifax:20250711T100000
DTEND;TZID=America/Halifax:20250711T130000
DTSTAMP:20260425T072126
CREATED:20241231T172707Z
LAST-MODIFIED:20250205T195016Z
UID:10005259-1752228000-1752238800@christcovcincy.org
SUMMARY:Silver Heirs
DESCRIPTION:Join the Senior Saints of the church for a time of fun and fellowship as we enjoy an interesting program and boxed lunch.  Bring your friends!  For specific monthly program details\, see the weekly Church Life.
URL:https://christcovcincy.org/event/silver-heirs-4-2025-03-14/2025-07-11/
LOCATION:Church Fellowship Hall
CATEGORIES:fellowships
ATTACH;FMTTYPE=image/jpeg:https://christcovcincy.org/wp-content/uploads/2023/01/SilverHeirs.jpg
END:VEVENT
BEGIN:VEVENT
DTSTART;TZID=America/Halifax:20250620T184500
DTEND;TZID=America/Halifax:20250620T204500
DTSTAMP:20260425T072126
CREATED:20241219T170613Z
LAST-MODIFIED:20250508T135833Z
UID:10005245-1750445100-1750452300@christcovcincy.org
SUMMARY:Private Event
DESCRIPTION:Prather Martial Arts Competition Team Practice
URL:https://christcovcincy.org/event/private-event-89/2025-06-20/
LOCATION:Church Fellowship Hall
CATEGORIES:private event
ATTACH;FMTTYPE=image/jpeg:https://christcovcincy.org/wp-content/uploads/2023/06/privateeventcalendar.jpg
END:VEVENT
BEGIN:VEVENT
DTSTART;TZID=America/New_York:20250619T110000
DTEND;TZID=America/New_York:20250619T140000
DTSTAMP:20260425T072126
CREATED:20250423T182733Z
LAST-MODIFIED:20250612T194741Z
UID:10006807-1750330800-1750341600@christcovcincy.org
SUMMARY:Private Event
DESCRIPTION:Mt. Healthy Garden Club
URL:https://christcovcincy.org/event/private-event-98/2025-06-19/
LOCATION:Church Fellowship Hall
CATEGORIES:private event
ATTACH;FMTTYPE=image/jpeg:https://christcovcincy.org/wp-content/uploads/2023/06/privateeventcalendar.jpg
END:VEVENT
BEGIN:VEVENT
DTSTART;TZID=America/Halifax:20250613T100000
DTEND;TZID=America/Halifax:20250613T130000
DTSTAMP:20260425T072126
CREATED:20241231T172707Z
LAST-MODIFIED:20250205T195016Z
UID:10005258-1749808800-1749819600@christcovcincy.org
SUMMARY:Silver Heirs
DESCRIPTION:Join the Senior Saints of the church for a time of fun and fellowship as we enjoy an interesting program and boxed lunch.  Bring your friends!  For specific monthly program details\, see the weekly Church Life.
URL:https://christcovcincy.org/event/silver-heirs-4-2025-03-14/2025-06-13/
LOCATION:Church Fellowship Hall
CATEGORIES:fellowships
ATTACH;FMTTYPE=image/jpeg:https://christcovcincy.org/wp-content/uploads/2023/01/SilverHeirs.jpg
END:VEVENT
BEGIN:VEVENT
DTSTART;TZID=America/Halifax:20250606T184500
DTEND;TZID=America/Halifax:20250606T204500
DTSTAMP:20260425T072126
CREATED:20241219T170613Z
LAST-MODIFIED:20250508T135833Z
UID:10005244-1749235500-1749242700@christcovcincy.org
SUMMARY:Private Event
DESCRIPTION:Prather Martial Arts Competition Team Practice
URL:https://christcovcincy.org/event/private-event-89/2025-06-06/
LOCATION:Church Fellowship Hall
CATEGORIES:private event
ATTACH;FMTTYPE=image/jpeg:https://christcovcincy.org/wp-content/uploads/2023/06/privateeventcalendar.jpg
END:VEVENT
BEGIN:VEVENT
DTSTART;TZID=America/Halifax:20250523T184500
DTEND;TZID=America/Halifax:20250523T204500
DTSTAMP:20260425T072126
CREATED:20241219T170613Z
LAST-MODIFIED:20250508T135833Z
UID:10005243-1748025900-1748033100@christcovcincy.org
SUMMARY:Private Event
DESCRIPTION:Prather Martial Arts Competition Team Practice
URL:https://christcovcincy.org/event/private-event-89/2025-05-23/
LOCATION:Church Fellowship Hall
CATEGORIES:private event
ATTACH;FMTTYPE=image/jpeg:https://christcovcincy.org/wp-content/uploads/2023/06/privateeventcalendar.jpg
END:VEVENT
BEGIN:VEVENT
DTSTART;TZID=America/New_York:20250518T114500
DTEND;TZID=America/New_York:20250518T133000
DTSTAMP:20260425T072126
CREATED:20250508T152903Z
LAST-MODIFIED:20250508T152903Z
UID:10006064-1747568700-1747575000@christcovcincy.org
SUMMARY:Volunteer Orientation for Fantastic Family Nights
DESCRIPTION:Immediately following the service in Fellowship Hall.  Light lunch provided. \nCome be a part of God’s Big Build!  Join us if you would like to be a part—on any Thursday night(s) in June—of sharing the good news of Jesus with children and their families.  Not sure how you could be useful?  See Tina Miller for details.
URL:https://christcovcincy.org/event/volunteer-orientation-for-fantastic-family-nights/
LOCATION:Church Fellowship Hall
CATEGORIES:Children's Ministry
ATTACH;FMTTYPE=image/png:https://christcovcincy.org/wp-content/uploads/2025/05/Big-Build-Logo-003.png
END:VEVENT
END:VCALENDAR