BEGIN:VCALENDAR
VERSION:2.0
PRODID:-//Christ Covenant Church - ECPv6.15.20//NONSGML v1.0//EN
CALSCALE:GREGORIAN
METHOD:PUBLISH
X-ORIGINAL-URL:https://christcovcincy.org
X-WR-CALDESC:Events for Christ Covenant Church
REFRESH-INTERVAL;VALUE=DURATION:PT1H
X-Robots-Tag:noindex
X-PUBLISHED-TTL:PT1H
BEGIN:VTIMEZONE
TZID:America/Halifax
BEGIN:DAYLIGHT
TZOFFSETFROM:-0400
TZOFFSETTO:-0300
TZNAME:ADT
DTSTART:20230312T060000
END:DAYLIGHT
BEGIN:STANDARD
TZOFFSETFROM:-0300
TZOFFSETTO:-0400
TZNAME:AST
DTSTART:20231105T050000
END:STANDARD
BEGIN:DAYLIGHT
TZOFFSETFROM:-0400
TZOFFSETTO:-0300
TZNAME:ADT
DTSTART:20240310T060000
END:DAYLIGHT
BEGIN:STANDARD
TZOFFSETFROM:-0300
TZOFFSETTO:-0400
TZNAME:AST
DTSTART:20241103T050000
END:STANDARD
BEGIN:DAYLIGHT
TZOFFSETFROM:-0400
TZOFFSETTO:-0300
TZNAME:ADT
DTSTART:20250309T060000
END:DAYLIGHT
BEGIN:STANDARD
TZOFFSETFROM:-0300
TZOFFSETTO:-0400
TZNAME:AST
DTSTART:20251102T050000
END:STANDARD
END:VTIMEZONE
BEGIN:VTIMEZONE
TZID:America/New_York
BEGIN:DAYLIGHT
TZOFFSETFROM:-0500
TZOFFSETTO:-0400
TZNAME:EDT
DTSTART:20230312T070000
END:DAYLIGHT
BEGIN:STANDARD
TZOFFSETFROM:-0400
TZOFFSETTO:-0500
TZNAME:EST
DTSTART:20231105T060000
END:STANDARD
BEGIN:DAYLIGHT
TZOFFSETFROM:-0500
TZOFFSETTO:-0400
TZNAME:EDT
DTSTART:20240310T070000
END:DAYLIGHT
BEGIN:STANDARD
TZOFFSETFROM:-0400
TZOFFSETTO:-0500
TZNAME:EST
DTSTART:20241103T060000
END:STANDARD
BEGIN:DAYLIGHT
TZOFFSETFROM:-0500
TZOFFSETTO:-0400
TZNAME:EDT
DTSTART:20250309T070000
END:DAYLIGHT
BEGIN:STANDARD
TZOFFSETFROM:-0400
TZOFFSETTO:-0500
TZNAME:EST
DTSTART:20251102T060000
END:STANDARD
END:VTIMEZONE
BEGIN:VEVENT
DTSTART;TZID=America/Halifax:20241220T154500
DTEND;TZID=America/Halifax:20241220T174500
DTSTAMP:20260425T161945
CREATED:20241127T182912Z
LAST-MODIFIED:20241205T232242Z
UID:10005686-1734709500-1734716700@christcovcincy.org
SUMMARY:Birthday Party for Jesus: "A Gift for Santa"
DESCRIPTION:Where: church fellowship hall \nWho: Kids ages 4-12 \nWhat to bring: a wrapped present ($5) for a gift exchange and your friends and family and neighbors
URL:https://christcovcincy.org/event/birthday-party-for-jesus-3/
LOCATION:Church Fellowship Hall
CATEGORIES:Children's Ministry
ATTACH;FMTTYPE=image/png:https://christcovcincy.org/wp-content/uploads/2024/11/Santa-publicity.png
END:VEVENT
BEGIN:VEVENT
DTSTART;TZID=America/Halifax:20241121T100000
DTEND;TZID=America/Halifax:20241121T120000
DTSTAMP:20260425T161945
CREATED:20240207T214229Z
LAST-MODIFIED:20240207T214229Z
UID:10005197-1732183200-1732190400@christcovcincy.org
SUMMARY:Private Event
DESCRIPTION:Mt. Healthy Garden Club.  Please contact Becky Powell for more information.
URL:https://christcovcincy.org/event/private-event-53/2024-11-21/
LOCATION:Church Fellowship Hall
CATEGORIES:private event
ATTACH;FMTTYPE=image/jpeg:https://christcovcincy.org/wp-content/uploads/2023/06/privateeventcalendar.jpg
END:VEVENT
BEGIN:VEVENT
DTSTART;TZID=America/Halifax:20241117T120000
DTEND;TZID=America/Halifax:20241117T130000
DTSTAMP:20260425T161945
CREATED:20241031T153139Z
LAST-MODIFIED:20241031T153258Z
UID:10005662-1731844800-1731848400@christcovcincy.org
SUMMARY:"Pray For Me" Campaign Lunch
DESCRIPTION:Prayer Champions and their uplifted families are invited for a time of fellowship and fun together
URL:https://christcovcincy.org/event/pray-for-me-campaign-lunch/
LOCATION:Church Fellowship Hall
CATEGORIES:Children's Ministry,fellowships
END:VEVENT
BEGIN:VEVENT
DTSTART;TZID=America/Halifax:20241027T090000
DTEND;TZID=America/Halifax:20241027T133000
DTSTAMP:20260425T161946
CREATED:20240821T200244Z
LAST-MODIFIED:20240821T200244Z
UID:10005512-1730019600-1730035800@christcovcincy.org
SUMMARY:40 Days of Faith Luncheon
DESCRIPTION:
URL:https://christcovcincy.org/event/40-days-of-faith-luncheon/
LOCATION:Church Fellowship Hall
CATEGORIES:fellowships
END:VEVENT
BEGIN:VEVENT
DTSTART;TZID=America/Halifax:20241025T100000
DTEND;TZID=America/Halifax:20241025T120000
DTSTAMP:20260425T161946
CREATED:20240821T200042Z
LAST-MODIFIED:20240821T200042Z
UID:10005511-1729850400-1729857600@christcovcincy.org
SUMMARY:Luncheon Setup
DESCRIPTION:
URL:https://christcovcincy.org/event/luncheon-setup/
LOCATION:Church Fellowship Hall
END:VEVENT
BEGIN:VEVENT
DTSTART;TZID=America/Halifax:20240928T150000
DTEND;TZID=America/Halifax:20240928T190000
DTSTAMP:20260425T161946
CREATED:20240927T171704Z
LAST-MODIFIED:20240927T171704Z
UID:10005609-1727535600-1727550000@christcovcincy.org
SUMMARY:Celebration of Noelle N
DESCRIPTION:
URL:https://christcovcincy.org/event/celebration-of-noelle-n/
LOCATION:Church Fellowship Hall
ATTACH;FMTTYPE=image/jpeg:https://christcovcincy.org/wp-content/uploads/2024/09/celebration.jpg
END:VEVENT
BEGIN:VEVENT
DTSTART;TZID=America/Halifax:20240907T100000
DTEND;TZID=America/Halifax:20240907T233000
DTSTAMP:20260425T161946
CREATED:20240619T172201Z
LAST-MODIFIED:20240724T183000Z
UID:10005141-1725703200-1725751800@christcovcincy.org
SUMMARY:Women's Event
DESCRIPTION:Join us for a time to honor Colleen
URL:https://christcovcincy.org/event/womens-event/
LOCATION:Church Fellowship Hall
ATTACH;FMTTYPE=image/jpeg:https://christcovcincy.org/wp-content/uploads/2024/06/bouquet-flowers-1-scaled.jpg
END:VEVENT
BEGIN:VEVENT
DTSTART;TZID=America/Halifax:20240825T083000
DTEND;TZID=America/Halifax:20240825T101500
DTSTAMP:20260425T161946
CREATED:20240822T205049Z
LAST-MODIFIED:20240822T205049Z
UID:10005530-1724574600-1724580900@christcovcincy.org
SUMMARY:Pancake Breakfast
DESCRIPTION:The new Sunday School year kicks off with our traditional Pancake Breakfast. The serving line begins at 8:30 a.m.\, followed by the presentation of the children promoting to new classes and prayer for our teachers and students. Don’t miss the blessing as you hear how God is at work in our discipleship opportunities and learn about the new fall teaching series for adults.
URL:https://christcovcincy.org/event/pancake-breakfast/
LOCATION:Church Fellowship Hall
CATEGORIES:Children's Ministry
END:VEVENT
BEGIN:VEVENT
DTSTART;TZID=America/Halifax:20240627T100000
DTEND;TZID=America/Halifax:20240627T120000
DTSTAMP:20260425T161946
CREATED:20240207T214229Z
LAST-MODIFIED:20240207T214229Z
UID:10005196-1719482400-1719489600@christcovcincy.org
SUMMARY:Private Event
DESCRIPTION:Mt. Healthy Garden Club.  Please contact Becky Powell for more information.
URL:https://christcovcincy.org/event/private-event-53/2024-06-27/
LOCATION:Church Fellowship Hall
CATEGORIES:private event
ATTACH;FMTTYPE=image/jpeg:https://christcovcincy.org/wp-content/uploads/2023/06/privateeventcalendar.jpg
END:VEVENT
BEGIN:VEVENT
DTSTART;TZID=America/New_York:20240618T120000
DTEND;TZID=America/New_York:20240618T170000
DTSTAMP:20260425T161946
CREATED:20230412T183605Z
LAST-MODIFIED:20240516T203704Z
UID:10004550-1718712000-1718730000@christcovcincy.org
SUMMARY:Private Event
DESCRIPTION:Boerner/Langdon Speech & Debate Class
URL:https://christcovcincy.org/event/private-event-26/2024-06-18/
LOCATION:Church Fellowship Hall
ATTACH;FMTTYPE=image/png:https://christcovcincy.org/wp-content/uploads/2023/03/Private-Eventwebcalendar.png
END:VEVENT
BEGIN:VEVENT
DTSTART;TZID=America/Halifax:20240615T110000
DTEND;TZID=America/Halifax:20240615T140000
DTSTAMP:20260425T161946
CREATED:20231122T205254Z
LAST-MODIFIED:20240228T180552Z
UID:10005163-1718449200-1718460000@christcovcincy.org
SUMMARY:Private Event
DESCRIPTION:Karate Practice (Katas)
URL:https://christcovcincy.org/event/private-event-48/2024-06-15/
LOCATION:Church Fellowship Hall
ATTACH;FMTTYPE=image/jpeg:https://christcovcincy.org/wp-content/uploads/2023/06/privateeventcalendar.jpg
END:VEVENT
BEGIN:VEVENT
DTSTART;TZID=America/Halifax:20240614T183000
DTEND;TZID=America/Halifax:20240614T203000
DTSTAMP:20260425T161946
CREATED:20240306T193629Z
LAST-MODIFIED:20240306T193629Z
UID:10005252-1718389800-1718397000@christcovcincy.org
SUMMARY:Private Event
DESCRIPTION:Karate practice (Katas)
URL:https://christcovcincy.org/event/private-event-54/2024-06-14/
LOCATION:Church Fellowship Hall
ATTACH;FMTTYPE=image/jpeg:https://christcovcincy.org/wp-content/uploads/2023/06/privateeventcalendar.jpg
END:VEVENT
BEGIN:VEVENT
DTSTART;TZID=America/New_York:20240521T120000
DTEND;TZID=America/New_York:20240521T170000
DTSTAMP:20260425T161946
CREATED:20230412T183605Z
LAST-MODIFIED:20240516T203704Z
UID:10004549-1716292800-1716310800@christcovcincy.org
SUMMARY:Private Event
DESCRIPTION:Boerner/Langdon Speech & Debate Class
URL:https://christcovcincy.org/event/private-event-26/2024-05-21/
LOCATION:Church Fellowship Hall
ATTACH;FMTTYPE=image/png:https://christcovcincy.org/wp-content/uploads/2023/03/Private-Eventwebcalendar.png
END:VEVENT
BEGIN:VEVENT
DTSTART;TZID=America/Halifax:20240519T120000
DTEND;TZID=America/Halifax:20240519T140000
DTSTAMP:20260425T161946
CREATED:20240425T162626Z
LAST-MODIFIED:20240425T162626Z
UID:10005326-1716120000-1716127200@christcovcincy.org
SUMMARY:Welcome Luncheon for Ferguson Family
DESCRIPTION:Join us to welcome our new Pastor\, Ian Ferguson\, and his family!
URL:https://christcovcincy.org/event/welcome-luncheon-for-ferguson-family/
LOCATION:Church Fellowship Hall
CATEGORIES:fellowships
ATTACH;FMTTYPE=image/png:https://christcovcincy.org/wp-content/uploads/2022/12/luncheon.png
END:VEVENT
BEGIN:VEVENT
DTSTART;TZID=America/Halifax:20240518T170000
DTEND;TZID=America/Halifax:20240518T190000
DTSTAMP:20260425T161946
CREATED:20240425T162716Z
LAST-MODIFIED:20240425T162716Z
UID:10005327-1716051600-1716058800@christcovcincy.org
SUMMARY:Set-Up for Luncheon
DESCRIPTION:
URL:https://christcovcincy.org/event/set-up-for-luncheon/
LOCATION:Church Fellowship Hall
END:VEVENT
BEGIN:VEVENT
DTSTART;TZID=America/Halifax:20240511T110000
DTEND;TZID=America/Halifax:20240511T140000
DTSTAMP:20260425T161946
CREATED:20231122T205254Z
LAST-MODIFIED:20240228T180552Z
UID:10005162-1715425200-1715436000@christcovcincy.org
SUMMARY:Private Event
DESCRIPTION:Karate Practice (Katas)
URL:https://christcovcincy.org/event/private-event-48/2024-05-11/
LOCATION:Church Fellowship Hall
ATTACH;FMTTYPE=image/jpeg:https://christcovcincy.org/wp-content/uploads/2023/06/privateeventcalendar.jpg
END:VEVENT
BEGIN:VEVENT
DTSTART;TZID=America/Halifax:20240510T183000
DTEND;TZID=America/Halifax:20240510T203000
DTSTAMP:20260425T161946
CREATED:20240306T193629Z
LAST-MODIFIED:20240306T193629Z
UID:10005251-1715365800-1715373000@christcovcincy.org
SUMMARY:Private Event
DESCRIPTION:Karate practice (Katas)
URL:https://christcovcincy.org/event/private-event-54/2024-05-10/
LOCATION:Church Fellowship Hall
ATTACH;FMTTYPE=image/jpeg:https://christcovcincy.org/wp-content/uploads/2023/06/privateeventcalendar.jpg
END:VEVENT
BEGIN:VEVENT
DTSTART;TZID=America/Halifax:20240510T100000
DTEND;TZID=America/Halifax:20240510T130000
DTSTAMP:20260425T161946
CREATED:20231229T202053Z
LAST-MODIFIED:20240503T202055Z
UID:10005184-1715335200-1715346000@christcovcincy.org
SUMMARY:Silver Heirs - CANCELLED
DESCRIPTION:We will not meet this month. Plan to join us on June 14!
URL:https://christcovcincy.org/event/silver-heirs-3-2024-05-10/
LOCATION:Church Fellowship Hall
ATTACH;FMTTYPE=image/jpeg:https://christcovcincy.org/wp-content/uploads/2023/01/SilverHeirs-1.jpg
END:VEVENT
BEGIN:VEVENT
DTSTART;TZID=America/New_York:20240507T120000
DTEND;TZID=America/New_York:20240507T170000
DTSTAMP:20260425T161946
CREATED:20230412T183605Z
LAST-MODIFIED:20240516T203704Z
UID:10004548-1715083200-1715101200@christcovcincy.org
SUMMARY:Private Event
DESCRIPTION:Boerner/Langdon Speech & Debate Class
URL:https://christcovcincy.org/event/private-event-26/2024-05-07/
LOCATION:Church Fellowship Hall
ATTACH;FMTTYPE=image/png:https://christcovcincy.org/wp-content/uploads/2023/03/Private-Eventwebcalendar.png
END:VEVENT
BEGIN:VEVENT
DTSTART;TZID=America/Halifax:20240505T120000
DTEND;TZID=America/Halifax:20240505T130000
DTSTAMP:20260425T161946
CREATED:20240503T230426Z
LAST-MODIFIED:20240503T230426Z
UID:10005404-1714910400-1714914000@christcovcincy.org
SUMMARY:Missions Committee Meeting
DESCRIPTION:
URL:https://christcovcincy.org/event/missions-committee-meeting-2/
LOCATION:Church Fellowship Hall
ATTACH;FMTTYPE=image/jpeg:https://christcovcincy.org/wp-content/uploads/2023/05/missionscommittee.jpg
END:VEVENT
BEGIN:VEVENT
DTSTART;TZID=America/New_York:20240430T120000
DTEND;TZID=America/New_York:20240430T170000
DTSTAMP:20260425T161946
CREATED:20230412T183605Z
LAST-MODIFIED:20240516T203704Z
UID:10004547-1714478400-1714496400@christcovcincy.org
SUMMARY:Private Event
DESCRIPTION:Boerner/Langdon Speech & Debate Class
URL:https://christcovcincy.org/event/private-event-26/2024-04-30/
LOCATION:Church Fellowship Hall
ATTACH;FMTTYPE=image/png:https://christcovcincy.org/wp-content/uploads/2023/03/Private-Eventwebcalendar.png
END:VEVENT
BEGIN:VEVENT
DTSTART;TZID=America/Halifax:20240427T110000
DTEND;TZID=America/Halifax:20240427T140000
DTSTAMP:20260425T161946
CREATED:20231122T205254Z
LAST-MODIFIED:20240228T180552Z
UID:10005161-1714215600-1714226400@christcovcincy.org
SUMMARY:Private Event
DESCRIPTION:Karate Practice (Katas)
URL:https://christcovcincy.org/event/private-event-48/2024-04-27/
LOCATION:Church Fellowship Hall
ATTACH;FMTTYPE=image/jpeg:https://christcovcincy.org/wp-content/uploads/2023/06/privateeventcalendar.jpg
END:VEVENT
BEGIN:VEVENT
DTSTART;TZID=America/Halifax:20240426T183000
DTEND;TZID=America/Halifax:20240426T203000
DTSTAMP:20260425T161946
CREATED:20240306T193629Z
LAST-MODIFIED:20240306T193629Z
UID:10005250-1714156200-1714163400@christcovcincy.org
SUMMARY:Private Event
DESCRIPTION:Karate practice (Katas)
URL:https://christcovcincy.org/event/private-event-54/2024-04-26/
LOCATION:Church Fellowship Hall
ATTACH;FMTTYPE=image/jpeg:https://christcovcincy.org/wp-content/uploads/2023/06/privateeventcalendar.jpg
END:VEVENT
BEGIN:VEVENT
DTSTART;TZID=America/New_York:20240423T120000
DTEND;TZID=America/New_York:20240423T170000
DTSTAMP:20260425T161946
CREATED:20230412T183605Z
LAST-MODIFIED:20240516T203704Z
UID:10004546-1713873600-1713891600@christcovcincy.org
SUMMARY:Private Event
DESCRIPTION:Boerner/Langdon Speech & Debate Class
URL:https://christcovcincy.org/event/private-event-26/2024-04-23/
LOCATION:Church Fellowship Hall
ATTACH;FMTTYPE=image/png:https://christcovcincy.org/wp-content/uploads/2023/03/Private-Eventwebcalendar.png
END:VEVENT
BEGIN:VEVENT
DTSTART;TZID=America/New_York:20240416T120000
DTEND;TZID=America/New_York:20240416T170000
DTSTAMP:20260425T161946
CREATED:20230412T183605Z
LAST-MODIFIED:20240516T203704Z
UID:10004545-1713268800-1713286800@christcovcincy.org
SUMMARY:Private Event
DESCRIPTION:Boerner/Langdon Speech & Debate Class
URL:https://christcovcincy.org/event/private-event-26/2024-04-16/
LOCATION:Church Fellowship Hall
ATTACH;FMTTYPE=image/png:https://christcovcincy.org/wp-content/uploads/2023/03/Private-Eventwebcalendar.png
END:VEVENT
BEGIN:VEVENT
DTSTART;TZID=America/Halifax:20240413T110000
DTEND;TZID=America/Halifax:20240413T140000
DTSTAMP:20260425T161946
CREATED:20231122T205254Z
LAST-MODIFIED:20240228T180552Z
UID:10005160-1713006000-1713016800@christcovcincy.org
SUMMARY:Private Event
DESCRIPTION:Karate Practice (Katas)
URL:https://christcovcincy.org/event/private-event-48/2024-04-13/
LOCATION:Church Fellowship Hall
ATTACH;FMTTYPE=image/jpeg:https://christcovcincy.org/wp-content/uploads/2023/06/privateeventcalendar.jpg
END:VEVENT
BEGIN:VEVENT
DTSTART;TZID=America/New_York:20240409T120000
DTEND;TZID=America/New_York:20240409T170000
DTSTAMP:20260425T161946
CREATED:20230412T183605Z
LAST-MODIFIED:20240516T203704Z
UID:10004544-1712664000-1712682000@christcovcincy.org
SUMMARY:Private Event
DESCRIPTION:Boerner/Langdon Speech & Debate Class
URL:https://christcovcincy.org/event/private-event-26/2024-04-09/
LOCATION:Church Fellowship Hall
ATTACH;FMTTYPE=image/png:https://christcovcincy.org/wp-content/uploads/2023/03/Private-Eventwebcalendar.png
END:VEVENT
BEGIN:VEVENT
DTSTART;TZID=America/New_York:20240402T120000
DTEND;TZID=America/New_York:20240402T170000
DTSTAMP:20260425T161946
CREATED:20230412T183605Z
LAST-MODIFIED:20240516T203704Z
UID:10004543-1712059200-1712077200@christcovcincy.org
SUMMARY:Private Event
DESCRIPTION:Boerner/Langdon Speech & Debate Class
URL:https://christcovcincy.org/event/private-event-26/2024-04-02/
LOCATION:Church Fellowship Hall
ATTACH;FMTTYPE=image/png:https://christcovcincy.org/wp-content/uploads/2023/03/Private-Eventwebcalendar.png
END:VEVENT
BEGIN:VEVENT
DTSTART;TZID=America/Halifax:20240328T180000
DTEND;TZID=America/Halifax:20240328T193000
DTSTAMP:20260425T161946
CREATED:20240208T153647Z
LAST-MODIFIED:20250226T212538Z
UID:10005199-1711648800-1711654200@christcovcincy.org
SUMMARY:Maundy Thursday Dinner & Communion
DESCRIPTION:Join us for potluck dinner in Fellowship Hall\, followed by a short message and communion. \nAccording to your last name\, please bring enough of these foods for your family plus four. A-F: main dish plus dessert; G-M: side plus dessert; N-Z: main dish plus side.
URL:https://christcovcincy.org/event/maundy-thursday-dinner-communion/
LOCATION:Church Fellowship Hall
ATTACH;FMTTYPE=image/png:https://christcovcincy.org/wp-content/uploads/2023/03/Maundy-Thursday.png
END:VEVENT
BEGIN:VEVENT
DTSTART;TZID=America/New_York:20240326T120000
DTEND;TZID=America/New_York:20240326T170000
DTSTAMP:20260425T161946
CREATED:20230412T183605Z
LAST-MODIFIED:20240516T203704Z
UID:10004542-1711454400-1711472400@christcovcincy.org
SUMMARY:Private Event
DESCRIPTION:Boerner/Langdon Speech & Debate Class
URL:https://christcovcincy.org/event/private-event-26/2024-03-26/
LOCATION:Church Fellowship Hall
ATTACH;FMTTYPE=image/png:https://christcovcincy.org/wp-content/uploads/2023/03/Private-Eventwebcalendar.png
END:VEVENT
END:VCALENDAR