BEGIN:VCALENDAR
VERSION:2.0
PRODID:-//Christ Covenant Church - ECPv6.15.20//NONSGML v1.0//EN
CALSCALE:GREGORIAN
METHOD:PUBLISH
X-WR-CALNAME:Christ Covenant Church
X-ORIGINAL-URL:https://christcovcincy.org
X-WR-CALDESC:Events for Christ Covenant Church
REFRESH-INTERVAL;VALUE=DURATION:PT1H
X-Robots-Tag:noindex
X-PUBLISHED-TTL:PT1H
BEGIN:VTIMEZONE
TZID:America/Halifax
BEGIN:DAYLIGHT
TZOFFSETFROM:-0400
TZOFFSETTO:-0300
TZNAME:ADT
DTSTART:20230312T060000
END:DAYLIGHT
BEGIN:STANDARD
TZOFFSETFROM:-0300
TZOFFSETTO:-0400
TZNAME:AST
DTSTART:20231105T050000
END:STANDARD
BEGIN:DAYLIGHT
TZOFFSETFROM:-0400
TZOFFSETTO:-0300
TZNAME:ADT
DTSTART:20240310T060000
END:DAYLIGHT
BEGIN:STANDARD
TZOFFSETFROM:-0300
TZOFFSETTO:-0400
TZNAME:AST
DTSTART:20241103T050000
END:STANDARD
BEGIN:DAYLIGHT
TZOFFSETFROM:-0400
TZOFFSETTO:-0300
TZNAME:ADT
DTSTART:20250309T060000
END:DAYLIGHT
BEGIN:STANDARD
TZOFFSETFROM:-0300
TZOFFSETTO:-0400
TZNAME:AST
DTSTART:20251102T050000
END:STANDARD
BEGIN:DAYLIGHT
TZOFFSETFROM:-0400
TZOFFSETTO:-0300
TZNAME:ADT
DTSTART:20260308T060000
END:DAYLIGHT
BEGIN:STANDARD
TZOFFSETFROM:-0300
TZOFFSETTO:-0400
TZNAME:AST
DTSTART:20261101T050000
END:STANDARD
END:VTIMEZONE
BEGIN:VEVENT
DTSTART;TZID=America/Halifax:20250923T203000
DTEND;TZID=America/Halifax:20250923T230000
DTSTAMP:20260423T201009
CREATED:20250407T170401Z
LAST-MODIFIED:20250925T183837Z
UID:10005396-1758659400-1758668400@christcovcincy.org
SUMMARY:ManCave
DESCRIPTION:Men (high school age and older) are encouraged to come join in this time of fellowship and study of Proverbs.
URL:https://christcovcincy.org/event/mancave-2-2/2025-09-23/
LOCATION:Church Fire Pit\, 2192 Springdale Road\, Cincinnati\, OH\, 45231
CATEGORIES:Men's Discipleship
ATTACH;FMTTYPE=image/jpeg:https://christcovcincy.org/wp-content/uploads/2022/10/Mancave-1.jpg
END:VEVENT
BEGIN:VEVENT
DTSTART;TZID=America/Halifax:20250909T203000
DTEND;TZID=America/Halifax:20250909T230000
DTSTAMP:20260423T201009
CREATED:20240503T202921Z
LAST-MODIFIED:20250925T184031Z
UID:10005375-1757449800-1757458800@christcovcincy.org
SUMMARY:ManCave
DESCRIPTION:Men (high school age and older) are encouraged to come join in this time of fellowship and study of Proverbs.
URL:https://christcovcincy.org/event/mancave-2/2025-09-09/
LOCATION:Church Fire Pit\, 2192 Springdale Road\, Cincinnati\, OH\, 45231
CATEGORIES:Men's Discipleship
ATTACH;FMTTYPE=image/jpeg:https://christcovcincy.org/wp-content/uploads/2022/10/Mancave-1.jpg
END:VEVENT
BEGIN:VEVENT
DTSTART;TZID=America/Halifax:20250826T203000
DTEND;TZID=America/Halifax:20250826T230000
DTSTAMP:20260423T201009
CREATED:20250407T170401Z
LAST-MODIFIED:20250925T183837Z
UID:10005395-1756240200-1756249200@christcovcincy.org
SUMMARY:ManCave
DESCRIPTION:Men (high school age and older) are encouraged to come join in this time of fellowship and study of Proverbs.
URL:https://christcovcincy.org/event/mancave-2-2/2025-08-26/
LOCATION:Church Fire Pit\, 2192 Springdale Road\, Cincinnati\, OH\, 45231
CATEGORIES:Men's Discipleship
ATTACH;FMTTYPE=image/jpeg:https://christcovcincy.org/wp-content/uploads/2022/10/Mancave-1.jpg
END:VEVENT
BEGIN:VEVENT
DTSTART;TZID=America/Halifax:20250812T203000
DTEND;TZID=America/Halifax:20250812T230000
DTSTAMP:20260423T201009
CREATED:20240503T202921Z
LAST-MODIFIED:20250925T184031Z
UID:10005374-1755030600-1755039600@christcovcincy.org
SUMMARY:ManCave
DESCRIPTION:Men (high school age and older) are encouraged to come join in this time of fellowship and study of Proverbs.
URL:https://christcovcincy.org/event/mancave-2/2025-08-12/
LOCATION:Church Fire Pit\, 2192 Springdale Road\, Cincinnati\, OH\, 45231
CATEGORIES:Men's Discipleship
ATTACH;FMTTYPE=image/jpeg:https://christcovcincy.org/wp-content/uploads/2022/10/Mancave-1.jpg
END:VEVENT
BEGIN:VEVENT
DTSTART;TZID=America/Halifax:20250722T203000
DTEND;TZID=America/Halifax:20250722T230000
DTSTAMP:20260423T201009
CREATED:20250407T170401Z
LAST-MODIFIED:20250925T183837Z
UID:10005394-1753216200-1753225200@christcovcincy.org
SUMMARY:ManCave
DESCRIPTION:Men (high school age and older) are encouraged to come join in this time of fellowship and study of Proverbs.
URL:https://christcovcincy.org/event/mancave-2-2/2025-07-22/
LOCATION:Church Fire Pit\, 2192 Springdale Road\, Cincinnati\, OH\, 45231
CATEGORIES:Men's Discipleship
ATTACH;FMTTYPE=image/jpeg:https://christcovcincy.org/wp-content/uploads/2022/10/Mancave-1.jpg
END:VEVENT
BEGIN:VEVENT
DTSTART;TZID=America/Halifax:20250708T203000
DTEND;TZID=America/Halifax:20250708T230000
DTSTAMP:20260423T201009
CREATED:20240503T202921Z
LAST-MODIFIED:20250925T184031Z
UID:10005373-1752006600-1752015600@christcovcincy.org
SUMMARY:ManCave
DESCRIPTION:Men (high school age and older) are encouraged to come join in this time of fellowship and study of Proverbs.
URL:https://christcovcincy.org/event/mancave-2/2025-07-08/
LOCATION:Church Fire Pit\, 2192 Springdale Road\, Cincinnati\, OH\, 45231
CATEGORIES:Men's Discipleship
ATTACH;FMTTYPE=image/jpeg:https://christcovcincy.org/wp-content/uploads/2022/10/Mancave-1.jpg
END:VEVENT
BEGIN:VEVENT
DTSTART;TZID=America/Halifax:20250624T203000
DTEND;TZID=America/Halifax:20250624T230000
DTSTAMP:20260423T201009
CREATED:20250407T170401Z
LAST-MODIFIED:20250925T183837Z
UID:10005393-1750797000-1750806000@christcovcincy.org
SUMMARY:ManCave
DESCRIPTION:Men (high school age and older) are encouraged to come join in this time of fellowship and study of Proverbs.
URL:https://christcovcincy.org/event/mancave-2-2/2025-06-24/
LOCATION:Church Fire Pit\, 2192 Springdale Road\, Cincinnati\, OH\, 45231
CATEGORIES:Men's Discipleship
ATTACH;FMTTYPE=image/jpeg:https://christcovcincy.org/wp-content/uploads/2022/10/Mancave-1.jpg
END:VEVENT
BEGIN:VEVENT
DTSTART;TZID=America/Halifax:20250610T203000
DTEND;TZID=America/Halifax:20250610T230000
DTSTAMP:20260423T201009
CREATED:20240503T202921Z
LAST-MODIFIED:20250925T184031Z
UID:10005372-1749587400-1749596400@christcovcincy.org
SUMMARY:ManCave
DESCRIPTION:Men (high school age and older) are encouraged to come join in this time of fellowship and study of Proverbs.
URL:https://christcovcincy.org/event/mancave-2/2025-06-10/
LOCATION:Church Fire Pit\, 2192 Springdale Road\, Cincinnati\, OH\, 45231
CATEGORIES:Men's Discipleship
ATTACH;FMTTYPE=image/jpeg:https://christcovcincy.org/wp-content/uploads/2022/10/Mancave-1.jpg
END:VEVENT
BEGIN:VEVENT
DTSTART;TZID=America/Halifax:20250527T203000
DTEND;TZID=America/Halifax:20250527T230000
DTSTAMP:20260423T201009
CREATED:20250407T170401Z
LAST-MODIFIED:20250925T183837Z
UID:10005392-1748377800-1748386800@christcovcincy.org
SUMMARY:ManCave
DESCRIPTION:Men (high school age and older) are encouraged to come join in this time of fellowship and study of Proverbs.
URL:https://christcovcincy.org/event/mancave-2-2/2025-05-27/
LOCATION:Church Fire Pit\, 2192 Springdale Road\, Cincinnati\, OH\, 45231
CATEGORIES:Men's Discipleship
ATTACH;FMTTYPE=image/jpeg:https://christcovcincy.org/wp-content/uploads/2022/10/Mancave-1.jpg
END:VEVENT
BEGIN:VEVENT
DTSTART;TZID=America/Halifax:20250513T203000
DTEND;TZID=America/Halifax:20250513T230000
DTSTAMP:20260423T201009
CREATED:20240503T202921Z
LAST-MODIFIED:20250925T184031Z
UID:10005371-1747168200-1747177200@christcovcincy.org
SUMMARY:ManCave
DESCRIPTION:Men (high school age and older) are encouraged to come join in this time of fellowship and study of Proverbs.
URL:https://christcovcincy.org/event/mancave-2/2025-05-13/
LOCATION:Church Fire Pit\, 2192 Springdale Road\, Cincinnati\, OH\, 45231
CATEGORIES:Men's Discipleship
ATTACH;FMTTYPE=image/jpeg:https://christcovcincy.org/wp-content/uploads/2022/10/Mancave-1.jpg
END:VEVENT
BEGIN:VEVENT
DTSTART;TZID=America/Halifax:20250422T203000
DTEND;TZID=America/Halifax:20250422T230000
DTSTAMP:20260423T201009
CREATED:20250407T170401Z
LAST-MODIFIED:20250925T183837Z
UID:10005391-1745353800-1745362800@christcovcincy.org
SUMMARY:ManCave
DESCRIPTION:Men (high school age and older) are encouraged to come join in this time of fellowship and study of Proverbs.
URL:https://christcovcincy.org/event/mancave-2-2/2025-04-22/
LOCATION:Church Fire Pit\, 2192 Springdale Road\, Cincinnati\, OH\, 45231
CATEGORIES:Men's Discipleship
ATTACH;FMTTYPE=image/jpeg:https://christcovcincy.org/wp-content/uploads/2022/10/Mancave-1.jpg
END:VEVENT
BEGIN:VEVENT
DTSTART;TZID=America/Halifax:20250408T203000
DTEND;TZID=America/Halifax:20250408T230000
DTSTAMP:20260423T201009
CREATED:20240503T202921Z
LAST-MODIFIED:20250925T184031Z
UID:10005370-1744144200-1744153200@christcovcincy.org
SUMMARY:ManCave
DESCRIPTION:Men (high school age and older) are encouraged to come join in this time of fellowship and study of Proverbs.
URL:https://christcovcincy.org/event/mancave-2/2025-04-08/
LOCATION:Church Fire Pit\, 2192 Springdale Road\, Cincinnati\, OH\, 45231
CATEGORIES:Men's Discipleship
ATTACH;FMTTYPE=image/jpeg:https://christcovcincy.org/wp-content/uploads/2022/10/Mancave-1.jpg
END:VEVENT
BEGIN:VEVENT
DTSTART;TZID=America/Halifax:20250325T203000
DTEND;TZID=America/Halifax:20250325T230000
DTSTAMP:20260423T201009
CREATED:20250407T170401Z
LAST-MODIFIED:20250925T183837Z
UID:10005390-1742934600-1742943600@christcovcincy.org
SUMMARY:ManCave
DESCRIPTION:Men (high school age and older) are encouraged to come join in this time of fellowship and study of Proverbs.
URL:https://christcovcincy.org/event/mancave-2-2/2025-03-25/
LOCATION:Church Fire Pit\, 2192 Springdale Road\, Cincinnati\, OH\, 45231
CATEGORIES:Men's Discipleship
ATTACH;FMTTYPE=image/jpeg:https://christcovcincy.org/wp-content/uploads/2022/10/Mancave-1.jpg
END:VEVENT
BEGIN:VEVENT
DTSTART;TZID=America/Halifax:20250311T203000
DTEND;TZID=America/Halifax:20250311T230000
DTSTAMP:20260423T201009
CREATED:20240503T202921Z
LAST-MODIFIED:20250925T184031Z
UID:10005369-1741725000-1741734000@christcovcincy.org
SUMMARY:ManCave
DESCRIPTION:Men (high school age and older) are encouraged to come join in this time of fellowship and study of Proverbs.
URL:https://christcovcincy.org/event/mancave-2/2025-03-11/
LOCATION:Church Fire Pit\, 2192 Springdale Road\, Cincinnati\, OH\, 45231
CATEGORIES:Men's Discipleship
ATTACH;FMTTYPE=image/jpeg:https://christcovcincy.org/wp-content/uploads/2022/10/Mancave-1.jpg
END:VEVENT
BEGIN:VEVENT
DTSTART;TZID=America/Halifax:20250225T203000
DTEND;TZID=America/Halifax:20250225T230000
DTSTAMP:20260423T201009
CREATED:20250407T170401Z
LAST-MODIFIED:20250925T183837Z
UID:10005389-1740515400-1740524400@christcovcincy.org
SUMMARY:ManCave
DESCRIPTION:Men (high school age and older) are encouraged to come join in this time of fellowship and study of Proverbs.
URL:https://christcovcincy.org/event/mancave-2-2/2025-02-25/
LOCATION:Church Fire Pit\, 2192 Springdale Road\, Cincinnati\, OH\, 45231
CATEGORIES:Men's Discipleship
ATTACH;FMTTYPE=image/jpeg:https://christcovcincy.org/wp-content/uploads/2022/10/Mancave-1.jpg
END:VEVENT
BEGIN:VEVENT
DTSTART;TZID=America/Halifax:20250211T203000
DTEND;TZID=America/Halifax:20250211T230000
DTSTAMP:20260423T201009
CREATED:20240503T202921Z
LAST-MODIFIED:20250925T184031Z
UID:10005368-1739305800-1739314800@christcovcincy.org
SUMMARY:ManCave
DESCRIPTION:Men (high school age and older) are encouraged to come join in this time of fellowship and study of Proverbs.
URL:https://christcovcincy.org/event/mancave-2/2025-02-11/
LOCATION:Church Fire Pit\, 2192 Springdale Road\, Cincinnati\, OH\, 45231
CATEGORIES:Men's Discipleship
ATTACH;FMTTYPE=image/jpeg:https://christcovcincy.org/wp-content/uploads/2022/10/Mancave-1.jpg
END:VEVENT
BEGIN:VEVENT
DTSTART;TZID=America/Halifax:20250128T203000
DTEND;TZID=America/Halifax:20250128T230000
DTSTAMP:20260423T201009
CREATED:20250407T170401Z
LAST-MODIFIED:20250925T183837Z
UID:10005388-1738096200-1738105200@christcovcincy.org
SUMMARY:ManCave
DESCRIPTION:Men (high school age and older) are encouraged to come join in this time of fellowship and study of Proverbs.
URL:https://christcovcincy.org/event/mancave-2-2/2025-01-28/
LOCATION:Church Fire Pit\, 2192 Springdale Road\, Cincinnati\, OH\, 45231
CATEGORIES:Men's Discipleship
ATTACH;FMTTYPE=image/jpeg:https://christcovcincy.org/wp-content/uploads/2022/10/Mancave-1.jpg
END:VEVENT
BEGIN:VEVENT
DTSTART;TZID=America/Halifax:20250114T203000
DTEND;TZID=America/Halifax:20250114T230000
DTSTAMP:20260423T201009
CREATED:20240503T202921Z
LAST-MODIFIED:20250925T184031Z
UID:10005367-1736886600-1736895600@christcovcincy.org
SUMMARY:ManCave
DESCRIPTION:Men (high school age and older) are encouraged to come join in this time of fellowship and study of Proverbs.
URL:https://christcovcincy.org/event/mancave-2/2025-01-14/
LOCATION:Church Fire Pit\, 2192 Springdale Road\, Cincinnati\, OH\, 45231
CATEGORIES:Men's Discipleship
ATTACH;FMTTYPE=image/jpeg:https://christcovcincy.org/wp-content/uploads/2022/10/Mancave-1.jpg
END:VEVENT
BEGIN:VEVENT
DTSTART;TZID=America/Halifax:20241210T203000
DTEND;TZID=America/Halifax:20241210T230000
DTSTAMP:20260423T201009
CREATED:20240503T202921Z
LAST-MODIFIED:20250925T184031Z
UID:10005366-1733862600-1733871600@christcovcincy.org
SUMMARY:ManCave
DESCRIPTION:Men (high school age and older) are encouraged to come join in this time of fellowship and study of Proverbs.
URL:https://christcovcincy.org/event/mancave-2/2024-12-10/
LOCATION:Church Fire Pit\, 2192 Springdale Road\, Cincinnati\, OH\, 45231
CATEGORIES:Men's Discipleship
ATTACH;FMTTYPE=image/jpeg:https://christcovcincy.org/wp-content/uploads/2022/10/Mancave-1.jpg
END:VEVENT
BEGIN:VEVENT
DTSTART;TZID=America/Halifax:20241126T203000
DTEND;TZID=America/Halifax:20241126T230000
DTSTAMP:20260423T201009
CREATED:20250407T170401Z
LAST-MODIFIED:20250925T183837Z
UID:10005387-1732653000-1732662000@christcovcincy.org
SUMMARY:ManCave
DESCRIPTION:Men (high school age and older) are encouraged to come join in this time of fellowship and study of Proverbs.
URL:https://christcovcincy.org/event/mancave-2-2/2024-11-26/
LOCATION:Church Fire Pit\, 2192 Springdale Road\, Cincinnati\, OH\, 45231
CATEGORIES:Men's Discipleship
ATTACH;FMTTYPE=image/jpeg:https://christcovcincy.org/wp-content/uploads/2022/10/Mancave-1.jpg
END:VEVENT
BEGIN:VEVENT
DTSTART;TZID=America/Halifax:20241112T203000
DTEND;TZID=America/Halifax:20241112T230000
DTSTAMP:20260423T201009
CREATED:20240503T202921Z
LAST-MODIFIED:20250925T184031Z
UID:10005365-1731443400-1731452400@christcovcincy.org
SUMMARY:ManCave
DESCRIPTION:Men (high school age and older) are encouraged to come join in this time of fellowship and study of Proverbs.
URL:https://christcovcincy.org/event/mancave-2/2024-11-12/
LOCATION:Church Fire Pit\, 2192 Springdale Road\, Cincinnati\, OH\, 45231
CATEGORIES:Men's Discipleship
ATTACH;FMTTYPE=image/jpeg:https://christcovcincy.org/wp-content/uploads/2022/10/Mancave-1.jpg
END:VEVENT
BEGIN:VEVENT
DTSTART;TZID=America/Halifax:20241022T203000
DTEND;TZID=America/Halifax:20241022T230000
DTSTAMP:20260423T201009
CREATED:20250407T170401Z
LAST-MODIFIED:20250925T183837Z
UID:10005386-1729629000-1729638000@christcovcincy.org
SUMMARY:ManCave
DESCRIPTION:Men (high school age and older) are encouraged to come join in this time of fellowship and study of Proverbs.
URL:https://christcovcincy.org/event/mancave-2-2/2024-10-22/
LOCATION:Church Fire Pit\, 2192 Springdale Road\, Cincinnati\, OH\, 45231
CATEGORIES:Men's Discipleship
ATTACH;FMTTYPE=image/jpeg:https://christcovcincy.org/wp-content/uploads/2022/10/Mancave-1.jpg
END:VEVENT
BEGIN:VEVENT
DTSTART;TZID=America/Halifax:20241008T203000
DTEND;TZID=America/Halifax:20241008T230000
DTSTAMP:20260423T201009
CREATED:20240503T202921Z
LAST-MODIFIED:20250925T184031Z
UID:10005364-1728419400-1728428400@christcovcincy.org
SUMMARY:ManCave
DESCRIPTION:Men (high school age and older) are encouraged to come join in this time of fellowship and study of Proverbs.
URL:https://christcovcincy.org/event/mancave-2/2024-10-08/
LOCATION:Church Fire Pit\, 2192 Springdale Road\, Cincinnati\, OH\, 45231
CATEGORIES:Men's Discipleship
ATTACH;FMTTYPE=image/jpeg:https://christcovcincy.org/wp-content/uploads/2022/10/Mancave-1.jpg
END:VEVENT
BEGIN:VEVENT
DTSTART;TZID=America/Halifax:20240924T203000
DTEND;TZID=America/Halifax:20240924T230000
DTSTAMP:20260423T201009
CREATED:20250407T170401Z
LAST-MODIFIED:20250925T183837Z
UID:10005385-1727209800-1727218800@christcovcincy.org
SUMMARY:ManCave
DESCRIPTION:Men (high school age and older) are encouraged to come join in this time of fellowship and study of Proverbs.
URL:https://christcovcincy.org/event/mancave-2-2/2024-09-24/
LOCATION:Church Fire Pit\, 2192 Springdale Road\, Cincinnati\, OH\, 45231
CATEGORIES:Men's Discipleship
ATTACH;FMTTYPE=image/jpeg:https://christcovcincy.org/wp-content/uploads/2022/10/Mancave-1.jpg
END:VEVENT
BEGIN:VEVENT
DTSTART;TZID=America/Halifax:20240910T203000
DTEND;TZID=America/Halifax:20240910T230000
DTSTAMP:20260423T201009
CREATED:20240503T202921Z
LAST-MODIFIED:20250925T184031Z
UID:10005363-1726000200-1726009200@christcovcincy.org
SUMMARY:ManCave
DESCRIPTION:Men (high school age and older) are encouraged to come join in this time of fellowship and study of Proverbs.
URL:https://christcovcincy.org/event/mancave-2/2024-09-10/
LOCATION:Church Fire Pit\, 2192 Springdale Road\, Cincinnati\, OH\, 45231
CATEGORIES:Men's Discipleship
ATTACH;FMTTYPE=image/jpeg:https://christcovcincy.org/wp-content/uploads/2022/10/Mancave-1.jpg
END:VEVENT
BEGIN:VEVENT
DTSTART;TZID=America/Halifax:20240827T203000
DTEND;TZID=America/Halifax:20240827T230000
DTSTAMP:20260423T201009
CREATED:20250407T170401Z
LAST-MODIFIED:20250925T183837Z
UID:10005384-1724790600-1724799600@christcovcincy.org
SUMMARY:ManCave
DESCRIPTION:Men (high school age and older) are encouraged to come join in this time of fellowship and study of Proverbs.
URL:https://christcovcincy.org/event/mancave-2-2/2024-08-27/
LOCATION:Church Fire Pit\, 2192 Springdale Road\, Cincinnati\, OH\, 45231
CATEGORIES:Men's Discipleship
ATTACH;FMTTYPE=image/jpeg:https://christcovcincy.org/wp-content/uploads/2022/10/Mancave-1.jpg
END:VEVENT
BEGIN:VEVENT
DTSTART;TZID=America/Halifax:20240813T203000
DTEND;TZID=America/Halifax:20240813T230000
DTSTAMP:20260423T201009
CREATED:20240503T202921Z
LAST-MODIFIED:20250925T184031Z
UID:10005362-1723581000-1723590000@christcovcincy.org
SUMMARY:ManCave
DESCRIPTION:Men (high school age and older) are encouraged to come join in this time of fellowship and study of Proverbs.
URL:https://christcovcincy.org/event/mancave-2/2024-08-13/
LOCATION:Church Fire Pit\, 2192 Springdale Road\, Cincinnati\, OH\, 45231
CATEGORIES:Men's Discipleship
ATTACH;FMTTYPE=image/jpeg:https://christcovcincy.org/wp-content/uploads/2022/10/Mancave-1.jpg
END:VEVENT
BEGIN:VEVENT
DTSTART;TZID=America/Halifax:20240723T203000
DTEND;TZID=America/Halifax:20240723T230000
DTSTAMP:20260423T201009
CREATED:20240503T202921Z
LAST-MODIFIED:20240719T170724Z
UID:10005403-1721766600-1721775600@christcovcincy.org
SUMMARY:No ManCave This Week
DESCRIPTION:
URL:https://christcovcincy.org/event/mancave-2-2024-07-23/
LOCATION:Church Fire Pit\, 2192 Springdale Road\, Cincinnati\, OH\, 45231
CATEGORIES:Men's Discipleship
ATTACH;FMTTYPE=image/jpeg:https://christcovcincy.org/wp-content/uploads/2022/10/Mancave-1.jpg
END:VEVENT
BEGIN:VEVENT
DTSTART;TZID=America/Halifax:20240709T203000
DTEND;TZID=America/Halifax:20240709T230000
DTSTAMP:20260423T201009
CREATED:20240503T202921Z
LAST-MODIFIED:20250925T184031Z
UID:10005361-1720557000-1720566000@christcovcincy.org
SUMMARY:ManCave
DESCRIPTION:Men (high school age and older) are encouraged to come join in this time of fellowship and study of Proverbs.
URL:https://christcovcincy.org/event/mancave-2/2024-07-09/
LOCATION:Church Fire Pit\, 2192 Springdale Road\, Cincinnati\, OH\, 45231
CATEGORIES:Men's Discipleship
ATTACH;FMTTYPE=image/jpeg:https://christcovcincy.org/wp-content/uploads/2022/10/Mancave-1.jpg
END:VEVENT
BEGIN:VEVENT
DTSTART;TZID=America/Halifax:20240625T203000
DTEND;TZID=America/Halifax:20240625T230000
DTSTAMP:20260423T201009
CREATED:20250407T170401Z
LAST-MODIFIED:20250925T183837Z
UID:10005383-1719347400-1719356400@christcovcincy.org
SUMMARY:ManCave
DESCRIPTION:Men (high school age and older) are encouraged to come join in this time of fellowship and study of Proverbs.
URL:https://christcovcincy.org/event/mancave-2-2/2024-06-25/
LOCATION:Church Fire Pit\, 2192 Springdale Road\, Cincinnati\, OH\, 45231
CATEGORIES:Men's Discipleship
ATTACH;FMTTYPE=image/jpeg:https://christcovcincy.org/wp-content/uploads/2022/10/Mancave-1.jpg
END:VEVENT
END:VCALENDAR