BEGIN:VCALENDAR
VERSION:2.0
PRODID:-//Christ Covenant Church - ECPv6.15.20//NONSGML v1.0//EN
CALSCALE:GREGORIAN
METHOD:PUBLISH
X-WR-CALNAME:Christ Covenant Church
X-ORIGINAL-URL:https://christcovcincy.org
X-WR-CALDESC:Events for Christ Covenant Church
REFRESH-INTERVAL;VALUE=DURATION:PT1H
X-Robots-Tag:noindex
X-PUBLISHED-TTL:PT1H
BEGIN:VTIMEZONE
TZID:America/New_York
BEGIN:DAYLIGHT
TZOFFSETFROM:-0500
TZOFFSETTO:-0400
TZNAME:EDT
DTSTART:20240310T070000
END:DAYLIGHT
BEGIN:STANDARD
TZOFFSETFROM:-0400
TZOFFSETTO:-0500
TZNAME:EST
DTSTART:20241103T060000
END:STANDARD
BEGIN:DAYLIGHT
TZOFFSETFROM:-0500
TZOFFSETTO:-0400
TZNAME:EDT
DTSTART:20250309T070000
END:DAYLIGHT
BEGIN:STANDARD
TZOFFSETFROM:-0400
TZOFFSETTO:-0500
TZNAME:EST
DTSTART:20251102T060000
END:STANDARD
BEGIN:DAYLIGHT
TZOFFSETFROM:-0500
TZOFFSETTO:-0400
TZNAME:EDT
DTSTART:20260308T070000
END:DAYLIGHT
BEGIN:STANDARD
TZOFFSETFROM:-0400
TZOFFSETTO:-0500
TZNAME:EST
DTSTART:20261101T060000
END:STANDARD
BEGIN:DAYLIGHT
TZOFFSETFROM:-0500
TZOFFSETTO:-0400
TZNAME:EDT
DTSTART:20270314T070000
END:DAYLIGHT
BEGIN:STANDARD
TZOFFSETFROM:-0400
TZOFFSETTO:-0500
TZNAME:EST
DTSTART:20271107T060000
END:STANDARD
END:VTIMEZONE
BEGIN:VTIMEZONE
TZID:America/Halifax
BEGIN:DAYLIGHT
TZOFFSETFROM:-0400
TZOFFSETTO:-0300
TZNAME:ADT
DTSTART:20240310T060000
END:DAYLIGHT
BEGIN:STANDARD
TZOFFSETFROM:-0300
TZOFFSETTO:-0400
TZNAME:AST
DTSTART:20241103T050000
END:STANDARD
BEGIN:DAYLIGHT
TZOFFSETFROM:-0400
TZOFFSETTO:-0300
TZNAME:ADT
DTSTART:20250309T060000
END:DAYLIGHT
BEGIN:STANDARD
TZOFFSETFROM:-0300
TZOFFSETTO:-0400
TZNAME:AST
DTSTART:20251102T050000
END:STANDARD
BEGIN:DAYLIGHT
TZOFFSETFROM:-0400
TZOFFSETTO:-0300
TZNAME:ADT
DTSTART:20260308T060000
END:DAYLIGHT
BEGIN:STANDARD
TZOFFSETFROM:-0300
TZOFFSETTO:-0400
TZNAME:AST
DTSTART:20261101T050000
END:STANDARD
BEGIN:DAYLIGHT
TZOFFSETFROM:-0400
TZOFFSETTO:-0300
TZNAME:ADT
DTSTART:20270314T060000
END:DAYLIGHT
BEGIN:STANDARD
TZOFFSETFROM:-0300
TZOFFSETTO:-0400
TZNAME:AST
DTSTART:20271107T050000
END:STANDARD
END:VTIMEZONE
BEGIN:VEVENT
DTSTART;TZID=America/New_York:20260204T160000
DTEND;TZID=America/New_York:20260204T170000
DTSTAMP:20260423T163132
CREATED:20250828T134650Z
LAST-MODIFIED:20260313T022922Z
UID:10007085-1770220800-1770224400@christcovcincy.org
SUMMARY:Private Event
DESCRIPTION:after school tutoring
URL:https://christcovcincy.org/event/private-event-108/2026-02-04/
LOCATION:Library @ Christ Covenant Church Office
CATEGORIES:private event
ATTACH;FMTTYPE=image/jpeg:https://christcovcincy.org/wp-content/uploads/2023/06/privateeventcalendar.jpg
END:VEVENT
BEGIN:VEVENT
DTSTART;TZID=America/New_York:20260202T160000
DTEND;TZID=America/New_York:20260202T170000
DTSTAMP:20260423T163132
CREATED:20250828T134321Z
LAST-MODIFIED:20260313T023111Z
UID:10007046-1770048000-1770051600@christcovcincy.org
SUMMARY:Private Event
DESCRIPTION:after school tutoring
URL:https://christcovcincy.org/event/private-event-107/2026-02-02/
LOCATION:Library @ Christ Covenant Church Office
CATEGORIES:private event
ATTACH;FMTTYPE=image/jpeg:https://christcovcincy.org/wp-content/uploads/2023/06/privateeventcalendar.jpg
END:VEVENT
BEGIN:VEVENT
DTSTART;TZID=America/New_York:20260129T160000
DTEND;TZID=America/New_York:20260129T170000
DTSTAMP:20260423T163132
CREATED:20250828T134321Z
LAST-MODIFIED:20260313T023111Z
UID:10007474-1769702400-1769706000@christcovcincy.org
SUMMARY:Private Event
DESCRIPTION:after school tutoring
URL:https://christcovcincy.org/event/private-event-107/2026-01-29/
LOCATION:Library @ Christ Covenant Church Office
CATEGORIES:private event
ATTACH;FMTTYPE=image/jpeg:https://christcovcincy.org/wp-content/uploads/2023/06/privateeventcalendar.jpg
END:VEVENT
BEGIN:VEVENT
DTSTART;TZID=America/New_York:20260122T160000
DTEND;TZID=America/New_York:20260122T170000
DTSTAMP:20260423T163132
CREATED:20250828T134650Z
LAST-MODIFIED:20260313T022922Z
UID:10007435-1769097600-1769101200@christcovcincy.org
SUMMARY:Private Event
DESCRIPTION:after school tutoring
URL:https://christcovcincy.org/event/private-event-108/2026-01-22/
LOCATION:Library @ Christ Covenant Church Office
CATEGORIES:private event
ATTACH;FMTTYPE=image/jpeg:https://christcovcincy.org/wp-content/uploads/2023/06/privateeventcalendar.jpg
END:VEVENT
BEGIN:VEVENT
DTSTART;TZID=America/Halifax:20260119T190000
DTEND;TZID=America/Halifax:20260119T210000
DTSTAMP:20260423T163132
CREATED:20250115T202508Z
LAST-MODIFIED:20251001T134226Z
UID:10005704-1768849200-1768856400@christcovcincy.org
SUMMARY:Deacon Meeting
DESCRIPTION:
URL:https://christcovcincy.org/event/deacon-meeting-4/2026-01-19/
LOCATION:Library @ Christ Covenant Church Office
ATTACH;FMTTYPE=image/png:https://christcovcincy.org/wp-content/uploads/2022/07/Board-Meeting.png
END:VEVENT
BEGIN:VEVENT
DTSTART;TZID=America/New_York:20260119T160000
DTEND;TZID=America/New_York:20260119T170000
DTSTAMP:20260423T163132
CREATED:20250828T134321Z
LAST-MODIFIED:20260313T023111Z
UID:10007044-1768838400-1768842000@christcovcincy.org
SUMMARY:Private Event
DESCRIPTION:after school tutoring
URL:https://christcovcincy.org/event/private-event-107/2026-01-19/
LOCATION:Library @ Christ Covenant Church Office
CATEGORIES:private event
ATTACH;FMTTYPE=image/jpeg:https://christcovcincy.org/wp-content/uploads/2023/06/privateeventcalendar.jpg
END:VEVENT
BEGIN:VEVENT
DTSTART;TZID=America/New_York:20260114T160000
DTEND;TZID=America/New_York:20260114T170000
DTSTAMP:20260423T163132
CREATED:20250828T134650Z
LAST-MODIFIED:20260313T022922Z
UID:10007082-1768406400-1768410000@christcovcincy.org
SUMMARY:Private Event
DESCRIPTION:after school tutoring
URL:https://christcovcincy.org/event/private-event-108/2026-01-14/
LOCATION:Library @ Christ Covenant Church Office
CATEGORIES:private event
ATTACH;FMTTYPE=image/jpeg:https://christcovcincy.org/wp-content/uploads/2023/06/privateeventcalendar.jpg
END:VEVENT
BEGIN:VEVENT
DTSTART;TZID=America/New_York:20260112T160000
DTEND;TZID=America/New_York:20260112T170000
DTSTAMP:20260423T163132
CREATED:20250828T134321Z
LAST-MODIFIED:20260313T023111Z
UID:10007043-1768233600-1768237200@christcovcincy.org
SUMMARY:Private Event
DESCRIPTION:after school tutoring
URL:https://christcovcincy.org/event/private-event-107/2026-01-12/
LOCATION:Library @ Christ Covenant Church Office
CATEGORIES:private event
ATTACH;FMTTYPE=image/jpeg:https://christcovcincy.org/wp-content/uploads/2023/06/privateeventcalendar.jpg
END:VEVENT
BEGIN:VEVENT
DTSTART;TZID=America/New_York:20260107T160000
DTEND;TZID=America/New_York:20260107T170000
DTSTAMP:20260423T163132
CREATED:20250828T134650Z
LAST-MODIFIED:20260313T022922Z
UID:10007081-1767801600-1767805200@christcovcincy.org
SUMMARY:Private Event
DESCRIPTION:after school tutoring
URL:https://christcovcincy.org/event/private-event-108/2026-01-07/
LOCATION:Library @ Christ Covenant Church Office
CATEGORIES:private event
ATTACH;FMTTYPE=image/jpeg:https://christcovcincy.org/wp-content/uploads/2023/06/privateeventcalendar.jpg
END:VEVENT
BEGIN:VEVENT
DTSTART;TZID=America/New_York:20260105T160000
DTEND;TZID=America/New_York:20260105T170000
DTSTAMP:20260423T163132
CREATED:20250828T134321Z
LAST-MODIFIED:20260313T023111Z
UID:10007042-1767628800-1767632400@christcovcincy.org
SUMMARY:Private Event
DESCRIPTION:after school tutoring
URL:https://christcovcincy.org/event/private-event-107/2026-01-05/
LOCATION:Library @ Christ Covenant Church Office
CATEGORIES:private event
ATTACH;FMTTYPE=image/jpeg:https://christcovcincy.org/wp-content/uploads/2023/06/privateeventcalendar.jpg
END:VEVENT
BEGIN:VEVENT
DTSTART;TZID=America/New_York:20251217T160000
DTEND;TZID=America/New_York:20251217T170000
DTSTAMP:20260423T163132
CREATED:20250828T134650Z
LAST-MODIFIED:20260313T022922Z
UID:10007078-1765987200-1765990800@christcovcincy.org
SUMMARY:Private Event
DESCRIPTION:after school tutoring
URL:https://christcovcincy.org/event/private-event-108/2025-12-17/
LOCATION:Library @ Christ Covenant Church Office
CATEGORIES:private event
ATTACH;FMTTYPE=image/jpeg:https://christcovcincy.org/wp-content/uploads/2023/06/privateeventcalendar.jpg
END:VEVENT
BEGIN:VEVENT
DTSTART;TZID=America/New_York:20251215T160000
DTEND;TZID=America/New_York:20251215T170000
DTSTAMP:20260423T163132
CREATED:20250828T134321Z
LAST-MODIFIED:20260313T023111Z
UID:10007039-1765814400-1765818000@christcovcincy.org
SUMMARY:Private Event
DESCRIPTION:after school tutoring
URL:https://christcovcincy.org/event/private-event-107/2025-12-15/
LOCATION:Library @ Christ Covenant Church Office
CATEGORIES:private event
ATTACH;FMTTYPE=image/jpeg:https://christcovcincy.org/wp-content/uploads/2023/06/privateeventcalendar.jpg
END:VEVENT
BEGIN:VEVENT
DTSTART;TZID=America/New_York:20251210T160000
DTEND;TZID=America/New_York:20251210T170000
DTSTAMP:20260423T163132
CREATED:20250828T134650Z
LAST-MODIFIED:20260313T022922Z
UID:10007077-1765382400-1765386000@christcovcincy.org
SUMMARY:Private Event
DESCRIPTION:after school tutoring
URL:https://christcovcincy.org/event/private-event-108/2025-12-10/
LOCATION:Library @ Christ Covenant Church Office
CATEGORIES:private event
ATTACH;FMTTYPE=image/jpeg:https://christcovcincy.org/wp-content/uploads/2023/06/privateeventcalendar.jpg
END:VEVENT
BEGIN:VEVENT
DTSTART;TZID=America/New_York:20251208T160000
DTEND;TZID=America/New_York:20251208T170000
DTSTAMP:20260423T163132
CREATED:20250828T134321Z
LAST-MODIFIED:20260313T023111Z
UID:10007038-1765209600-1765213200@christcovcincy.org
SUMMARY:Private Event
DESCRIPTION:after school tutoring
URL:https://christcovcincy.org/event/private-event-107/2025-12-08/
LOCATION:Library @ Christ Covenant Church Office
CATEGORIES:private event
ATTACH;FMTTYPE=image/jpeg:https://christcovcincy.org/wp-content/uploads/2023/06/privateeventcalendar.jpg
END:VEVENT
BEGIN:VEVENT
DTSTART;TZID=America/New_York:20251203T160000
DTEND;TZID=America/New_York:20251203T170000
DTSTAMP:20260423T163132
CREATED:20250828T134650Z
LAST-MODIFIED:20260313T022922Z
UID:10007076-1764777600-1764781200@christcovcincy.org
SUMMARY:Private Event
DESCRIPTION:after school tutoring
URL:https://christcovcincy.org/event/private-event-108/2025-12-03/
LOCATION:Library @ Christ Covenant Church Office
CATEGORIES:private event
ATTACH;FMTTYPE=image/jpeg:https://christcovcincy.org/wp-content/uploads/2023/06/privateeventcalendar.jpg
END:VEVENT
BEGIN:VEVENT
DTSTART;TZID=America/New_York:20251201T160000
DTEND;TZID=America/New_York:20251201T170000
DTSTAMP:20260423T163132
CREATED:20250828T134321Z
LAST-MODIFIED:20260313T023111Z
UID:10007037-1764604800-1764608400@christcovcincy.org
SUMMARY:Private Event
DESCRIPTION:after school tutoring
URL:https://christcovcincy.org/event/private-event-107/2025-12-01/
LOCATION:Library @ Christ Covenant Church Office
CATEGORIES:private event
ATTACH;FMTTYPE=image/jpeg:https://christcovcincy.org/wp-content/uploads/2023/06/privateeventcalendar.jpg
END:VEVENT
BEGIN:VEVENT
DTSTART;TZID=America/New_York:20251124T160000
DTEND;TZID=America/New_York:20251124T170000
DTSTAMP:20260423T163132
CREATED:20250828T134321Z
LAST-MODIFIED:20260313T023111Z
UID:10007036-1764000000-1764003600@christcovcincy.org
SUMMARY:Private Event
DESCRIPTION:after school tutoring
URL:https://christcovcincy.org/event/private-event-107/2025-11-24/
LOCATION:Library @ Christ Covenant Church Office
CATEGORIES:private event
ATTACH;FMTTYPE=image/jpeg:https://christcovcincy.org/wp-content/uploads/2023/06/privateeventcalendar.jpg
END:VEVENT
BEGIN:VEVENT
DTSTART;TZID=America/New_York:20251119T160000
DTEND;TZID=America/New_York:20251119T170000
DTSTAMP:20260423T163132
CREATED:20250828T134650Z
LAST-MODIFIED:20260313T022922Z
UID:10007074-1763568000-1763571600@christcovcincy.org
SUMMARY:Private Event
DESCRIPTION:after school tutoring
URL:https://christcovcincy.org/event/private-event-108/2025-11-19/
LOCATION:Library @ Christ Covenant Church Office
CATEGORIES:private event
ATTACH;FMTTYPE=image/jpeg:https://christcovcincy.org/wp-content/uploads/2023/06/privateeventcalendar.jpg
END:VEVENT
BEGIN:VEVENT
DTSTART;TZID=America/Halifax:20251117T190000
DTEND;TZID=America/Halifax:20251117T210000
DTSTAMP:20260423T163132
CREATED:20250115T202508Z
LAST-MODIFIED:20251001T134226Z
UID:10005702-1763406000-1763413200@christcovcincy.org
SUMMARY:Deacon Meeting
DESCRIPTION:
URL:https://christcovcincy.org/event/deacon-meeting-4/2025-11-17/
LOCATION:Library @ Christ Covenant Church Office
ATTACH;FMTTYPE=image/png:https://christcovcincy.org/wp-content/uploads/2022/07/Board-Meeting.png
END:VEVENT
BEGIN:VEVENT
DTSTART;TZID=America/New_York:20251117T160000
DTEND;TZID=America/New_York:20251117T170000
DTSTAMP:20260423T163132
CREATED:20250828T134321Z
LAST-MODIFIED:20260313T023111Z
UID:10007035-1763395200-1763398800@christcovcincy.org
SUMMARY:Private Event
DESCRIPTION:after school tutoring
URL:https://christcovcincy.org/event/private-event-107/2025-11-17/
LOCATION:Library @ Christ Covenant Church Office
CATEGORIES:private event
ATTACH;FMTTYPE=image/jpeg:https://christcovcincy.org/wp-content/uploads/2023/06/privateeventcalendar.jpg
END:VEVENT
BEGIN:VEVENT
DTSTART;TZID=America/New_York:20251112T160000
DTEND;TZID=America/New_York:20251112T170000
DTSTAMP:20260423T163132
CREATED:20250828T134650Z
LAST-MODIFIED:20260313T022922Z
UID:10007073-1762963200-1762966800@christcovcincy.org
SUMMARY:Private Event
DESCRIPTION:after school tutoring
URL:https://christcovcincy.org/event/private-event-108/2025-11-12/
LOCATION:Library @ Christ Covenant Church Office
CATEGORIES:private event
ATTACH;FMTTYPE=image/jpeg:https://christcovcincy.org/wp-content/uploads/2023/06/privateeventcalendar.jpg
END:VEVENT
BEGIN:VEVENT
DTSTART;TZID=America/New_York:20251110T160000
DTEND;TZID=America/New_York:20251110T170000
DTSTAMP:20260423T163132
CREATED:20250828T134321Z
LAST-MODIFIED:20260313T023111Z
UID:10007034-1762790400-1762794000@christcovcincy.org
SUMMARY:Private Event
DESCRIPTION:after school tutoring
URL:https://christcovcincy.org/event/private-event-107/2025-11-10/
LOCATION:Library @ Christ Covenant Church Office
CATEGORIES:private event
ATTACH;FMTTYPE=image/jpeg:https://christcovcincy.org/wp-content/uploads/2023/06/privateeventcalendar.jpg
END:VEVENT
BEGIN:VEVENT
DTSTART;TZID=America/New_York:20251105T160000
DTEND;TZID=America/New_York:20251105T170000
DTSTAMP:20260423T163132
CREATED:20250828T134650Z
LAST-MODIFIED:20260313T022922Z
UID:10007072-1762358400-1762362000@christcovcincy.org
SUMMARY:Private Event
DESCRIPTION:after school tutoring
URL:https://christcovcincy.org/event/private-event-108/2025-11-05/
LOCATION:Library @ Christ Covenant Church Office
CATEGORIES:private event
ATTACH;FMTTYPE=image/jpeg:https://christcovcincy.org/wp-content/uploads/2023/06/privateeventcalendar.jpg
END:VEVENT
BEGIN:VEVENT
DTSTART;TZID=America/New_York:20251103T160000
DTEND;TZID=America/New_York:20251103T170000
DTSTAMP:20260423T163132
CREATED:20250828T134321Z
LAST-MODIFIED:20260313T023111Z
UID:10007033-1762185600-1762189200@christcovcincy.org
SUMMARY:Private Event
DESCRIPTION:after school tutoring
URL:https://christcovcincy.org/event/private-event-107/2025-11-03/
LOCATION:Library @ Christ Covenant Church Office
CATEGORIES:private event
ATTACH;FMTTYPE=image/jpeg:https://christcovcincy.org/wp-content/uploads/2023/06/privateeventcalendar.jpg
END:VEVENT
BEGIN:VEVENT
DTSTART;TZID=America/New_York:20251029T160000
DTEND;TZID=America/New_York:20251029T170000
DTSTAMP:20260423T163132
CREATED:20250828T134650Z
LAST-MODIFIED:20260313T022922Z
UID:10007071-1761753600-1761757200@christcovcincy.org
SUMMARY:Private Event
DESCRIPTION:after school tutoring
URL:https://christcovcincy.org/event/private-event-108/2025-10-29/
LOCATION:Library @ Christ Covenant Church Office
CATEGORIES:private event
ATTACH;FMTTYPE=image/jpeg:https://christcovcincy.org/wp-content/uploads/2023/06/privateeventcalendar.jpg
END:VEVENT
BEGIN:VEVENT
DTSTART;TZID=America/New_York:20251027T160000
DTEND;TZID=America/New_York:20251027T170000
DTSTAMP:20260423T163132
CREATED:20250828T134321Z
LAST-MODIFIED:20260313T023111Z
UID:10007032-1761580800-1761584400@christcovcincy.org
SUMMARY:Private Event
DESCRIPTION:after school tutoring
URL:https://christcovcincy.org/event/private-event-107/2025-10-27/
LOCATION:Library @ Christ Covenant Church Office
CATEGORIES:private event
ATTACH;FMTTYPE=image/jpeg:https://christcovcincy.org/wp-content/uploads/2023/06/privateeventcalendar.jpg
END:VEVENT
BEGIN:VEVENT
DTSTART;TZID=America/New_York:20251022T160000
DTEND;TZID=America/New_York:20251022T170000
DTSTAMP:20260423T163132
CREATED:20250828T134650Z
LAST-MODIFIED:20260313T022922Z
UID:10007070-1761148800-1761152400@christcovcincy.org
SUMMARY:Private Event
DESCRIPTION:after school tutoring
URL:https://christcovcincy.org/event/private-event-108/2025-10-22/
LOCATION:Library @ Christ Covenant Church Office
CATEGORIES:private event
ATTACH;FMTTYPE=image/jpeg:https://christcovcincy.org/wp-content/uploads/2023/06/privateeventcalendar.jpg
END:VEVENT
BEGIN:VEVENT
DTSTART;TZID=America/Halifax:20251020T190000
DTEND;TZID=America/Halifax:20251020T210000
DTSTAMP:20260423T163132
CREATED:20250115T202508Z
LAST-MODIFIED:20251001T134226Z
UID:10005701-1760986800-1760994000@christcovcincy.org
SUMMARY:Deacon Meeting
DESCRIPTION:
URL:https://christcovcincy.org/event/deacon-meeting-4/2025-10-20/
LOCATION:Library @ Christ Covenant Church Office
ATTACH;FMTTYPE=image/png:https://christcovcincy.org/wp-content/uploads/2022/07/Board-Meeting.png
END:VEVENT
BEGIN:VEVENT
DTSTART;TZID=America/New_York:20251020T160000
DTEND;TZID=America/New_York:20251020T170000
DTSTAMP:20260423T163132
CREATED:20250828T134321Z
LAST-MODIFIED:20260313T023111Z
UID:10007031-1760976000-1760979600@christcovcincy.org
SUMMARY:Private Event
DESCRIPTION:after school tutoring
URL:https://christcovcincy.org/event/private-event-107/2025-10-20/
LOCATION:Library @ Christ Covenant Church Office
CATEGORIES:private event
ATTACH;FMTTYPE=image/jpeg:https://christcovcincy.org/wp-content/uploads/2023/06/privateeventcalendar.jpg
END:VEVENT
BEGIN:VEVENT
DTSTART;TZID=America/New_York:20251015T160000
DTEND;TZID=America/New_York:20251015T170000
DTSTAMP:20260423T163132
CREATED:20250828T134650Z
LAST-MODIFIED:20260313T022922Z
UID:10007069-1760544000-1760547600@christcovcincy.org
SUMMARY:Private Event
DESCRIPTION:after school tutoring
URL:https://christcovcincy.org/event/private-event-108/2025-10-15/
LOCATION:Library @ Christ Covenant Church Office
CATEGORIES:private event
ATTACH;FMTTYPE=image/jpeg:https://christcovcincy.org/wp-content/uploads/2023/06/privateeventcalendar.jpg
END:VEVENT
END:VCALENDAR