BEGIN:VCALENDAR
VERSION:2.0
PRODID:-//Christ Covenant Church - ECPv6.15.20//NONSGML v1.0//EN
CALSCALE:GREGORIAN
METHOD:PUBLISH
X-ORIGINAL-URL:https://christcovcincy.org
X-WR-CALDESC:Events for Christ Covenant Church
REFRESH-INTERVAL;VALUE=DURATION:PT1H
X-Robots-Tag:noindex
X-PUBLISHED-TTL:PT1H
BEGIN:VTIMEZONE
TZID:America/Halifax
BEGIN:DAYLIGHT
TZOFFSETFROM:-0400
TZOFFSETTO:-0300
TZNAME:ADT
DTSTART:20220313T060000
END:DAYLIGHT
BEGIN:STANDARD
TZOFFSETFROM:-0300
TZOFFSETTO:-0400
TZNAME:AST
DTSTART:20221106T050000
END:STANDARD
BEGIN:DAYLIGHT
TZOFFSETFROM:-0400
TZOFFSETTO:-0300
TZNAME:ADT
DTSTART:20230312T060000
END:DAYLIGHT
BEGIN:STANDARD
TZOFFSETFROM:-0300
TZOFFSETTO:-0400
TZNAME:AST
DTSTART:20231105T050000
END:STANDARD
BEGIN:DAYLIGHT
TZOFFSETFROM:-0400
TZOFFSETTO:-0300
TZNAME:ADT
DTSTART:20240310T060000
END:DAYLIGHT
BEGIN:STANDARD
TZOFFSETFROM:-0300
TZOFFSETTO:-0400
TZNAME:AST
DTSTART:20241103T050000
END:STANDARD
END:VTIMEZONE
BEGIN:VTIMEZONE
TZID:UTC
BEGIN:STANDARD
TZOFFSETFROM:+0000
TZOFFSETTO:+0000
TZNAME:UTC
DTSTART:20220101T000000
END:STANDARD
END:VTIMEZONE
BEGIN:VTIMEZONE
TZID:America/New_York
BEGIN:DAYLIGHT
TZOFFSETFROM:-0500
TZOFFSETTO:-0400
TZNAME:EDT
DTSTART:20220313T070000
END:DAYLIGHT
BEGIN:STANDARD
TZOFFSETFROM:-0400
TZOFFSETTO:-0500
TZNAME:EST
DTSTART:20221106T060000
END:STANDARD
BEGIN:DAYLIGHT
TZOFFSETFROM:-0500
TZOFFSETTO:-0400
TZNAME:EDT
DTSTART:20230312T070000
END:DAYLIGHT
BEGIN:STANDARD
TZOFFSETFROM:-0400
TZOFFSETTO:-0500
TZNAME:EST
DTSTART:20231105T060000
END:STANDARD
BEGIN:DAYLIGHT
TZOFFSETFROM:-0500
TZOFFSETTO:-0400
TZNAME:EDT
DTSTART:20240310T070000
END:DAYLIGHT
BEGIN:STANDARD
TZOFFSETFROM:-0400
TZOFFSETTO:-0500
TZNAME:EST
DTSTART:20241103T060000
END:STANDARD
END:VTIMEZONE
BEGIN:VEVENT
DTSTART;TZID=America/Halifax:20231202T113000
DTEND;TZID=America/Halifax:20231202T133000
DTSTAMP:20260423T225201
CREATED:20231122T142814Z
LAST-MODIFIED:20231122T154323Z
UID:10005152-1701516600-1701523800@christcovcincy.org
SUMMARY:Women's Craft Time
DESCRIPTION:Join Us to make a simple Christmas craft using cut fabric. Your RSVP to Colleen is appreciated but not required. Snacks will be provided.
URL:https://christcovcincy.org/event/womens-craft-time/
LOCATION:Library @ Christ Covenant Church Office
ATTACH;FMTTYPE=image/webp:https://christcovcincy.org/wp-content/uploads/2023/11/il_fullxfull.1604881800_ecp1-scaled-e1700664153109.webp
ORGANIZER;CN="Colleen Grogan":MAILTO:colleeng@christcovcincy.org
END:VEVENT
BEGIN:VEVENT
DTSTART;TZID=UTC:20231120T190000
DTEND;TZID=UTC:20231120T210000
DTSTAMP:20260423T225201
CREATED:20221122T222057Z
LAST-MODIFIED:20240111T171025Z
UID:10004682-1700506800-1700514000@christcovcincy.org
SUMMARY:Deacon Meeting
DESCRIPTION:
URL:https://christcovcincy.org/event/deacon-meeting/2023-11-20/
LOCATION:Library @ Christ Covenant Church Office
ATTACH;FMTTYPE=image/png:https://christcovcincy.org/wp-content/uploads/2022/07/Board-Meeting.png
END:VEVENT
BEGIN:VEVENT
DTSTART;TZID=UTC:20231016T190000
DTEND;TZID=UTC:20231016T210000
DTSTAMP:20260423T225201
CREATED:20221122T222057Z
LAST-MODIFIED:20240111T171025Z
UID:10004681-1697482800-1697490000@christcovcincy.org
SUMMARY:Deacon Meeting
DESCRIPTION:
URL:https://christcovcincy.org/event/deacon-meeting/2023-10-16/
LOCATION:Library @ Christ Covenant Church Office
ATTACH;FMTTYPE=image/png:https://christcovcincy.org/wp-content/uploads/2022/07/Board-Meeting.png
END:VEVENT
BEGIN:VEVENT
DTSTART;TZID=America/Halifax:20230926T190000
DTEND;TZID=America/Halifax:20230926T213000
DTSTAMP:20260423T225201
CREATED:20230906T181446Z
LAST-MODIFIED:20230906T181446Z
UID:10005078-1695754800-1695763800@christcovcincy.org
SUMMARY:Missions Committee
DESCRIPTION:
URL:https://christcovcincy.org/event/missions-committee-2/
LOCATION:Library @ Christ Covenant Church Office
ATTACH;FMTTYPE=image/jpeg:https://christcovcincy.org/wp-content/uploads/2023/05/missionscommittee.jpg
END:VEVENT
BEGIN:VEVENT
DTSTART;TZID=UTC:20230918T190000
DTEND;TZID=UTC:20230918T210000
DTSTAMP:20260423T225201
CREATED:20221122T222057Z
LAST-MODIFIED:20240111T171025Z
UID:10004680-1695063600-1695070800@christcovcincy.org
SUMMARY:Deacon Meeting
DESCRIPTION:
URL:https://christcovcincy.org/event/deacon-meeting/2023-09-18/
LOCATION:Library @ Christ Covenant Church Office
ATTACH;FMTTYPE=image/png:https://christcovcincy.org/wp-content/uploads/2022/07/Board-Meeting.png
END:VEVENT
BEGIN:VEVENT
DTSTART;TZID=UTC:20230821T190000
DTEND;TZID=UTC:20230821T210000
DTSTAMP:20260423T225201
CREATED:20221122T222057Z
LAST-MODIFIED:20240111T171025Z
UID:10004679-1692644400-1692651600@christcovcincy.org
SUMMARY:Deacon Meeting
DESCRIPTION:
URL:https://christcovcincy.org/event/deacon-meeting/2023-08-21/
LOCATION:Library @ Christ Covenant Church Office
ATTACH;FMTTYPE=image/png:https://christcovcincy.org/wp-content/uploads/2022/07/Board-Meeting.png
END:VEVENT
BEGIN:VEVENT
DTSTART;TZID=UTC:20230717T190000
DTEND;TZID=UTC:20230717T210000
DTSTAMP:20260423T225201
CREATED:20221122T222057Z
LAST-MODIFIED:20240111T171025Z
UID:10004678-1689620400-1689627600@christcovcincy.org
SUMMARY:Deacon Meeting
DESCRIPTION:
URL:https://christcovcincy.org/event/deacon-meeting/2023-07-17/
LOCATION:Library @ Christ Covenant Church Office
ATTACH;FMTTYPE=image/png:https://christcovcincy.org/wp-content/uploads/2022/07/Board-Meeting.png
END:VEVENT
BEGIN:VEVENT
DTSTART;TZID=UTC:20230619T190000
DTEND;TZID=UTC:20230619T210000
DTSTAMP:20260423T225201
CREATED:20221122T222057Z
LAST-MODIFIED:20240111T171025Z
UID:10004677-1687201200-1687208400@christcovcincy.org
SUMMARY:Deacon Meeting
DESCRIPTION:
URL:https://christcovcincy.org/event/deacon-meeting/2023-06-19/
LOCATION:Library @ Christ Covenant Church Office
ATTACH;FMTTYPE=image/png:https://christcovcincy.org/wp-content/uploads/2022/07/Board-Meeting.png
END:VEVENT
BEGIN:VEVENT
DTSTART;TZID=UTC:20230515T190000
DTEND;TZID=UTC:20230515T210000
DTSTAMP:20260423T225201
CREATED:20221122T222057Z
LAST-MODIFIED:20240111T171025Z
UID:10004676-1684177200-1684184400@christcovcincy.org
SUMMARY:Deacon Meeting
DESCRIPTION:
URL:https://christcovcincy.org/event/deacon-meeting/2023-05-15/
LOCATION:Library @ Christ Covenant Church Office
ATTACH;FMTTYPE=image/png:https://christcovcincy.org/wp-content/uploads/2022/07/Board-Meeting.png
END:VEVENT
BEGIN:VEVENT
DTSTART;TZID=UTC:20230417T190000
DTEND;TZID=UTC:20230417T210000
DTSTAMP:20260423T225201
CREATED:20221122T222057Z
LAST-MODIFIED:20240111T171025Z
UID:10004675-1681758000-1681765200@christcovcincy.org
SUMMARY:Deacon Meeting
DESCRIPTION:
URL:https://christcovcincy.org/event/deacon-meeting/2023-04-17/
LOCATION:Library @ Christ Covenant Church Office
ATTACH;FMTTYPE=image/png:https://christcovcincy.org/wp-content/uploads/2022/07/Board-Meeting.png
END:VEVENT
BEGIN:VEVENT
DTSTART;TZID=UTC:20230320T190000
DTEND;TZID=UTC:20230320T210000
DTSTAMP:20260423T225201
CREATED:20221122T222057Z
LAST-MODIFIED:20240111T171025Z
UID:10004674-1679338800-1679346000@christcovcincy.org
SUMMARY:Deacon Meeting
DESCRIPTION:
URL:https://christcovcincy.org/event/deacon-meeting/2023-03-20/
LOCATION:Library @ Christ Covenant Church Office
ATTACH;FMTTYPE=image/png:https://christcovcincy.org/wp-content/uploads/2022/07/Board-Meeting.png
END:VEVENT
BEGIN:VEVENT
DTSTART;TZID=America/New_York:20230314T190000
DTEND;TZID=America/New_York:20230314T200000
DTSTAMP:20260423T225201
CREATED:20230316T153732Z
LAST-MODIFIED:20230316T153732Z
UID:10004860-1678820400-1678824000@christcovcincy.org
SUMMARY:Nominating Committee
DESCRIPTION:Initial meeting of the 2023 Nominating Committee
URL:https://christcovcincy.org/event/nominating-committee/
LOCATION:Library @ Christ Covenant Church Office
ATTACH;FMTTYPE=image/png:https://christcovcincy.org/wp-content/uploads/2023/03/images.png
END:VEVENT
BEGIN:VEVENT
DTSTART;TZID=UTC:20230220T190000
DTEND;TZID=UTC:20230220T210000
DTSTAMP:20260423T225201
CREATED:20221122T222057Z
LAST-MODIFIED:20240111T171025Z
UID:10004673-1676919600-1676926800@christcovcincy.org
SUMMARY:Deacon Meeting
DESCRIPTION:
URL:https://christcovcincy.org/event/deacon-meeting/2023-02-20/
LOCATION:Library @ Christ Covenant Church Office
ATTACH;FMTTYPE=image/png:https://christcovcincy.org/wp-content/uploads/2022/07/Board-Meeting.png
END:VEVENT
BEGIN:VEVENT
DTSTART;TZID=UTC:20230116T190000
DTEND;TZID=UTC:20230116T210000
DTSTAMP:20260423T225201
CREATED:20221122T222057Z
LAST-MODIFIED:20240111T171025Z
UID:10004672-1673895600-1673902800@christcovcincy.org
SUMMARY:Deacon Meeting
DESCRIPTION:
URL:https://christcovcincy.org/event/deacon-meeting/2023-01-16/
LOCATION:Library @ Christ Covenant Church Office
ATTACH;FMTTYPE=image/png:https://christcovcincy.org/wp-content/uploads/2022/07/Board-Meeting.png
END:VEVENT
END:VCALENDAR