BEGIN:VCALENDAR
VERSION:2.0
PRODID:-//Christ Covenant Church - ECPv6.15.20//NONSGML v1.0//EN
CALSCALE:GREGORIAN
METHOD:PUBLISH
X-ORIGINAL-URL:https://christcovcincy.org
X-WR-CALDESC:Events for Christ Covenant Church
REFRESH-INTERVAL;VALUE=DURATION:PT1H
X-Robots-Tag:noindex
X-PUBLISHED-TTL:PT1H
BEGIN:VTIMEZONE
TZID:America/Halifax
BEGIN:DAYLIGHT
TZOFFSETFROM:-0400
TZOFFSETTO:-0300
TZNAME:ADT
DTSTART:20230312T060000
END:DAYLIGHT
BEGIN:STANDARD
TZOFFSETFROM:-0300
TZOFFSETTO:-0400
TZNAME:AST
DTSTART:20231105T050000
END:STANDARD
BEGIN:DAYLIGHT
TZOFFSETFROM:-0400
TZOFFSETTO:-0300
TZNAME:ADT
DTSTART:20240310T060000
END:DAYLIGHT
BEGIN:STANDARD
TZOFFSETFROM:-0300
TZOFFSETTO:-0400
TZNAME:AST
DTSTART:20241103T050000
END:STANDARD
BEGIN:DAYLIGHT
TZOFFSETFROM:-0400
TZOFFSETTO:-0300
TZNAME:ADT
DTSTART:20250309T060000
END:DAYLIGHT
BEGIN:STANDARD
TZOFFSETFROM:-0300
TZOFFSETTO:-0400
TZNAME:AST
DTSTART:20251102T050000
END:STANDARD
BEGIN:DAYLIGHT
TZOFFSETFROM:-0400
TZOFFSETTO:-0300
TZNAME:ADT
DTSTART:20260308T060000
END:DAYLIGHT
BEGIN:STANDARD
TZOFFSETFROM:-0300
TZOFFSETTO:-0400
TZNAME:AST
DTSTART:20261101T050000
END:STANDARD
BEGIN:DAYLIGHT
TZOFFSETFROM:-0400
TZOFFSETTO:-0300
TZNAME:ADT
DTSTART:20270314T060000
END:DAYLIGHT
BEGIN:STANDARD
TZOFFSETFROM:-0300
TZOFFSETTO:-0400
TZNAME:AST
DTSTART:20271107T050000
END:STANDARD
END:VTIMEZONE
BEGIN:VTIMEZONE
TZID:America/New_York
BEGIN:DAYLIGHT
TZOFFSETFROM:-0500
TZOFFSETTO:-0400
TZNAME:EDT
DTSTART:20220313T070000
END:DAYLIGHT
BEGIN:STANDARD
TZOFFSETFROM:-0400
TZOFFSETTO:-0500
TZNAME:EST
DTSTART:20221106T060000
END:STANDARD
BEGIN:DAYLIGHT
TZOFFSETFROM:-0500
TZOFFSETTO:-0400
TZNAME:EDT
DTSTART:20230312T070000
END:DAYLIGHT
BEGIN:STANDARD
TZOFFSETFROM:-0400
TZOFFSETTO:-0500
TZNAME:EST
DTSTART:20231105T060000
END:STANDARD
BEGIN:DAYLIGHT
TZOFFSETFROM:-0500
TZOFFSETTO:-0400
TZNAME:EDT
DTSTART:20240310T070000
END:DAYLIGHT
BEGIN:STANDARD
TZOFFSETFROM:-0400
TZOFFSETTO:-0500
TZNAME:EST
DTSTART:20241103T060000
END:STANDARD
END:VTIMEZONE
BEGIN:VTIMEZONE
TZID:UTC
BEGIN:STANDARD
TZOFFSETFROM:+0000
TZOFFSETTO:+0000
TZNAME:UTC
DTSTART:20210101T000000
END:STANDARD
END:VTIMEZONE
BEGIN:VEVENT
DTSTART;TZID=America/Halifax:20260109T190000
DTEND;TZID=America/Halifax:20260109T213000
DTSTAMP:20260423T191132
CREATED:20241002T141543Z
LAST-MODIFIED:20251230T174430Z
UID:10007401-1767985200-1767994200@christcovcincy.org
SUMMARY:Women's Game Night
DESCRIPTION:Let’s get together for fun and games! We will gather at Linda Young’s home in Finneytown from 7:00-9:30 pm. Come to enjoy conversation and games! Bring a snack to share if you wish. For more information\, contact Tina Miller at tmiller@christcovcincy.org.
URL:https://christcovcincy.org/event/womens-game-night-4/2026-01-09/
LOCATION:Linda Young’s home\, 8760 Cottonwood Dr\, Cincinnati\, OH\, 45231
CATEGORIES:fellowships,Women's Discipleship
ATTACH;FMTTYPE=image/jpeg:https://christcovcincy.org/wp-content/uploads/2023/01/WomensFellowshipNight.jpg
END:VEVENT
BEGIN:VEVENT
DTSTART;TZID=America/Halifax:20250912T190000
DTEND;TZID=America/Halifax:20250912T213000
DTSTAMP:20260423T191132
CREATED:20241002T141543Z
LAST-MODIFIED:20251230T174430Z
UID:10007153-1757703600-1757712600@christcovcincy.org
SUMMARY:Women's Game Night
DESCRIPTION:Let’s get together for fun and games! We will gather at Linda Young’s home in Finneytown from 7:00-9:30 pm. Come to enjoy conversation and games! Bring a snack to share if you wish. For more information\, contact Tina Miller at tmiller@christcovcincy.org.
URL:https://christcovcincy.org/event/womens-game-night-4/2025-09-12/
LOCATION:Linda Young’s home\, 8760 Cottonwood Dr\, Cincinnati\, OH\, 45231
CATEGORIES:fellowships,Women's Discipleship
ATTACH;FMTTYPE=image/jpeg:https://christcovcincy.org/wp-content/uploads/2023/01/WomensFellowshipNight.jpg
END:VEVENT
BEGIN:VEVENT
DTSTART;TZID=America/Halifax:20250509T190000
DTEND;TZID=America/Halifax:20250509T213000
DTSTAMP:20260423T191132
CREATED:20241002T141543Z
LAST-MODIFIED:20251230T174430Z
UID:10006003-1746817200-1746826200@christcovcincy.org
SUMMARY:Women's Game Night
DESCRIPTION:Let’s get together for fun and games! We will gather at Linda Young’s home in Finneytown from 7:00-9:30 pm. Come to enjoy conversation and games! Bring a snack to share if you wish. For more information\, contact Tina Miller at tmiller@christcovcincy.org.
URL:https://christcovcincy.org/event/womens-game-night-4/2025-05-09/
LOCATION:Linda Young’s home\, 8760 Cottonwood Dr\, Cincinnati\, OH\, 45231
CATEGORIES:fellowships,Women's Discipleship
ATTACH;FMTTYPE=image/jpeg:https://christcovcincy.org/wp-content/uploads/2023/01/WomensFellowshipNight.jpg
END:VEVENT
BEGIN:VEVENT
DTSTART;TZID=America/Halifax:20250314T190000
DTEND;TZID=America/Halifax:20250314T213000
DTSTAMP:20260423T191132
CREATED:20241002T141543Z
LAST-MODIFIED:20251230T174430Z
UID:10005611-1741978800-1741987800@christcovcincy.org
SUMMARY:Women's Game Night
DESCRIPTION:Let’s get together for fun and games! We will gather at Linda Young’s home in Finneytown from 7:00-9:30 pm. Come to enjoy conversation and games! Bring a snack to share if you wish. For more information\, contact Tina Miller at tmiller@christcovcincy.org.
URL:https://christcovcincy.org/event/womens-game-night-4/2025-03-14/
LOCATION:Linda Young’s home\, 8760 Cottonwood Dr\, Cincinnati\, OH\, 45231
CATEGORIES:fellowships,Women's Discipleship
ATTACH;FMTTYPE=image/jpeg:https://christcovcincy.org/wp-content/uploads/2023/01/WomensFellowshipNight.jpg
END:VEVENT
BEGIN:VEVENT
DTSTART;TZID=America/Halifax:20250110T190000
DTEND;TZID=America/Halifax:20250110T213000
DTSTAMP:20260423T191132
CREATED:20241231T175320Z
LAST-MODIFIED:20250115T165117Z
UID:10005261-1736535600-1736544600@christcovcincy.org
SUMMARY:Women's Game Night: CANCELLED
DESCRIPTION:Let’s get together for fun and games! We will gather at Linda Young’s home in Finneytown from 7:00-9:30 pm. Come to enjoy conversation and games! Bring a snack to share if you wish. For more information\, contact Tina Miller at tmiller@christcovcincy.org.
URL:https://christcovcincy.org/event/womens-game-night-6/
LOCATION:Linda Young’s home\, 8760 Cottonwood Dr\, Cincinnati\, OH\, 45231
CATEGORIES:fellowships
ATTACH;FMTTYPE=image/jpeg:https://christcovcincy.org/wp-content/uploads/2023/01/WomensFellowshipNight.jpg
END:VEVENT
BEGIN:VEVENT
DTSTART;TZID=America/Halifax:20241011T190000
DTEND;TZID=America/Halifax:20241011T213000
DTSTAMP:20260423T191132
CREATED:20241002T141543Z
LAST-MODIFIED:20251230T174430Z
UID:10005610-1728673200-1728682200@christcovcincy.org
SUMMARY:Women's Game Night
DESCRIPTION:Let’s get together for fun and games! We will gather at Linda Young’s home in Finneytown from 7:00-9:30 pm. Come to enjoy conversation and games! Bring a snack to share if you wish. For more information\, contact Tina Miller at tmiller@christcovcincy.org.
URL:https://christcovcincy.org/event/womens-game-night-4/2024-10-11/
LOCATION:Linda Young’s home\, 8760 Cottonwood Dr\, Cincinnati\, OH\, 45231
CATEGORIES:fellowships,Women's Discipleship
ATTACH;FMTTYPE=image/jpeg:https://christcovcincy.org/wp-content/uploads/2023/01/WomensFellowshipNight.jpg
END:VEVENT
BEGIN:VEVENT
DTSTART;TZID=America/New_York:20230512T190000
DTEND;TZID=America/New_York:20230512T213000
DTSTAMP:20260423T191132
CREATED:20230504T140604Z
LAST-MODIFIED:20230504T140604Z
UID:10004901-1683918000-1683927000@christcovcincy.org
SUMMARY:Women's Fellowship NIght
DESCRIPTION:Let’s get together for fun and games! We will gather at Linda Young’s home in Finneytown from 7:00-9:30 pm. Come to enjoy scintillating conversation\, fun games\, snacks\, and a throwback craft that you will love! Need more information? Contact Colleen Grogan at colleeng@christcovcincy.org.
URL:https://christcovcincy.org/event/womens-fellowship-night-3/
LOCATION:Linda Young’s home\, 8760 Cottonwood Dr\, Cincinnati\, OH\, 45231
CATEGORIES:Women's Discipleship
ATTACH;FMTTYPE=image/jpeg:https://christcovcincy.org/wp-content/uploads/2023/01/WomensFellowshipNight.jpg
END:VEVENT
BEGIN:VEVENT
DTSTART;TZID=UTC:20230414T190000
DTEND;TZID=UTC:20230414T213000
DTSTAMP:20260423T191132
CREATED:20230125T235407Z
LAST-MODIFIED:20230331T140010Z
UID:10004746-1681498800-1681507800@christcovcincy.org
SUMMARY:Women's Fellowship Night
DESCRIPTION:Let’s get together for fun and games! We will gather at Linda Young’s home in Finneytown from 7:00-9:30 pm. Play a game\, get to know a new friend or connect with those you already know\, and share some delicious snacks – a great way to spend a Friday night! Need more information? Contact Colleen Grogan at colleeng@christcovcincy.org.
URL:https://christcovcincy.org/event/womens-fellowship-night-2/2023-04-14/
LOCATION:Linda Young’s home\, 8760 Cottonwood Dr\, Cincinnati\, OH\, 45231
CATEGORIES:Women's Discipleship
ATTACH;FMTTYPE=image/jpeg:https://christcovcincy.org/wp-content/uploads/2023/01/WomensFellowshipNight.jpg
ORGANIZER;CN="Colleen Grogan":MAILTO:colleeng@christcovcincy.org
END:VEVENT
BEGIN:VEVENT
DTSTART;TZID=UTC:20230310T190000
DTEND;TZID=UTC:20230310T213000
DTSTAMP:20260423T191132
CREATED:20230125T235407Z
LAST-MODIFIED:20230331T140010Z
UID:10004745-1678474800-1678483800@christcovcincy.org
SUMMARY:Women's Fellowship Night
DESCRIPTION:Let’s get together for fun and games! We will gather at Linda Young’s home in Finneytown from 7:00-9:30 pm. Play a game\, get to know a new friend or connect with those you already know\, and share some delicious snacks – a great way to spend a Friday night! Need more information? Contact Colleen Grogan at colleeng@christcovcincy.org.
URL:https://christcovcincy.org/event/womens-fellowship-night-2/2023-03-10/
LOCATION:Linda Young’s home\, 8760 Cottonwood Dr\, Cincinnati\, OH\, 45231
CATEGORIES:Women's Discipleship
ATTACH;FMTTYPE=image/jpeg:https://christcovcincy.org/wp-content/uploads/2023/01/WomensFellowshipNight.jpg
ORGANIZER;CN="Colleen Grogan":MAILTO:colleeng@christcovcincy.org
END:VEVENT
BEGIN:VEVENT
DTSTART;TZID=UTC:20230210T190000
DTEND;TZID=UTC:20230210T213000
DTSTAMP:20260423T191132
CREATED:20230125T235407Z
LAST-MODIFIED:20230331T140010Z
UID:10004744-1676055600-1676064600@christcovcincy.org
SUMMARY:Women's Fellowship Night
DESCRIPTION:Let’s get together for fun and games! We will gather at Linda Young’s home in Finneytown from 7:00-9:30 pm. Play a game\, get to know a new friend or connect with those you already know\, and share some delicious snacks – a great way to spend a Friday night! Need more information? Contact Colleen Grogan at colleeng@christcovcincy.org.
URL:https://christcovcincy.org/event/womens-fellowship-night-2/2023-02-10/
LOCATION:Linda Young’s home\, 8760 Cottonwood Dr\, Cincinnati\, OH\, 45231
CATEGORIES:Women's Discipleship
ATTACH;FMTTYPE=image/jpeg:https://christcovcincy.org/wp-content/uploads/2023/01/WomensFellowshipNight.jpg
ORGANIZER;CN="Colleen Grogan":MAILTO:colleeng@christcovcincy.org
END:VEVENT
BEGIN:VEVENT
DTSTART;TZID=UTC:20221111T190000
DTEND;TZID=UTC:20221111T210000
DTSTAMP:20260423T191132
CREATED:20221027T201839Z
LAST-MODIFIED:20221028T151920Z
UID:10004510-1668193200-1668200400@christcovcincy.org
SUMMARY:Women's Fellowship
DESCRIPTION:A time for fellowship\, food and fun! Come for a night of games\, meeting new friends and enjoying the company of friends old and new!  Bring along a friend or neighbor or just come on your own. See you there!
URL:https://christcovcincy.org/event/womens-fellowship/
LOCATION:Linda Young’s home\, 8760 Cottonwood Dr\, Cincinnati\, OH\, 45231
CATEGORIES:Women's Discipleship
ATTACH;FMTTYPE=image/webp:https://christcovcincy.org/wp-content/uploads/2022/10/scrabble-tiles.webp
ORGANIZER;CN="Colleen Grogan":MAILTO:colleeng@christcovcincy.org
END:VEVENT
END:VCALENDAR