BEGIN:VCALENDAR
VERSION:2.0
PRODID:-//Christ Covenant Church - ECPv6.15.20//NONSGML v1.0//EN
CALSCALE:GREGORIAN
METHOD:PUBLISH
X-ORIGINAL-URL:https://christcovcincy.org
X-WR-CALDESC:Events for Christ Covenant Church
REFRESH-INTERVAL;VALUE=DURATION:PT1H
X-Robots-Tag:noindex
X-PUBLISHED-TTL:PT1H
BEGIN:VTIMEZONE
TZID:America/New_York
BEGIN:DAYLIGHT
TZOFFSETFROM:-0500
TZOFFSETTO:-0400
TZNAME:EDT
DTSTART:20240310T070000
END:DAYLIGHT
BEGIN:STANDARD
TZOFFSETFROM:-0400
TZOFFSETTO:-0500
TZNAME:EST
DTSTART:20241103T060000
END:STANDARD
BEGIN:DAYLIGHT
TZOFFSETFROM:-0500
TZOFFSETTO:-0400
TZNAME:EDT
DTSTART:20250309T070000
END:DAYLIGHT
BEGIN:STANDARD
TZOFFSETFROM:-0400
TZOFFSETTO:-0500
TZNAME:EST
DTSTART:20251102T060000
END:STANDARD
BEGIN:DAYLIGHT
TZOFFSETFROM:-0500
TZOFFSETTO:-0400
TZNAME:EDT
DTSTART:20260308T070000
END:DAYLIGHT
BEGIN:STANDARD
TZOFFSETFROM:-0400
TZOFFSETTO:-0500
TZNAME:EST
DTSTART:20261101T060000
END:STANDARD
END:VTIMEZONE
BEGIN:VEVENT
DTSTART;TZID=America/New_York:20250831T150000
DTEND;TZID=America/New_York:20250831T210000
DTSTAMP:20260423T214542
CREATED:20250730T190218Z
LAST-MODIFIED:20250730T190218Z
UID:10006966-1756652400-1756674000@christcovcincy.org
SUMMARY:Private Event
DESCRIPTION:Lanning family 80th Birthday Gathering/Family Reunion
URL:https://christcovcincy.org/event/private-event-106/
LOCATION:Christ Covenant picnic and office complex\, 2192 Springdale Rd.\, Cincinnati\, OH\, 45231\, United States
CATEGORIES:private event
ATTACH;FMTTYPE=image/jpeg:https://christcovcincy.org/wp-content/uploads/2023/06/privateeventcalendar.jpg
END:VEVENT
BEGIN:VEVENT
DTSTART;TZID=America/New_York:20250826T150000
DTEND;TZID=America/New_York:20250826T170000
DTSTAMP:20260423T214542
CREATED:20250528T163758Z
LAST-MODIFIED:20250620T161128Z
UID:10006759-1756220400-1756227600@christcovcincy.org
SUMMARY:Family Swim Time
DESCRIPTION:
URL:https://christcovcincy.org/event/family-swim-time-6/2025-08-26/
LOCATION:Swimming Pool
CATEGORIES:Children's Ministry
ATTACH;FMTTYPE=image/jpeg:https://christcovcincy.org/wp-content/uploads/2023/05/Swim.jpg
END:VEVENT
BEGIN:VEVENT
DTSTART;TZID=America/New_York:20250820T150000
DTEND;TZID=America/New_York:20250820T170000
DTSTAMP:20260423T214542
CREATED:20250528T163943Z
LAST-MODIFIED:20250827T144903Z
UID:10006971-1755702000-1755709200@christcovcincy.org
SUMMARY:Family Swim Time
DESCRIPTION:
URL:https://christcovcincy.org/event/family-swim-time-7/2025-08-20/
LOCATION:Swimming Pool
CATEGORIES:Children's Ministry,summer gatherings
ATTACH;FMTTYPE=image/jpeg:https://christcovcincy.org/wp-content/uploads/2023/05/Swim.jpg
END:VEVENT
BEGIN:VEVENT
DTSTART;TZID=America/New_York:20250819T150000
DTEND;TZID=America/New_York:20250819T170000
DTSTAMP:20260423T214542
CREATED:20250528T163758Z
LAST-MODIFIED:20250620T161128Z
UID:10006758-1755615600-1755622800@christcovcincy.org
SUMMARY:Family Swim Time
DESCRIPTION:
URL:https://christcovcincy.org/event/family-swim-time-6/2025-08-19/
LOCATION:Swimming Pool
CATEGORIES:Children's Ministry
ATTACH;FMTTYPE=image/jpeg:https://christcovcincy.org/wp-content/uploads/2023/05/Swim.jpg
END:VEVENT
BEGIN:VEVENT
DTSTART;TZID=America/New_York:20250816T140000
DTEND;TZID=America/New_York:20250816T200000
DTSTAMP:20260423T214542
CREATED:20250723T175032Z
LAST-MODIFIED:20250723T175032Z
UID:10006905-1755352800-1755374400@christcovcincy.org
SUMMARY:Private Event
DESCRIPTION:Family birthday party for K Crisp
URL:https://christcovcincy.org/event/private-event-103/
LOCATION:Christ Covenant picnic and office complex\, 2192 Springdale Rd.\, Cincinnati\, OH\, 45231\, United States
CATEGORIES:private event
ATTACH;FMTTYPE=image/jpeg:https://christcovcincy.org/wp-content/uploads/2023/06/privateeventcalendar.jpg
END:VEVENT
BEGIN:VEVENT
DTSTART;TZID=America/New_York:20250814T150000
DTEND;TZID=America/New_York:20250814T170000
DTSTAMP:20260423T214542
CREATED:20250528T163943Z
LAST-MODIFIED:20250827T144903Z
UID:10006766-1755183600-1755190800@christcovcincy.org
SUMMARY:Family Swim Time
DESCRIPTION:
URL:https://christcovcincy.org/event/family-swim-time-7/2025-08-14/
LOCATION:Swimming Pool
CATEGORIES:Children's Ministry,summer gatherings
ATTACH;FMTTYPE=image/jpeg:https://christcovcincy.org/wp-content/uploads/2023/05/Swim.jpg
END:VEVENT
BEGIN:VEVENT
DTSTART;TZID=America/New_York:20250813T124500
DTEND;TZID=America/New_York:20250813T144500
DTSTAMP:20260423T214542
CREATED:20250410T152254Z
LAST-MODIFIED:20250806T164647Z
UID:10005835-1755089100-1755096300@christcovcincy.org
SUMMARY:Youth Swim Time
DESCRIPTION:
URL:https://christcovcincy.org/event/youth-swim-time-2/2025-08-13/
LOCATION:Swimming Pool
CATEGORIES:Youth Ministry
ATTACH;FMTTYPE=image/jpeg:https://christcovcincy.org/wp-content/uploads/2025/04/Youth-Swim-Time.jpg
END:VEVENT
BEGIN:VEVENT
DTSTART;TZID=America/New_York:20250812T150000
DTEND;TZID=America/New_York:20250812T170000
DTSTAMP:20260423T214542
CREATED:20250528T163758Z
LAST-MODIFIED:20250620T161128Z
UID:10006757-1755010800-1755018000@christcovcincy.org
SUMMARY:Family Swim Time
DESCRIPTION:
URL:https://christcovcincy.org/event/family-swim-time-6/2025-08-12/
LOCATION:Swimming Pool
CATEGORIES:Children's Ministry
ATTACH;FMTTYPE=image/jpeg:https://christcovcincy.org/wp-content/uploads/2023/05/Swim.jpg
END:VEVENT
BEGIN:VEVENT
DTSTART;TZID=America/New_York:20250807T150000
DTEND;TZID=America/New_York:20250807T170000
DTSTAMP:20260423T214542
CREATED:20250528T163943Z
LAST-MODIFIED:20250827T144903Z
UID:10006765-1754578800-1754586000@christcovcincy.org
SUMMARY:Family Swim Time
DESCRIPTION:
URL:https://christcovcincy.org/event/family-swim-time-7/2025-08-07/
LOCATION:Swimming Pool
CATEGORIES:Children's Ministry,summer gatherings
ATTACH;FMTTYPE=image/jpeg:https://christcovcincy.org/wp-content/uploads/2023/05/Swim.jpg
END:VEVENT
BEGIN:VEVENT
DTSTART;TZID=America/New_York:20250805T150000
DTEND;TZID=America/New_York:20250805T170000
DTSTAMP:20260423T214542
CREATED:20250528T163758Z
LAST-MODIFIED:20250620T161128Z
UID:10006756-1754406000-1754413200@christcovcincy.org
SUMMARY:Family Swim Time
DESCRIPTION:
URL:https://christcovcincy.org/event/family-swim-time-6/2025-08-05/
LOCATION:Swimming Pool
CATEGORIES:Children's Ministry
ATTACH;FMTTYPE=image/jpeg:https://christcovcincy.org/wp-content/uploads/2023/05/Swim.jpg
END:VEVENT
BEGIN:VEVENT
DTSTART;TZID=America/New_York:20250802T120000
DTEND;TZID=America/New_York:20250802T200000
DTSTAMP:20260423T214542
CREATED:20250618T135955Z
LAST-MODIFIED:20250618T135955Z
UID:10006808-1754136000-1754164800@christcovcincy.org
SUMMARY:Private Event
DESCRIPTION:
URL:https://christcovcincy.org/event/private-event-100/
LOCATION:Swimming Pool
ATTACH;FMTTYPE=image/jpeg:https://christcovcincy.org/wp-content/uploads/2023/06/privateeventcalendar.jpg
END:VEVENT
BEGIN:VEVENT
DTSTART;TZID=America/New_York:20250731T150000
DTEND;TZID=America/New_York:20250731T170000
DTSTAMP:20260423T214542
CREATED:20250528T163943Z
LAST-MODIFIED:20250827T144903Z
UID:10006764-1753974000-1753981200@christcovcincy.org
SUMMARY:Family Swim Time
DESCRIPTION:
URL:https://christcovcincy.org/event/family-swim-time-7/2025-07-31/
LOCATION:Swimming Pool
CATEGORIES:Children's Ministry,summer gatherings
ATTACH;FMTTYPE=image/jpeg:https://christcovcincy.org/wp-content/uploads/2023/05/Swim.jpg
END:VEVENT
BEGIN:VEVENT
DTSTART;TZID=America/New_York:20250730T170000
DTEND;TZID=America/New_York:20250730T200000
DTSTAMP:20260423T214542
CREATED:20250730T142735Z
LAST-MODIFIED:20250730T142735Z
UID:10006965-1753894800-1753905600@christcovcincy.org
SUMMARY:Private Event
DESCRIPTION:Lamkin Swim Event
URL:https://christcovcincy.org/event/private-event-105/
LOCATION:Swimming Pool
CATEGORIES:private event
ATTACH;FMTTYPE=image/jpeg:https://christcovcincy.org/wp-content/uploads/2023/06/privateeventcalendar.jpg
END:VEVENT
BEGIN:VEVENT
DTSTART;TZID=America/New_York:20250730T124500
DTEND;TZID=America/New_York:20250730T144500
DTSTAMP:20260423T214542
CREATED:20250410T152254Z
LAST-MODIFIED:20250806T164647Z
UID:10005833-1753879500-1753886700@christcovcincy.org
SUMMARY:Youth Swim Time
DESCRIPTION:
URL:https://christcovcincy.org/event/youth-swim-time-2/2025-07-30/
LOCATION:Swimming Pool
CATEGORIES:Youth Ministry
ATTACH;FMTTYPE=image/jpeg:https://christcovcincy.org/wp-content/uploads/2025/04/Youth-Swim-Time.jpg
END:VEVENT
BEGIN:VEVENT
DTSTART;TZID=America/New_York:20250729T150000
DTEND;TZID=America/New_York:20250729T170000
DTSTAMP:20260423T214542
CREATED:20250528T163758Z
LAST-MODIFIED:20250620T161128Z
UID:10006755-1753801200-1753808400@christcovcincy.org
SUMMARY:Family Swim Time
DESCRIPTION:
URL:https://christcovcincy.org/event/family-swim-time-6/2025-07-29/
LOCATION:Swimming Pool
CATEGORIES:Children's Ministry
ATTACH;FMTTYPE=image/jpeg:https://christcovcincy.org/wp-content/uploads/2023/05/Swim.jpg
END:VEVENT
BEGIN:VEVENT
DTSTART;TZID=America/New_York:20250726T150000
DTEND;TZID=America/New_York:20250726T190000
DTSTAMP:20260423T214542
CREATED:20250725T014626Z
LAST-MODIFIED:20250725T014626Z
UID:10006964-1753542000-1753556400@christcovcincy.org
SUMMARY:Private Event
DESCRIPTION:Lamkin family swim group
URL:https://christcovcincy.org/event/private-event-104/
LOCATION:Swimming Pool
ATTACH;FMTTYPE=image/jpeg:https://christcovcincy.org/wp-content/uploads/2023/06/privateeventcalendar.jpg
END:VEVENT
BEGIN:VEVENT
DTSTART;TZID=America/New_York:20250724T150000
DTEND;TZID=America/New_York:20250724T170000
DTSTAMP:20260423T214542
CREATED:20250528T163943Z
LAST-MODIFIED:20250827T144903Z
UID:10006763-1753369200-1753376400@christcovcincy.org
SUMMARY:Family Swim Time
DESCRIPTION:
URL:https://christcovcincy.org/event/family-swim-time-7/2025-07-24/
LOCATION:Swimming Pool
CATEGORIES:Children's Ministry,summer gatherings
ATTACH;FMTTYPE=image/jpeg:https://christcovcincy.org/wp-content/uploads/2023/05/Swim.jpg
END:VEVENT
BEGIN:VEVENT
DTSTART;TZID=America/New_York:20250723T124500
DTEND;TZID=America/New_York:20250723T144500
DTSTAMP:20260423T214542
CREATED:20250410T152254Z
LAST-MODIFIED:20250806T164647Z
UID:10005832-1753274700-1753281900@christcovcincy.org
SUMMARY:Youth Swim Time
DESCRIPTION:
URL:https://christcovcincy.org/event/youth-swim-time-2/2025-07-23/
LOCATION:Swimming Pool
CATEGORIES:Youth Ministry
ATTACH;FMTTYPE=image/jpeg:https://christcovcincy.org/wp-content/uploads/2025/04/Youth-Swim-Time.jpg
END:VEVENT
BEGIN:VEVENT
DTSTART;TZID=America/New_York:20250722T150000
DTEND;TZID=America/New_York:20250722T170000
DTSTAMP:20260423T214542
CREATED:20250528T163758Z
LAST-MODIFIED:20250620T161128Z
UID:10006754-1753196400-1753203600@christcovcincy.org
SUMMARY:Family Swim Time
DESCRIPTION:
URL:https://christcovcincy.org/event/family-swim-time-6/2025-07-22/
LOCATION:Swimming Pool
CATEGORIES:Children's Ministry
ATTACH;FMTTYPE=image/jpeg:https://christcovcincy.org/wp-content/uploads/2023/05/Swim.jpg
END:VEVENT
BEGIN:VEVENT
DTSTART;TZID=America/New_York:20250717T150000
DTEND;TZID=America/New_York:20250717T170000
DTSTAMP:20260423T214542
CREATED:20250528T163943Z
LAST-MODIFIED:20250827T144903Z
UID:10006762-1752764400-1752771600@christcovcincy.org
SUMMARY:Family Swim Time
DESCRIPTION:
URL:https://christcovcincy.org/event/family-swim-time-7/2025-07-17/
LOCATION:Swimming Pool
CATEGORIES:Children's Ministry,summer gatherings
ATTACH;FMTTYPE=image/jpeg:https://christcovcincy.org/wp-content/uploads/2023/05/Swim.jpg
END:VEVENT
BEGIN:VEVENT
DTSTART;TZID=America/New_York:20250716T124500
DTEND;TZID=America/New_York:20250716T144500
DTSTAMP:20260423T214542
CREATED:20250410T152254Z
LAST-MODIFIED:20250806T164647Z
UID:10005831-1752669900-1752677100@christcovcincy.org
SUMMARY:Youth Swim Time
DESCRIPTION:
URL:https://christcovcincy.org/event/youth-swim-time-2/2025-07-16/
LOCATION:Swimming Pool
CATEGORIES:Youth Ministry
ATTACH;FMTTYPE=image/jpeg:https://christcovcincy.org/wp-content/uploads/2025/04/Youth-Swim-Time.jpg
END:VEVENT
BEGIN:VEVENT
DTSTART;TZID=America/New_York:20250715T150000
DTEND;TZID=America/New_York:20250715T170000
DTSTAMP:20260423T214542
CREATED:20250528T163758Z
LAST-MODIFIED:20250620T161128Z
UID:10006753-1752591600-1752598800@christcovcincy.org
SUMMARY:Family Swim Time
DESCRIPTION:
URL:https://christcovcincy.org/event/family-swim-time-6/2025-07-15/
LOCATION:Swimming Pool
CATEGORIES:Children's Ministry
ATTACH;FMTTYPE=image/jpeg:https://christcovcincy.org/wp-content/uploads/2023/05/Swim.jpg
END:VEVENT
BEGIN:VEVENT
DTSTART;TZID=America/New_York:20250710T150000
DTEND;TZID=America/New_York:20250710T170000
DTSTAMP:20260423T214542
CREATED:20250528T163943Z
LAST-MODIFIED:20250827T144903Z
UID:10006761-1752159600-1752166800@christcovcincy.org
SUMMARY:Family Swim Time
DESCRIPTION:
URL:https://christcovcincy.org/event/family-swim-time-7/2025-07-10/
LOCATION:Swimming Pool
CATEGORIES:Children's Ministry,summer gatherings
ATTACH;FMTTYPE=image/jpeg:https://christcovcincy.org/wp-content/uploads/2023/05/Swim.jpg
END:VEVENT
BEGIN:VEVENT
DTSTART;TZID=America/New_York:20250709T124500
DTEND;TZID=America/New_York:20250709T144500
DTSTAMP:20260423T214542
CREATED:20250410T152254Z
LAST-MODIFIED:20250806T164647Z
UID:10005830-1752065100-1752072300@christcovcincy.org
SUMMARY:Youth Swim Time
DESCRIPTION:
URL:https://christcovcincy.org/event/youth-swim-time-2/2025-07-09/
LOCATION:Swimming Pool
CATEGORIES:Youth Ministry
ATTACH;FMTTYPE=image/jpeg:https://christcovcincy.org/wp-content/uploads/2025/04/Youth-Swim-Time.jpg
END:VEVENT
BEGIN:VEVENT
DTSTART;TZID=America/New_York:20250708T150000
DTEND;TZID=America/New_York:20250708T170000
DTSTAMP:20260423T214542
CREATED:20250528T163758Z
LAST-MODIFIED:20250620T161128Z
UID:10006752-1751986800-1751994000@christcovcincy.org
SUMMARY:Family Swim Time
DESCRIPTION:
URL:https://christcovcincy.org/event/family-swim-time-6/2025-07-08/
LOCATION:Swimming Pool
CATEGORIES:Children's Ministry
ATTACH;FMTTYPE=image/jpeg:https://christcovcincy.org/wp-content/uploads/2023/05/Swim.jpg
END:VEVENT
BEGIN:VEVENT
DTSTART;TZID=America/New_York:20250704T110000
DTEND;TZID=America/New_York:20250704T190000
DTSTAMP:20260423T214542
CREATED:20250618T164156Z
LAST-MODIFIED:20250618T164156Z
UID:10006827-1751626800-1751655600@christcovcincy.org
SUMMARY:Private Event
DESCRIPTION:Miller family gathering
URL:https://christcovcincy.org/event/private-event-101/
LOCATION:Christ Covenant picnic and office complex\, 2192 Springdale Rd.\, Cincinnati\, OH\, 45231\, United States
CATEGORIES:private event
ATTACH;FMTTYPE=image/jpeg:https://christcovcincy.org/wp-content/uploads/2023/06/privateeventcalendar.jpg
END:VEVENT
BEGIN:VEVENT
DTSTART;TZID=America/New_York:20250703T150000
DTEND;TZID=America/New_York:20250703T170000
DTSTAMP:20260423T214542
CREATED:20250528T163943Z
LAST-MODIFIED:20250827T144903Z
UID:10006760-1751554800-1751562000@christcovcincy.org
SUMMARY:Family Swim Time
DESCRIPTION:
URL:https://christcovcincy.org/event/family-swim-time-7/2025-07-03/
LOCATION:Swimming Pool
CATEGORIES:Children's Ministry,summer gatherings
ATTACH;FMTTYPE=image/jpeg:https://christcovcincy.org/wp-content/uploads/2023/05/Swim.jpg
END:VEVENT
BEGIN:VEVENT
DTSTART;TZID=America/New_York:20250702T124500
DTEND;TZID=America/New_York:20250702T144500
DTSTAMP:20260423T214542
CREATED:20250410T152254Z
LAST-MODIFIED:20250806T164647Z
UID:10005829-1751460300-1751467500@christcovcincy.org
SUMMARY:Youth Swim Time
DESCRIPTION:
URL:https://christcovcincy.org/event/youth-swim-time-2/2025-07-02/
LOCATION:Swimming Pool
CATEGORIES:Youth Ministry
ATTACH;FMTTYPE=image/jpeg:https://christcovcincy.org/wp-content/uploads/2025/04/Youth-Swim-Time.jpg
END:VEVENT
BEGIN:VEVENT
DTSTART;TZID=America/New_York:20250701T150000
DTEND;TZID=America/New_York:20250701T170000
DTSTAMP:20260423T214542
CREATED:20250528T163758Z
LAST-MODIFIED:20250620T161128Z
UID:10006751-1751382000-1751389200@christcovcincy.org
SUMMARY:Family Swim Time
DESCRIPTION:
URL:https://christcovcincy.org/event/family-swim-time-6/2025-07-01/
LOCATION:Swimming Pool
CATEGORIES:Children's Ministry
ATTACH;FMTTYPE=image/jpeg:https://christcovcincy.org/wp-content/uploads/2023/05/Swim.jpg
END:VEVENT
BEGIN:VEVENT
DTSTART;TZID=America/New_York:20250628T130000
DTEND;TZID=America/New_York:20250628T180000
DTSTAMP:20260423T214542
CREATED:20250611T172045Z
LAST-MODIFIED:20250611T172720Z
UID:10006805-1751115600-1751133600@christcovcincy.org
SUMMARY:Private Event
DESCRIPTION:Miller family pool party
URL:https://christcovcincy.org/event/private-event-99/
LOCATION:Swimming Pool
CATEGORIES:private event
ATTACH;FMTTYPE=image/jpeg:https://christcovcincy.org/wp-content/uploads/2023/06/privateeventcalendar.jpg
END:VEVENT
END:VCALENDAR