BEGIN:VCALENDAR
VERSION:2.0
PRODID:-//Christ Covenant Church - ECPv6.15.20//NONSGML v1.0//EN
CALSCALE:GREGORIAN
METHOD:PUBLISH
X-WR-CALNAME:Christ Covenant Church
X-ORIGINAL-URL:https://christcovcincy.org
X-WR-CALDESC:Events for Christ Covenant Church
REFRESH-INTERVAL;VALUE=DURATION:PT1H
X-Robots-Tag:noindex
X-PUBLISHED-TTL:PT1H
BEGIN:VTIMEZONE
TZID:America/Halifax
BEGIN:DAYLIGHT
TZOFFSETFROM:-0400
TZOFFSETTO:-0300
TZNAME:ADT
DTSTART:20230312T060000
END:DAYLIGHT
BEGIN:STANDARD
TZOFFSETFROM:-0300
TZOFFSETTO:-0400
TZNAME:AST
DTSTART:20231105T050000
END:STANDARD
BEGIN:DAYLIGHT
TZOFFSETFROM:-0400
TZOFFSETTO:-0300
TZNAME:ADT
DTSTART:20240310T060000
END:DAYLIGHT
BEGIN:STANDARD
TZOFFSETFROM:-0300
TZOFFSETTO:-0400
TZNAME:AST
DTSTART:20241103T050000
END:STANDARD
BEGIN:DAYLIGHT
TZOFFSETFROM:-0400
TZOFFSETTO:-0300
TZNAME:ADT
DTSTART:20250309T060000
END:DAYLIGHT
BEGIN:STANDARD
TZOFFSETFROM:-0300
TZOFFSETTO:-0400
TZNAME:AST
DTSTART:20251102T050000
END:STANDARD
BEGIN:DAYLIGHT
TZOFFSETFROM:-0400
TZOFFSETTO:-0300
TZNAME:ADT
DTSTART:20260308T060000
END:DAYLIGHT
BEGIN:STANDARD
TZOFFSETFROM:-0300
TZOFFSETTO:-0400
TZNAME:AST
DTSTART:20261101T050000
END:STANDARD
END:VTIMEZONE
BEGIN:VTIMEZONE
TZID:UTC
BEGIN:STANDARD
TZOFFSETFROM:+0000
TZOFFSETTO:+0000
TZNAME:UTC
DTSTART:20220101T000000
END:STANDARD
END:VTIMEZONE
BEGIN:VEVENT
DTSTART;TZID=America/Halifax:20250622T150000
DTEND;TZID=America/Halifax:20250622T210000
DTSTAMP:20260423T163132
CREATED:20240703T175941Z
LAST-MODIFIED:20250620T190608Z
UID:10005431-1750604400-1750626000@christcovcincy.org
SUMMARY:Church Picnic
DESCRIPTION:Gather in Winton Woods Park at the Orchard Area Shelter from 3-9 p.m.  A time of fun and fellowship.  Bring your own meat to grill for your family.  Bring 12 servings (according to your last name): A-F: Dessert\, G-L: Fruit or Snacks\, M-R: Salad\, S-Z: Vegetable.
URL:https://christcovcincy.org/event/church-picnic-3/
LOCATION:Winton Woods Orchard Area Shelter\, 1309 W. Sharon Rd\, Cincinnati\, OH\, 45240
CATEGORIES:fellowships
ATTACH;FMTTYPE=image/jpeg:https://christcovcincy.org/wp-content/uploads/2025/06/church-picnic-2025website.jpg
END:VEVENT
BEGIN:VEVENT
DTSTART;TZID=America/Halifax:20240609T150000
DTEND;TZID=America/Halifax:20240609T210000
DTSTAMP:20260423T163132
CREATED:20230621T161224Z
LAST-MODIFIED:20240509T135529Z
UID:10004953-1717945200-1717966800@christcovcincy.org
SUMMARY:Church Picnic
DESCRIPTION:
URL:https://christcovcincy.org/event/church-picnic-2/
LOCATION:Winton Woods Orchard Area Shelter\, 1309 W. Sharon Rd\, Cincinnati\, OH\, 45240
ATTACH;FMTTYPE=image/jpeg:https://christcovcincy.org/wp-content/uploads/2023/06/churchpicnic2024narrow.jpg
END:VEVENT
BEGIN:VEVENT
DTSTART;TZID=UTC:20230611T150000
DTEND;TZID=UTC:20230611T210000
DTSTAMP:20260423T163132
CREATED:20221111T022414Z
LAST-MODIFIED:20230607T120602Z
UID:10004515-1686495600-1686517200@christcovcincy.org
SUMMARY:Church Picnic
DESCRIPTION:
URL:https://christcovcincy.org/event/church-picnic/
LOCATION:Winton Woods Orchard Area Shelter\, 1309 W. Sharon Rd\, Cincinnati\, OH\, 45240
ATTACH;FMTTYPE=image/jpeg:https://christcovcincy.org/wp-content/uploads/2023/06/churchpicnicnarrow.jpg
END:VEVENT
END:VCALENDAR